BEGIN:VCALENDAR
VERSION:2.0
PRODID:-// - ECPv6.15.20//NONSGML v1.0//EN
CALSCALE:GREGORIAN
METHOD:PUBLISH
X-ORIGINAL-URL:https://golfthecosta.com
X-WR-CALDESC:Events for 
REFRESH-INTERVAL;VALUE=DURATION:PT1H
X-Robots-Tag:noindex
X-PUBLISHED-TTL:PT1H
BEGIN:VTIMEZONE
TZID:Europe/Madrid
BEGIN:DAYLIGHT
TZOFFSETFROM:+0100
TZOFFSETTO:+0200
TZNAME:CEST
DTSTART:20170326T010000
END:DAYLIGHT
BEGIN:STANDARD
TZOFFSETFROM:+0200
TZOFFSETTO:+0100
TZNAME:CET
DTSTART:20171029T010000
END:STANDARD
BEGIN:DAYLIGHT
TZOFFSETFROM:+0100
TZOFFSETTO:+0200
TZNAME:CEST
DTSTART:20180325T010000
END:DAYLIGHT
BEGIN:STANDARD
TZOFFSETFROM:+0200
TZOFFSETTO:+0100
TZNAME:CET
DTSTART:20181028T010000
END:STANDARD
BEGIN:DAYLIGHT
TZOFFSETFROM:+0100
TZOFFSETTO:+0200
TZNAME:CEST
DTSTART:20190331T010000
END:DAYLIGHT
BEGIN:STANDARD
TZOFFSETFROM:+0200
TZOFFSETTO:+0100
TZNAME:CET
DTSTART:20191027T010000
END:STANDARD
END:VTIMEZONE
BEGIN:VEVENT
DTSTART;TZID=Europe/Madrid:20180405T083000
DTEND;TZID=Europe/Madrid:20180405T170000
DTSTAMP:20260425T060643
CREATED:20180120T121955Z
LAST-MODIFIED:20220909T131637Z
UID:10000034-1522917000-1522947600@golfthecosta.com
SUMMARY:Spence Clarke & Co Weekly League
DESCRIPTION:Weekly League Table for April 2018 \nCategory 1          Category 2\n Winner               Winner\n Runner-Up        Runner-Up\n Third Place       Third place \nIf there is an insufficient number of players to split the categories\nthen prizes will be awarded for 1st\, 2nd and 3rd places and shown on    the table as follows:    Winner  Runner-Up   Third Place \n    The winners of the monthly league prizes are shown as follows:\n    Mens    Ladies \n\n\n\n\nPlayer\n05-Apr\n12-Apr\n19-Apr\n26-Apr\nBest 2\nScores\n\n\n\n\nDavid Walker\n\n\n40\n\n\n\n\n\n\n\n\n\n\n\n\n\n\n\n\n\n\n\n40\n\n\n\n\nBruce Hurley\n\n\n38\n\n\n\n\n\n\n\n\n\n\n\n\n\n\n\n\n\n\n\n38\n\n\n\n\nPaul McCaughey\n\n\n38\n\n\n\n\n\n\n\n\n\n\n\n\n\n\n\n\n\n\n\n38\n\n\n\n\nYury Buchnev\n\n\n37\n\n\n\n\n\n\n\n\n\n\n\n\n\n\n\n\n\n\n\n37\n\n\n\n\nSvetlana Kripaytite\n\n\n37\n\n\n\n\n\n\n\n\n\n\n\n\n\n\n\n\n\n\n\n37\n\n\n\n\nAndrei Smetckii\n\n\n37\n\n\n\n\n\n\n\n\n\n\n\n\n\n\n\n\n\n\n\n37\n\n\n\n\nXavier Ashurst\n\n\n36\n\n\n\n\n\n\n\n\n\n\n\n\n\n\n\n\n\n\n\n36\n\n\n\n\nBrian Murphy\n\n\n36\n\n\n\n\n\n\n\n\n\n\n\n\n\n\n\n\n\n\n\n36\n\n\n\n\nAlex Emelichev\n\n\n35\n\n\n\n\n\n\n\n\n\n\n\n\n\n\n\n\n\n\n\n35\n\n\n\n\nStuart Williams\n\n\n35\n\n\n\n\n\n\n\n\n\n\n\n\n\n\n\n\n\n\n\n35\n\n\n\n\nBen Horrocks\n\n\n35\n\n\n\n\n\n\n\n\n\n\n\n\n\n\n\n\n\n\n\n35\n\n\n\n\nSimon Lloyd\n\n\n35\n\n\n\n\n\n\n\n\n\n\n\n\n\n\n\n\n\n\n\n35\n\n\n\n\nIurri Zykov\n\n\n35\n\n\n\n\n\n\n\n\n\n\n\n\n\n\n\n\n\n\n\n35\n\n\n\n\nShuj Datoo\n\n\n34\n\n\n\n\n\n\n\n\n\n\n\n\n\n\n\n\n\n\n\n34\n\n\n\n\nBrian McCarthy\n\n\n33\n\n\n\n\n\n\n\n\n\n\n\n\n\n\n\n\n\n\n\n33\n\n\n\n\nBarry Kirk\n\n\n33\n\n\n\n\n\n\n\n\n\n\n\n\n\n\n\n\n\n\n\n33\n\n\n\n\nRon Brayson\n\n\n33\n\n\n\n\n\n\n\n\n\n\n\n\n\n\n\n\n\n\n\n33\n\n\n\n\nSteve Rodgers\n\n\n33\n\n\n\n\n\n\n\n\n\n\n\n\n\n\n\n\n\n\n\n33\n\n\n\n\nSergey Kuznetsov\n\n\n32\n\n\n\n\n\n\n\n\n\n\n\n\n\n\n\n\n\n\n\n32\n\n\n\n\nAnn-Charlotte Frank Lindgren\n\n\n32\n\n\n\n\n\n\n\n\n\n\n\n\n\n\n\n\n\n\n\n32\n\n\n\n\nJohn Campbell\n\n\n32\n\n\n\n\n\n\n\n\n\n\n\n\n\n\n\n\n\n\n\n32\n\n\n\n\nTony Collier\n\n\n31\n\n\n\n\n\n\n\n\n\n\n\n\n\n\n\n\n\n\n\n31\n\n\n\n\nPhil Loughton\n\n\n31\n\n\n\n\n\n\n\n\n\n\n\n\n\n\n\n\n\n\n\n31\n\n\n\n\nAlasdair MacLean\n\n\n30\n\n\n\n\n\n\n\n\n\n\n\n\n\n\n\n\n\n\n\n30\n\n\n\n\nGiovanni Bentini\n\n\n30\n\n\n\n\n\n\n\n\n\n\n\n\n\n\n\n\n\n\n\n30\n\n\n\n\nSteve Ashurst\n\n\n29\n\n\n\n\n\n\n\n\n\n\n\n\n\n\n\n\n\n\n\n29\n\n\n\n\nGoran Fritzell\n\n\n29\n\n\n\n\n\n\n\n\n\n\n\n\n\n\n\n\n\n\n\n29\n\n\n\n\nSteve Pagett\n\n\n28\n\n\n\n\n\n\n\n\n\n\n\n\n\n\n\n\n\n\n\n28\n\n\n\n\nDamien Woods\n\n\n27\n\n\n\n\n\n\n\n\n\n\n\n\n\n\n\n\n\n\n\n27\n\n\n\n\nPeter Jakobsson\n\n\n27\n\n\n\n\n\n\n\n\n\n\n\n\n\n\n\n\n\n\n\n27\n\n\n\n\nAndy Walker\n\n\n27\n\n\n\n\n\n\n\n\n\n\n\n\n\n\n\n\n\n\n\n27\n\n\n\n\nTim Shaw\n\n\n26\n\n\n\n\n\n\n\n\n\n\n\n\n\n\n\n\n\n\n\n26\n\n\n\n\nRichard Nelms\n\n\n26\n\n\n\n\n\n\n\n\n\n\n\n\n\n\n\n\n\n\n\n26\n\n\n\n\nSvetlana Kuznetsova\n\n\n26\n\n\n\n\n\n\n\n\n\n\n\n\n\n\n\n\n\n\n\n26\n\n\n\n\nEamonn Devine\n\n\n26\n\n\n\n\n\n\n\n\n\n\n\n\n\n\n\n\n\n\n\n26\n\n\n\n\nMark Bruce\n\n\n25\n\n\n\n\n\n\n\n\n\n\n\n\n\n\n\n\n\n\n\n25\n\n\n\n\nDavid Goodwin\n\n\n22\n\n\n\n\n\n\n\n\n\n\n\n\n\n\n\n\n\n\n\n22\n\n\n\n\nJohn Maguire\n\n\n22\n\n\n\n\n\n\n\n\n\n\n\n\n\n\n\n\n\n\n\n22
URL:https://golfthecosta.com/event/spence-clarke-co-weekly-league-14/
LOCATION:El Paraiso Golf Club\, Urb. El Paraiso\, Ctra de Cádiz\, km 167\,\, Estepona\, Malaga\, 29680\, Spain
ATTACH;FMTTYPE=image/jpeg:https://golfthecosta.com/wp-content/uploads/2017/12/SpenceClarkeLogo.jpg
ORGANIZER;CN="Golf The Costa":MAILTO:info@www.golfthecosta.com
GEO:36.476586;-5.034811
X-APPLE-STRUCTURED-LOCATION;VALUE=URI;X-ADDRESS=El Paraiso Golf Club Urb. El Paraiso Ctra de Cádiz km 167 Estepona Malaga 29680 Spain;X-APPLE-RADIUS=500;X-TITLE=Urb. El Paraiso\, Ctra de Cádiz\, km 167\,:geo:-5.034811,36.476586
END:VEVENT
BEGIN:VEVENT
DTSTART;TZID=Europe/Madrid:20180412T093000
DTEND;TZID=Europe/Madrid:20180412T170000
DTSTAMP:20260425T060643
CREATED:20180120T121955Z
LAST-MODIFIED:20220909T131626Z
UID:10000033-1523525400-1523552400@golfthecosta.com
SUMMARY:Spence Clarke & Co Weekly League
DESCRIPTION:Weekly League Table for April 2018 \nCategory 1          Category 2\n Winner               Winner\n Runner-Up        Runner-Up\n Third Place       Third place \nIf there is an insufficient number of players to split the categories\nthen prizes will be awarded for 1st\, 2nd and 3rd places and shown on    the table as follows:    Winner  Runner-Up   Third Place \n    The winners of the monthly league prizes are shown as follows:\n    Mens    Ladies \n\n\n\n\nPlayer\n05-Apr\n12-Apr\n19-Apr\n26-Apr\nBest 2\nScores\n\n\n\n\nSvetlana Kripaytite\n\n37\n\n\n36\n\n\n\n\n\n\n\n\n73\n\n\n\nBruce Hurley\n\n38\n\n\n34\n\n\n\n\n\n\n\n\n72\n\n\n\nPaul McCaughey\n\n38\n\n\n33\n\n\n\n\n\n\n\n\n71\n\n\n\nSergey Kuznetsov\n\n32\n\n\n38\n\n\n\n\n\n\n\n\n70\n\n\n\nStuart Williams\n\n35\n\n\n32\n\n\n\n\n\n\n\n\n67\n\n\n\nTony Collier\n\n31\n\n\n35\n\n\n\n\n\n\n\n\n66\n\n\n\nPhil Loughton\n\n31\n\n\n35\n\n\n\n\n\n\n\n\n66\n\n\n\nBarry Kirk\n\n33\n\n\n32\n\n\n\n\n\n\n\n\n65\n\n\n\nAlasdair MacLean\n\n30\n\n\n35\n\n\n\n\n\n\n\n\n65\n\n\n\nPeter Jakobsson\n\n27\n\n\n38\n\n\n\n\n\n\n\n\n65\n\n\n\nYury Buchnev\n\n37\n\n\n25\n\n\n\n\n\n\n\n\n62\n\n\n\nEamonn Devine\n\n26\n\n\n35\n\n\n\n\n\n\n\n\n61\n\n\n\nBrian Murphy\n\n36\n\n\n22\n\n\n\n\n\n\n\n\n58\n\n\n\nSteve Rodgers\n\n33\n\n\n25\n\n\n\n\n\n\n\n\n58\n\n\n\nMark Bruce\n\n25\n\n\n32\n\n\n\n\n\n\n\n\n57\n\n\n\nShuj Datoo\n\n34\n\n\n21\n\n\n\n\n\n\n\n\n55\n\n\n\nRichard Nelms\n\n26\n\n\n24\n\n\n\n\n\n\n\n\n50\n\n\n\nSvetlana Kuznetsova\n\n26\n\n\n22\n\n\n\n\n\n\n\n\n48\n\n\n\nDavid Goodwin\n\n22\n\n\n24\n\n\n\n\n\n\n\n\n46\n\n\n\nDavid Walker\n\n40\n\n\n\n\n\n\n\n\n\n\n\n40\n\n\n\nAndrei Smetckii\n\n37\n\n\n\n\n\n\n\n\n\n\n\n37\n\n\n\nXavier Ashurst\n\n36\n\n\n\n\n\n\n\n\n\n\n\n36\n\n\n\nOlav Loly\n\n\n\n\n36\n\n\n\n\n\n\n\n\n36\n\n\n\nAlex Emelichev\n\n35\n\n\n\n\n\n\n\n\n\n\n\n35\n\n\n\nBen Horrocks\n\n35\n\n\n\n\n\n\n\n\n\n\n\n35\n\n\n\nSimon Lloyd\n\n35\n\n\n\n\n\n\n\n\n\n\n\n35\n\n\n\nIurri Zykov\n\n35\n\n\n\n\n\n\n\n\n\n\n\n35\n\n\n\nMike Christophers\n\n\n\n\n35\n\n\n\n\n\n\n\n\n35\n\n\n\nSimon Ness\n\n\n\n\n34\n\n\n\n\n\n\n\n\n34\n\n\n\nBrian McCarthy\n\n33\n\n\n\n\n\n\n\n\n\n\n\n33\n\n\n\nRon Brayson\n\n33\n\n\n\n\n\n\n\n\n\n\n\n33\n\n\n\nTom Boland\n\n\n\n\n33\n\n\n\n\n\n\n\n\n33\n\n\n\nLiam Rattigan\n\n\n\n\n33\n\n\n\n\n\n\n\n\n33\n\n\n\nDiarmuid O’Connor\n\n\n\n\n33\n\n\n\n\n\n\n\n\n33\n\n\n\nAnn-Charlotte Frank Lindgren\n\n32\n\n\n\n\n\n\n\n\n\n\n\n32\n\n\n\nJohn Campbell\n\n32\n\n\n\n\n\n\n\n\n\n\n\n32\n\n\n\nTerje Gausel\n\n\n\n\n32\n\n\n\n\n\n\n\n\n32\n\n\n\nYulia Golubeva\n\n\n\n\n31\n\n\n\n\n\n\n\n\n31\n\n\n\nGiovanni Bentini\n\n30\n\n\n\n\n\n\n\n\n\n\n\n30\n\n\n\nJohnny Martin\n\n\n\n\n30\n\n\n\n\n\n\n\n\n30\n\n\n\nSteve Ashurst\n\n29\n\n\n\n\n\n\n\n\n\n\n\n29\n\n\n\nGoran Fritzell\n\n29\n\n\n\n\n\n\n\n\n\n\n\n29\n\n\n\nEdward Boland\n\n\n\n\n29\n\n\n\n\n\n\n\n\n29\n\n\n\nSteve Pagett\n\n28\n\n\n\n\n\n\n\n\n\n\n\n28\n\n\n\nDamien Woods\n\n27\n\n\n\n\n\n\n\n\n\n\n\n27\n\n\n\nAndy Walker\n\n27\n\n\n\n\n\n\n\n\n\n\n\n27\n\n\n\nRoland Bourgeois\n\n\n\n\n27\n\n\n\n\n\n\n\n\n27\n\n\n\nTim Shaw\n\n26\n\n\n\n\n\n\n\n\n\n\n\n26\n\n\n\nAlan Oslington\n\n\n\n\n26\n\n\n\n\n\n\n\n\n26\n\n\n\nBjørn Hansen\n\n\n\n\n25\n\n\n\n\n\n\n\n\n25\n\n\n\nWilliam Lewis\n\n\n\n\n23\n\n\n\n\n\n\n\n\n23\n\n\n\nSteve Davis\n\n\n\n\n23\n\n\n\n\n\n\n\n\n23\n\n\n\nJohn Maguire\n\n22\n\n\n\n\n\n\n\n\n\n\n\n22\n\n\n\nReg Jones\n\n\n\n\n22\n\n\n\n\n\n\n\n\n22\n\n\n\nJason Healey\n\n\n\n\n21\n\n\n\n\n\n\n\n\n21
URL:https://golfthecosta.com/event/spence-clarke-co-weekly-league-14-2018-04-12/
LOCATION:El Paraiso Golf Club\, Urb. El Paraiso\, Ctra de Cádiz\, km 167\,\, Estepona\, Malaga\, 29680\, Spain
ATTACH;FMTTYPE=image/jpeg:https://golfthecosta.com/wp-content/uploads/2017/12/SpenceClarkeLogo.jpg
ORGANIZER;CN="Golf The Costa":MAILTO:info@www.golfthecosta.com
GEO:36.476586;-5.034811
X-APPLE-STRUCTURED-LOCATION;VALUE=URI;X-ADDRESS=El Paraiso Golf Club Urb. El Paraiso Ctra de Cádiz km 167 Estepona Malaga 29680 Spain;X-APPLE-RADIUS=500;X-TITLE=Urb. El Paraiso\, Ctra de Cádiz\, km 167\,:geo:-5.034811,36.476586
END:VEVENT
BEGIN:VEVENT
DTSTART;TZID=Europe/Madrid:20180419T093000
DTEND;TZID=Europe/Madrid:20180419T170000
DTSTAMP:20260425T060643
CREATED:20180120T121955Z
LAST-MODIFIED:20220909T131616Z
UID:10000032-1524130200-1524157200@golfthecosta.com
SUMMARY:Spence Clarke & Co Weekly League
DESCRIPTION:Weekly League Table for April 2018 \nCategory 1          Category 2\n Winner               Winner\n Runner-Up        Runner-Up\n Third Place       Third place \nIf there is an insufficient number of players to split the categories\nthen prizes will be awarded for 1st\, 2nd and 3rd places and shown on    the table as follows:    Winner  Runner-Up   Third Place \n    The winners of the monthly league prizes are shown as follows:\n    Mens    Ladies \n\n\n\n\nPlayer\n05-Apr\n12-Apr\n19-Apr\n26-Apr\nBest 2\nScores\n\n\n\n\nYury Buchnev\n\n37\n\n\n25\n\n\n39\n\n\n\n\n\n76\n\n\n\nSvetlana Kripaytite\n\n37\n\n\n36\n\n\n31\n\n\n\n\n\n73\n\n\n\nAndrei Smetckii\n\n37\n\n\n\n\n\n36\n\n\n\n\n\n73\n\n\n\nPhil Loughton\n\n31\n\n\n35\n\n\n38\n\n\n\n\n\n73\n\n\n\nBruce Hurley\n\n38\n\n\n34\n\n\n29\n\n\n\n\n\n72\n\n\n\nSergey Kuznetsov\n\n32\n\n\n38\n\n\n33\n\n\n\n\n\n71\n\n\n\nPaul McCaughey\n\n38\n\n\n33\n\n\n32\n\n\n\n\n\n71\n\n\n\nStuart Williams\n\n35\n\n\n32\n\n\n\n\n\n\n\n\n67\n\n\n\nAlasdair MacLean\n\n30\n\n\n35\n\n\n32\n\n\n\n\n\n67\n\n\n\nTony Collier\n\n31\n\n\n35\n\n\n27\n\n\n\n\n\n66\n\n\n\nBarry Kirk\n\n33\n\n\n32\n\n\n33\n\n\n\n\n\n66\n\n\n\nMark Bruce\n\n25\n\n\n32\n\n\n34\n\n\n\n\n\n66\n\n\n\nPeter Jakobsson\n\n27\n\n\n38\n\n\n\n\n\n\n\n\n65\n\n\n\nAlex Emelichev\n\n35\n\n\n\n\n\n30\n\n\n\n\n\n65\n\n\n\nYulia Golubeva\n\n\n\n\n31\n\n\n34\n\n\n\n\n\n65\n\n\n\nJohnny Martin\n\n\n\n\n30\n\n\n35\n\n\n\n\n\n65\n\n\n\nEamonn Devine\n\n26\n\n\n35\n\n\n28\n\n\n\n\n\n63\n\n\n\nBrian Murphy\n\n36\n\n\n22\n\n\n\n\n\n\n\n\n58\n\n\n\nSteve Rodgers\n\n33\n\n\n25\n\n\n\n\n\n\n\n\n58\n\n\n\nShuj Datoo\n\n34\n\n\n21\n\n\n24\n\n\n\n\n\n58\n\n\n\nSteve Pagett\n\n28\n\n\n\n\n\n28\n\n\n\n\n\n56\n\n\n\nRichard Nelms\n\n26\n\n\n24\n\n\n25\n\n\n\n\n\n51\n\n\n\nSvetlana Kuznetsova\n\n26\n\n\n22\n\n\n22\n\n\n\n\n\n48\n\n\n\nDavid Goodwin\n\n22\n\n\n24\n\n\n22\n\n\n\n\n\n46\n\n\n\nDavid Walker\n\n40\n\n\n\n\n\n\n\n\n\n\n\n40\n\n\n\nIan Morrison\n\n\n\n\n\n\n\n37\n\n\n\n\n\n37\n\n\n\nXavier Ashurst\n\n36\n\n\n\n\n\n\n\n\n\n\n\n36\n\n\n\nOlav Loly\n\n\n\n\n36\n\n\n\n\n\n\n\n\n36\n\n\n\nAlistair Creevy\n\n\n\n\n\n\n\n36\n\n\n\n\n\n36\n\n\n\nBen Horrocks\n\n35\n\n\n\n\n\n\n\n\n\n\n\n35\n\n\n\nSimon Lloyd\n\n35\n\n\n\n\n\n\n\n\n\n\n\n35\n\n\n\nIurri Zykov\n\n35\n\n\n\n\n\n\n\n\n\n\n\n35\n\n\n\nMike Christophers\n\n\n\n\n35\n\n\n\n\n\n\n\n\n35\n\n\n\nSimon Ness\n\n\n\n\n34\n\n\n\n\n\n\n\n\n34\n\n\n\nSteve Asplet\n\n\n\n\n\n\n\n34\n\n\n\n\n\n34\n\n\n\nBrian McCarthy\n\n33\n\n\n\n\n\n\n\n\n\n\n\n33\n\n\n\nRon Brayson\n\n33\n\n\n\n\n\n\n\n\n\n\n\n33\n\n\n\nTom Boland\n\n\n\n\n33\n\n\n\n\n\n\n\n\n33\n\n\n\nLiam Rattigan\n\n\n\n\n33\n\n\n\n\n\n\n\n\n33\n\n\n\nDiarmuid O’Connor\n\n\n\n\n33\n\n\n\n\n\n\n\n\n33\n\n\n\nAnn-Charlotte Frank Lindgren\n\n32\n\n\n\n\n\n\n\n\n\n\n\n32\n\n\n\nJohn Campbell\n\n32\n\n\n\n\n\n\n\n\n\n\n\n32\n\n\n\nTerje Gausel\n\n\n\n\n32\n\n\n\n\n\n\n\n\n32\n\n\n\nGordon Cowans\n\n\n\n\n\n\n\n32\n\n\n\n\n\n32\n\n\n\nAndrey Shlykov\n\n\n\n\n\n\n\n32\n\n\n\n\n\n32\n\n\n\nNickolay Martinov\n\n\n\n\n\n\n\n31\n\n\n\n\n\n31\n\n\n\nJan Vallys\n\n\n\n\n\n\n\n31\n\n\n\n\n\n31\n\n\n\nBrian Dunk\n\n\n\n\n\n\n\n31\n\n\n\n\n\n31\n\n\n\nGiovanni Bentini\n\n30\n\n\n\n\n\n\n\n\n\n\n\n30\n\n\n\nAlexey Vershinin\n\n\n\n\n\n\n\n30\n\n\n\n\n\n30\n\n\n\nSteve Ashurst\n\n29\n\n\n\n\n\n\n\n\n\n\n\n29\n\n\n\nGoran Fritzell\n\n29\n\n\n\n\n\n\n\n\n\n\n\n29\n\n\n\nEdward Boland\n\n\n\n\n29\n\n\n\n\n\n\n\n\n29\n\n\n\nDimitry Mushta\n\n\n\n\n\n\n\n29\n\n\n\n\n\n29\n\n\n\nAllan Kong\n\n\n\n\n\n\n\n28\n\n\n\n\n\n28\n\n\n\nDamien Woods\n\n27\n\n\n\n\n\n\n\n\n\n\n\n27\n\n\n\nAndy Walker\n\n27\n\n\n\n\n\n\n\n\n\n\n\n27\n\n\n\nRoland Bourgeois\n\n\n\n\n27\n\n\n\n\n\n\n\n\n27\n\n\n\nTim Shaw\n\n26\n\n\n\n\n\n\n\n\n\n\n\n26\n\n\n\nAlan Oslington\n\n\n\n\n26\n\n\n\n\n\n\n\n\n26\n\n\n\nBjørn Hansen\n\n\n\n\n25\n\n\n\n\n\n\n\n\n25\n\n\n\nNigel Guy\n\n\n\n\n\n\n\n25\n\n\n\n\n\n25\n\n\n\nWilliam Lewis\n\n\n\n\n23\n\n\n\n\n\n\n\n\n23\n\n\n\nSteve Davis\n\n\n\n\n23\n\n\n\n\n\n\n\n\n23\n\n\n\nJohn Maguire\n\n22\n\n\n\n\n\n\n\n\n\n\n\n22\n\n\n\nReg Jones\n\n\n\n\n22\n\n\n\n\n\n\n\n\n22\n\n\n\nJan Heintze\n\n\n\n\n\n\n\n22\n\n\n\n\n\n22\n\n\n\nKarina Nazarova\n\n\n\n\n\n\n\n22\n\n\n\n\n\n22\n\n\n\nJason Healey\n\n\n\n\n21\n\n\n\n\n\n\n\n\n21\n\n\n\nAndré Standland\n\n\n\n\n\n\n\n21\n\n\n\n\n\n21\n\n\n\nChris Date\n\n\n\n\n\n\n\n20\n\n\n\n\n\n20
URL:https://golfthecosta.com/event/spence-clarke-co-weekly-league-14-2018-04-12-2018-04-19/
LOCATION:El Paraiso Golf Club\, Urb. El Paraiso\, Ctra de Cádiz\, km 167\,\, Estepona\, Malaga\, 29680\, Spain
ATTACH;FMTTYPE=image/jpeg:https://golfthecosta.com/wp-content/uploads/2017/12/SpenceClarkeLogo.jpg
ORGANIZER;CN="Golf The Costa":MAILTO:info@www.golfthecosta.com
GEO:36.476586;-5.034811
X-APPLE-STRUCTURED-LOCATION;VALUE=URI;X-ADDRESS=El Paraiso Golf Club Urb. El Paraiso Ctra de Cádiz km 167 Estepona Malaga 29680 Spain;X-APPLE-RADIUS=500;X-TITLE=Urb. El Paraiso\, Ctra de Cádiz\, km 167\,:geo:-5.034811,36.476586
END:VEVENT
BEGIN:VEVENT
DTSTART;TZID=Europe/Madrid:20180426T093000
DTEND;TZID=Europe/Madrid:20180426T170000
DTSTAMP:20260425T060643
CREATED:20180120T121955Z
LAST-MODIFIED:20220909T131604Z
UID:10000031-1524735000-1524762000@golfthecosta.com
SUMMARY:Spence Clarke & Co Weekly League
DESCRIPTION:Weekly League Table for April 2018 \nCategory 1          Category 2\n Winner               Winner\n Runner-Up        Runner-Up\n Third Place       Third place \nIf there is an insufficient number of players to split the categories\nthen prizes will be awarded for 1st\, 2nd and 3rd places and shown on    the table as follows:    Winner  Runner-Up   Third Place \n    The winners of the monthly league prizes are shown as follows:\n    Mens    Ladies \n\n\n\n\nPlayer\n05-Apr\n12-Apr\n19-Apr\n26-Apr\nBest 2\nScores\n\n\n\n\nPaul McCaughey\n\n38\n\n\n\n33\n\n\n32\n\n\n39\n\n\n77\n\n\n\nYury Buchnev\n\n37\n\n\n25\n\n\n39\n\n\n32\n\n\n76\n\n\n\nPeter Jakobsson\n\n27\n\n\n38\n\n\n\n\n\n37\n\n\n75\n\n\n\nSvetlana Kripaytite\n\n37\n\n\n36</strong\n\n\n31\n\n\n34\n\n\n73\n\n\n\nAndrei Smetckii\n\n37\n\n\n\n\n\n36\n\n\n\n\n\n73\n\n\n\nPhil Loughton\n\n31\n\n\n35\n\n\n38\n\n\n31\n\n\n73\n\n\n\nBruce Hurley\n\n38\n\n\n34\n\n\n29\n\n\n\n\n\n72\n\n\n\nSergey Kuznetsov\n\n32\n\n\n38\n\n\n33\n\n\n\n\n\n71\n\n\n\nAlex Emelichev\n\n35\n\n\n\n\n\n30\n\n\n36\n\n\n71\n\n\n\nJohnny Martin\n\n\n\n\n30\n\n\n35\n\n\n33\n\n\n68\n\n\n\nEamonn Devine\n\n26\n\n\n35\n\n\n28\n\n\n33\n\n\n68\n\n\n\nStuart Williams\n\n35\n\n\n32\n\n\n\n\n\n\n\n\n67\n\n\n\nAlasdair MacLean\n\n30\n\n\n35\n\n\n32\n\n\n28\n\n\n67\n\n\n\nTony Collier\n\n31\n\n\n35\n\n\n27\n\n\n32\n\n\n67\n\n\n\nSteve Asplet\n\n\n\n\n\n\n\n34\n\n\n33\n\n\n67\n\n\n\nDimitry Mushta\n\n\n\n\n\n\n\n29\n\n\n38\n\n\n67\n\n\n\nBarry Kirk\n\n33\n\n\n32\n\n\n33\n\n\n32\n\n\n66\n\n\n\nMark Bruce\n\n25\n\n\n32\n\n\n34\n\n\n\n\n\n66\n\n\n\nYulia Golubeva\n\n\n\n\n31\n\n\n34\n\n\n31\n\n\n65\n\n\n\nSteve Pagett\n\n28\n\n\n\n\n\n28\n\n\n37\n\n\n65\n\n\n\nShuj Datoo\n\n34\n\n\n21\n\n\n24\n\n\n30\n\n\n64\n\n\n\nRon Brayson\n\n33\n\n\n\n\n\n\n\n\n31\n\n\n64\n\n\n\nGiovanni Bentini\n\n30\n\n\n\n\n\n\n\n\n34\n\n\n64\n\n\n\nBrian Murphy\n\n36\n\n\n22\n\n\n\n\n\n\n\n\n58\n\n\n\nSteve Rodgers\n\n33\n\n\n25\n\n\n\n\n\n\n\n\n58\n\n\n\nAndrey Shlykov\n\n\n\n\n\n\n\n32\n\n\n24\n\n\n56\n\n\n\nRichard Nelms\n\n26\n\n\n24\n\n\n25\n\n\n18\n\n\n51\n\n\n\nSvetlana Kuznetsova\n\n26\n\n\n22\n\n\n22\n\n\n\n\n\n48\n\n\n\nDavid Goodwin\n\n22\n\n\n24\n\n\n22\n\n\n\n\n\n46\n\n\n\nDavid Walker\n\n40\n\n\n\n\n\n\n\n\n\n\n\n40\n\n\n\nIan Morrison\n\n\n\n\n\n\n\n37\n\n\n\n\n\n37\n\n\n\nXavier Ashurst\n\n36\n\n\n\n\n\n\n\n\n\n\n\n36\n\n\n\nOlav Loly\n\n\n\n\n36\n\n\n\n\n\n\n\n\n36\n\n\n\nAlistair Creevy\n\n\n\n\n\n\n\n36\n\n\n\n\n\n36\n\n\n\nBen Horrocks\n\n35\n\n\n\n\n\n\n\n\n\n\n\n35\n\n\n\nSimon Lloyd\n\n35\n\n\n\n\n\n\n\n\n\n\n\n35\n\n\n\nIurri Zykov\n\n35\n\n\n\n\n\n\n\n\n\n\n\n35\n\n\n\nMike Christophers\n\n\n\n\n35\n\n\n\n\n\n\n\n\n35\n\n\n\nHans Kränzler\n\n\n\n\n\n\n\n\n\n\n35\n\n\n35\n\n\n\nMike Downes\n\n\n\n\n\n\n\n\n\n\n35\n\n\n35\n\n\n\nSimon Ness\n\n\n\n\n34\n\n\n\n\n\n\n\n\n34\n\n\n\nBrian McCarthy\n\n33\n\n\n\n\n\n\n\n\n\n\n\n33\n\n\n\nTom Boland\n\n\n\n\n33\n\n\n\n\n\n\n\n\n33\n\n\n\nLiam Rattigan\n\n\n\n\n33\n\n\n\n\n\n\n\n\n33\n\n\n\nDiarmuid O’Connor\n\n\n\n\n33\n\n\n\n\n\n\n\n\n33\n\n\n\nAnn-Charlotte Frank Lindgren\n\n32\n\n\n\n\n\n\n\n\n\n\n\n32\n\n\n\nJohn Campbell\n\n32\n\n\n\n\n\n\n\n\n\n\n\n32\n\n\n\nTerje Gausel\n\n\n\n\n32\n\n\n\n\n\n\n\n\n32\n\n\n\nGordon Cowans\n\n\n\n\n\n\n\n32\n\n\n\n\n\n32\n\n\n\nKieran Watson\n\n\n\n\n\n\n\n\n\n\n32\n\n\n32\n\n\n\nNickolay Martinov\n\n\n\n\n\n\n\n31\n\n\n\n\n\n31\n\n\n\nJan Vallys\n\n\n\n\n\n\n\n31\n\n\n\n\n\n31\n\n\n\nBrian Dunk\n\n\n\n\n\n\n\n31\n\n\n\n\n\n31\n\n\n\nStephen Melville\n\n\n\n\n\n\n\n\n\n\n31\n\n\n31\n\n\n\nAlexey Vershinin\n\n\n\n\n\n\n\n30\n\n\n\n\n\n30\n\n\n\nSteve Ashurst\n\n29\n\n\n\n\n\n\n\n\n\n\n\n29\n\n\n\nGoran Fritzell\n\n29\n\n\n\n\n\n\n\n\n\n\n\n29\n\n\n\nEdward Boland\n\n\n\n\n29\n\n\n\n\n\n\n\n\n29\n\n\n\nRobert Gilbert\n\n\n\n\n\n\n\n\n\n\n29\n\n\n29\n\n\n\nSteven Faull\n\n\n\n\n\n\n\n\n\n\n29\n\n\n29\n\n\n\nAllan Kong\n\n\n\n\n\n\n\n28\n\n\n\n\n\n28\n\n\n\nElena Mushta\n\n\n\n\n\n\n\n\n\n\n28\n\n\n28\n\n\n\nDamien Woods\n\n27\n\n\n\n\n\n\n\n\n\n\n\n27\n\n\n\nAndy Walker\n\n27\n\n\n\n\n\n\n\n\n\n\n\n27\n\n\n\nRoland Bourgeois\n\n\n\n\n27\n\n\n\n\n\n\n\n\n27\n\n\n\nTim Shaw\n\n26\n\n\n\n\n\n\n\n\n\n\n\n26\n\n\n\nAlan Oslington\n\n\n\n\n26\n\n\n\n\n\n\n\n\n26\n\n\n\nMartin Shipley\n\n\n\n\n\n\n\n\n\n\n26\n\n\n26\n\n\n\nBjørn Hansen\n\n\n\n\n25\n\n\n\n\n\n\n\n\n25\n\n\n\nNigel Guy\n\n\n\n\n\n\n\n25\n\n\n\n\n\n25\n\n\n\nWilliam Lewis\n\n\n\n\n23\n\n\n\n\n\n\n\n\n23\n\n\n\nSteve Davis\n\n\n\n\n23\n\n\n\n\n\n\n\n\n23\n\n\n\nPatrik Larsson\n\n\n\n\n\n\n\n\n\n\n23\n\n\n23\n\n\n\nJohn Maguire\n\n22\n\n\n\n\n\n\n\n\n\n\n\n22\n\n\n\nReg Jones\n\n\n\n\n22\n\n\n\n\n\n\n\n\n22\n\n\n\nJan Heintze\n\n\n\n\n\n\n\n22\n\n\n\n\n\n22\n\n\n\nKarina Nazarova\n\n\n\n\n\n\n\n22\n\n\n\n\n\n22\n\n\n\nJason Healey\n\n\n\n\n21\n\n\n\n\n\n\n\n\n21\n\n\n\nAndré Standland\n\n\n\n\n\n\n\n21\n\n\n\n\n\n21\n\n\n\nChris Date\n\n\n\n\n\n\n\n20\n\n\n\n\n\n20\n\n\n\nJohn Dellow\n\n\n\n\n\n\n\n\n\n\n20\n\n\n20
URL:https://golfthecosta.com/event/spence-clarke-co-weekly-league-14-2018-04-12-2018-04-26/
LOCATION:El Paraiso Golf Club\, Urb. El Paraiso\, Ctra de Cádiz\, km 167\,\, Estepona\, Malaga\, 29680\, Spain
ATTACH;FMTTYPE=image/jpeg:https://golfthecosta.com/wp-content/uploads/2017/12/SpenceClarkeLogo.jpg
ORGANIZER;CN="Golf The Costa":MAILTO:info@www.golfthecosta.com
GEO:36.476586;-5.034811
X-APPLE-STRUCTURED-LOCATION;VALUE=URI;X-ADDRESS=El Paraiso Golf Club Urb. El Paraiso Ctra de Cádiz km 167 Estepona Malaga 29680 Spain;X-APPLE-RADIUS=500;X-TITLE=Urb. El Paraiso\, Ctra de Cádiz\, km 167\,:geo:-5.034811,36.476586
END:VEVENT
END:VCALENDAR