BEGIN:VCALENDAR
VERSION:2.0
PRODID:-// - ECPv6.15.20//NONSGML v1.0//EN
CALSCALE:GREGORIAN
METHOD:PUBLISH
X-ORIGINAL-URL:https://golfthecosta.com
X-WR-CALDESC:Events for 
REFRESH-INTERVAL;VALUE=DURATION:PT1H
X-Robots-Tag:noindex
X-PUBLISHED-TTL:PT1H
BEGIN:VTIMEZONE
TZID:Europe/Madrid
BEGIN:DAYLIGHT
TZOFFSETFROM:+0100
TZOFFSETTO:+0200
TZNAME:CEST
DTSTART:20170326T010000
END:DAYLIGHT
BEGIN:STANDARD
TZOFFSETFROM:+0200
TZOFFSETTO:+0100
TZNAME:CET
DTSTART:20171029T010000
END:STANDARD
BEGIN:DAYLIGHT
TZOFFSETFROM:+0100
TZOFFSETTO:+0200
TZNAME:CEST
DTSTART:20180325T010000
END:DAYLIGHT
BEGIN:STANDARD
TZOFFSETFROM:+0200
TZOFFSETTO:+0100
TZNAME:CET
DTSTART:20181028T010000
END:STANDARD
BEGIN:DAYLIGHT
TZOFFSETFROM:+0100
TZOFFSETTO:+0200
TZNAME:CEST
DTSTART:20190331T010000
END:DAYLIGHT
BEGIN:STANDARD
TZOFFSETFROM:+0200
TZOFFSETTO:+0100
TZNAME:CET
DTSTART:20191027T010000
END:STANDARD
END:VTIMEZONE
BEGIN:VEVENT
DTSTART;TZID=Europe/Madrid:20180503T100000
DTEND;TZID=Europe/Madrid:20180503T170000
DTSTAMP:20260425T043258
CREATED:20180120T123149Z
LAST-MODIFIED:20220909T131549Z
UID:10000014-1525341600-1525366800@golfthecosta.com
SUMMARY:Spence Clarke & Co Weekly League
DESCRIPTION:Weekly League Table for May 2018 \nCategory 1          Category 2\n Winner               Winner\n Runner-Up        Runner-Up\n Third Place       Third place \nIf there is an insufficient number of players to split the categories\nthen prizes will be awarded for 1st\, 2nd and 3rd places and shown on    the table as follows:    Winner  Runner-Up   Third Place \n    The winners of the monthly league prizes are shown as follows:\n    Mens    Ladies \n\n\n\n\nPlayer\n03-May\n10-May\n17-May\n24-May\n31-May\nBest 2\nScores\n\n\n\n\nDavid Giddings\n33\n39\n \n \n \n72\n\n\nSergey Kuznetsov\n29\n41\n \n \n \n70\n\n\nAndrei Smetckii\n34\n35\n \n \n \n69\n\n\nEamonn Devine\n26\n41\n \n \n \n67\n\n\nMonica Giddings\n28\n33\n \n \n \n61\n\n\nAlex Emelichev\n28\n32\n \n \n \n60\n\n\nSvetlana Kripaytite\n32\n28\n \n \n \n60\n\n\nPaul McCaughey\n27\n31\n \n \n \n58\n\n\nMark Bruce\n23\n34\n \n \n \n57\n\n\nYuri Buchnev\n25\n31\n \n \n \n56\n\n\nGerda Van der Knapp\n27\n29\n \n \n \n56\n\n\nJohn Dellow\n26\n30\n \n \n \n56\n\n\nStephen Melville\n30\n26\n \n \n \n56\n\n\nPhil Loughton\n24\n31\n \n \n \n55\n\n\nArend Van der Knapp\n32\n21\n \n \n \n53\n\n\nMarjan Derogee\n27\n26\n \n \n \n53\n\n\nPaul Derogee\n22\n27\n \n \n \n49\n\n\nBarry Kirk\n \n41\n \n \n \n41\n\n\nAlasdair MacLean\n37\n \n \n \n \n37\n\n\nPeter Jakobsson\n \n36\n \n \n \n36\n\n\nBruce Hurley\n \n35\n \n \n \n35\n\n\nTony Collier\n \n34\n \n \n \n34\n\n\nRon Brayson\n33\n \n \n \n \n33\n\n\nCaroline Dean\n \n33\n \n \n \n33\n\n\nSteve Asplet\n \n33\n \n \n \n33\n\n\nNeil Mcleod\n \n32\n \n \n \n32\n\n\nJohn Saville\n \n32\n \n \n \n32\n\n\nShuj Datoo\n31\n \n \n \n \n31\n\n\nStephen Katz\n \n31\n \n \n \n31\n\n\nRoy Dean\n \n30\n \n \n \n30\n\n\nWilliam Lewis\n \n30\n \n \n \n30\n\n\nSteven Faull\n29\n \n \n \n \n29\n\n\nCarolyn Ball\n \n29\n \n \n \n29\n\n\nSteve Pagett\n28\n \n \n \n \n28\n\n\nJim Kelly\n28\n \n \n \n \n28\n\n\nSvetlana Kuznetsova\n \n28\n \n \n \n28\n\n\nSergey Koynov\n27\n \n \n \n \n27\n\n\nVictor Gursky\n \n25\n \n \n \n25\n\n\nAndrey Shlykov\n \n25\n \n \n \n25\n\n\nRichard Nelms\n24\n \n \n \n \n24\n\n\nNorman Healey\n24\n \n \n \n \n24\n\n\nJan Olsen\n \n22\n \n \n \n22\n\n\nDiego Echavarria\n21\n \n \n \n \n21\n\n\nNiq Lauwaert\n20\n \n \n \n \n20\n\n\nAlex Kazmin\n15\n \n \n \n \n15\n\n\nJohn Whittaker\n \n13\n \n \n \n13
URL:https://golfthecosta.com/event/spence-clarke-co-weekly-league-15/
LOCATION:La Cañada Golf Club\, Ctra de Guadiaro\, Km 1\, San Roque\, Cadiz\, 11311\, Spain
ATTACH;FMTTYPE=image/jpeg:https://golfthecosta.com/wp-content/uploads/2017/12/SpenceClarkeLogo.jpg
ORGANIZER;CN="Golf The Costa":MAILTO:info@www.golfthecosta.com
GEO:36.3002424;-5.3025278
X-APPLE-STRUCTURED-LOCATION;VALUE=URI;X-ADDRESS=La Cañada Golf Club Ctra de Guadiaro Km 1 San Roque Cadiz 11311 Spain;X-APPLE-RADIUS=500;X-TITLE=Ctra de Guadiaro\, Km 1:geo:-5.3025278,36.3002424
END:VEVENT
BEGIN:VEVENT
DTSTART;TZID=Europe/Madrid:20180510T083000
DTEND;TZID=Europe/Madrid:20180510T170000
DTSTAMP:20260425T043258
CREATED:20180120T123149Z
LAST-MODIFIED:20220909T131539Z
UID:10000003-1525941000-1525971600@golfthecosta.com
SUMMARY:Spence Clarke & Co Weekly League
DESCRIPTION:Weekly League Table for May 2018 \nCategory 1          Category 2\n Winner               Winner\n Runner-Up        Runner-Up\n Third Place       Third place \nIf there is an insufficient number of players to split the categories\nthen prizes will be awarded for 1st\, 2nd and 3rd places and shown on    the table as follows:    Winner  Runner-Up   Third Place \n    The winners of the monthly league prizes are shown as follows:\n    Mens    Ladies \n\n\n\n\nPlayer\n03-May\n10-May\n17-May\n24-May\n31-May\nBest 2\nScores\n\n\n\n\nDavid Giddings\n33\n39\n \n \n \n72\n\n\nSergey Kuznetsov\n29\n41\n \n \n \n70\n\n\nAndrei Smetckii\n34\n35\n \n \n \n69\n\n\nEamonn Devine\n26\n41\n \n \n \n67\n\n\nMonica Giddings\n28\n33\n \n \n \n61\n\n\nAlex Emelichev\n28\n32\n \n \n \n60\n\n\nSvetlana Kripaytite\n32\n28\n \n \n \n60\n\n\nPaul McCaughey\n27\n31\n \n \n \n58\n\n\nMark Bruce\n23\n34\n \n \n \n57\n\n\nYuri Buchnev\n25\n31\n \n \n \n56\n\n\nGerda Van der Knapp\n27\n29\n \n \n \n56\n\n\nJohn Dellow\n26\n30\n \n \n \n56\n\n\nStephen Melville\n30\n26\n \n \n \n56\n\n\nPhil Loughton\n24\n31\n \n \n \n55\n\n\nArend Van der Knapp\n32\n21\n \n \n \n53\n\n\nMarjan Derogee\n27\n26\n \n \n \n53\n\n\nPaul Derogee\n22\n27\n \n \n \n49\n\n\nBarry Kirk\n \n41\n \n \n \n41\n\n\nAlasdair MacLean\n37\n \n \n \n \n37\n\n\nPeter Jakobsson\n \n36\n \n \n \n36\n\n\nBruce Hurley\n \n35\n \n \n \n35\n\n\nTony Collier\n \n34\n \n \n \n34\n\n\nRon Brayson\n33\n \n \n \n \n33\n\n\nCaroline Dean\n \n33\n \n \n \n33\n\n\nSteve Asplet\n \n33\n \n \n \n33\n\n\nNeil Mcleod\n \n32\n \n \n \n32\n\n\nJohn Saville\n \n32\n \n \n \n32\n\n\nShuj Datoo\n31\n \n \n \n \n31\n\n\nStephen Katz\n \n31\n \n \n \n31\n\n\nRoy Dean\n \n30\n \n \n \n30\n\n\nWilliam Lewis\n \n30\n \n \n \n30\n\n\nSteven Faull\n29\n \n \n \n \n29\n\n\nCarolyn Ball\n \n29\n \n \n \n29\n\n\nSteve Pagett\n28\n \n \n \n \n28\n\n\nJim Kelly\n28\n \n \n \n \n28\n\n\nSvetlana Kuznetsova\n \n28\n \n \n \n28\n\n\nSergey Koynov\n27\n \n \n \n \n27\n\n\nVictor Gursky\n \n25\n \n \n \n25\n\n\nAndrey Shlykov\n \n25\n \n \n \n25\n\n\nRichard Nelms\n24\n \n \n \n \n24\n\n\nNorman Healey\n24\n \n \n \n \n24\n\n\nJan Olsen\n \n22\n \n \n \n22\n\n\nDiego Echavarria\n21\n \n \n \n \n21\n\n\nNiq Lauwaert\n20\n \n \n \n \n20\n\n\nAlex Kazmin\n15\n \n \n \n \n15\n\n\nJohn Whittaker\n \n13\n \n \n \n13
URL:https://golfthecosta.com/event/spence-clarke-co-weekly-league-15-2018-05-10/
LOCATION:El Paraiso Golf Club\, Urb. El Paraiso\, Ctra de Cádiz\, km 167\,\, Estepona\, Malaga\, 29680\, Spain
ATTACH;FMTTYPE=image/jpeg:https://golfthecosta.com/wp-content/uploads/2017/12/SpenceClarkeLogo.jpg
ORGANIZER;CN="Golf The Costa":MAILTO:info@www.golfthecosta.com
GEO:36.476586;-5.034811
X-APPLE-STRUCTURED-LOCATION;VALUE=URI;X-ADDRESS=El Paraiso Golf Club Urb. El Paraiso Ctra de Cádiz km 167 Estepona Malaga 29680 Spain;X-APPLE-RADIUS=500;X-TITLE=Urb. El Paraiso\, Ctra de Cádiz\, km 167\,:geo:-5.034811,36.476586
END:VEVENT
BEGIN:VEVENT
DTSTART;TZID=Europe/Madrid:20180517T083000
DTEND;TZID=Europe/Madrid:20180517T170000
DTSTAMP:20260425T043258
CREATED:20180120T123149Z
LAST-MODIFIED:20220909T131526Z
UID:10000004-1526545800-1526576400@golfthecosta.com
SUMMARY:Spence Clarke & Co Weekly League
DESCRIPTION:Weekly League Table for May 2018 \nCategory 1          Category 2\n Winner               Winner\n Runner-Up        Runner-Up\n Third Place       Third place \nIf there is an insufficient number of players to split the categories\nthen prizes will be awarded for 1st\, 2nd and 3rd places and shown on    the table as follows:    Winner  Runner-Up   Third Place \n    The winners of the monthly league prizes are shown as follows:\n    Mens    Ladies \n\n\n\n\nPlayer\n03-May\n10-May\n17-May\n24-May\n31-May\nBest 2\nScores\n\n\n\n\nEamonn Devine\n26\n41\n38\n \n \n79\n\n\nPeter Jakobsson\n \n36\n40\n \n \n76\n\n\nSergey Kuznetsov\n29\n41\n33\n \n \n74\n\n\nAndrei Smetckii\n34\n35\n39\n \n \n74\n\n\nAlasdair MacLean\n37\n \n37\n \n \n74\n\n\nDavid Giddings\n33\n39\n34\n \n \n73\n\n\nJohn Saville\n \n32\n36\n \n \n68\n\n\nRoy Dean\n \n30\n37\n \n \n67\n\n\nNeil Mcleod\n \n32\n34\n \n \n66\n\n\nCarolyn Ball\n \n29\n37\n \n \n66\n\n\nPhil Loughton\n24\n31\n35\n \n \n66\n\n\nMonica Giddings\n28\n33\n32\n \n \n65\n\n\nCaroline Dean\n \n33\n32\n \n \n65\n\n\nSteven Faull\n29\n \n35\n \n \n64\n\n\nShuj Datoo\n31\n \n32\n \n \n63\n\n\nTony Collier\n \n34\n28\n \n \n62\n\n\nRon Brayson\n33\n \n29\n \n \n62\n\n\nAlex Emelichev\n28\n32\n \n \n \n60\n\n\nSvetlana Kripaytite\n32\n28\n \n \n \n60\n\n\nStephen Melville\n30\n26\n29\n \n \n59\n\n\nWilliam Lewis\n \n30\n29\n \n \n59\n\n\nPaul McCaughey\n27\n31\n \n \n \n58\n\n\nMark Bruce\n23\n34\n \n \n \n57\n\n\nSvetlana Kuznetsova\n \n28\n29\n \n \n57\n\n\nYuri Buchnev\n25\n31\n \n \n \n56\n\n\nGerda Van der Knapp\n27\n29\n \n \n \n56\n\n\nJohn Dellow\n26\n30\n22\n \n \n56\n\n\nStephen Katz\n \n31\n25\n \n \n56\n\n\nNorman Healey\n24\n \n32\n \n \n56\n\n\nArend Van der Knapp\n32\n21\n \n \n \n53\n\n\nMarjan Derogee\n27\n26\n \n \n \n53\n\n\nJan Olsen\n \n22\n30\n \n \n52\n\n\nPaul Derogee\n22\n27\n \n \n \n49\n\n\nirinia Nikitina\n \n \n42\n \n \n42\n\n\nBarry Kirk\n \n41\n \n \n \n41\n\n\nJohn Franklin\n \n \n36\n \n \n36\n\n\nBruce Hurley\n \n35\n \n \n \n35\n\n\nVladimir Borisov\n \n \n35\n \n \n35\n\n\nIan Lockwood\n \n \n34\n \n \n34\n\n\nSteve Asplet\n \n33\n \n \n \n33\n\n\nRichard Briley\n \n \n31\n \n \n31\n\n\nLorraine Franklin\n \n \n31\n \n \n31\n\n\nBrian Dunk\n \n \n30\n \n \n30\n\n\nDimitry Provotorov\n \n \n29\n \n \n29\n\n\nSteve Pagett\n28\n \n \n \n \n28\n\n\nJim Kelly\n28\n \n \n \n \n28\n\n\nJohn Whittaker\n \n13\n15\n \n \n28\n\n\nMike Christophers\n \n \n28\n \n \n28\n\n\nDiarmuid O’Connor\n \n \n28\n \n \n28\n\n\nSergey Koynov\n27\n \n \n \n \n27\n\n\nDavid Goodwin\n \n \n27\n \n \n27\n\n\nVictor Gursky\n \n25\n \n \n \n25\n\n\nAndrey Shlykov\n \n25\n \n \n \n25\n\n\nRichard Nelms\n24\n \n \n \n \n24\n\n\nVladimir Koshman\n \n \n24\n \n \n24\n\n\nDiego Echavarria\n21\n \n \n \n \n21\n\n\nNiq Lauwaert\n20\n \n \n \n \n20\n\n\nSteve Rodgers\n \n \n19\n \n \n19\n\n\nAlex Kazmin\n15\n \n \n \n \n15
URL:https://golfthecosta.com/event/spence-clarke-co-weekly-league-15-2018-05-10-2018-05-17/
LOCATION:El Paraiso Golf Club\, Urb. El Paraiso\, Ctra de Cádiz\, km 167\,\, Estepona\, Malaga\, 29680\, Spain
ATTACH;FMTTYPE=image/jpeg:https://golfthecosta.com/wp-content/uploads/2017/12/SpenceClarkeLogo.jpg
ORGANIZER;CN="Golf The Costa":MAILTO:info@www.golfthecosta.com
GEO:36.476586;-5.034811
X-APPLE-STRUCTURED-LOCATION;VALUE=URI;X-ADDRESS=El Paraiso Golf Club Urb. El Paraiso Ctra de Cádiz km 167 Estepona Malaga 29680 Spain;X-APPLE-RADIUS=500;X-TITLE=Urb. El Paraiso\, Ctra de Cádiz\, km 167\,:geo:-5.034811,36.476586
END:VEVENT
BEGIN:VEVENT
DTSTART;VALUE=DATE:20180520
DTEND;VALUE=DATE:20180521
DTSTAMP:20260425T043258
CREATED:20180120T130956Z
LAST-MODIFIED:20220909T131511Z
UID:10000030-1526774400-1526860799@golfthecosta.com
SUMMARY:Spence Clarke & Co Annual Charity Event
DESCRIPTION:This is the 10th annual charity golf event sponsored by\nSpence Clarke & Co\nThis year the beneficiary will be Marbella Alzheimers Association\nAll the funds raised will be donated directly to the charity \nWe are very grateful to all the other sponsors for their support.\nClick the link below to view our sponsors \nOUR SPONSORSThe results of the event are shown below \n\n\n\n\nPosition\nTeam\nGross\nScore\nTeam\nHandicap\nNett\nScore\n\n\n\n\n1st\nShuj Datoo\nMark Bruce\nBill James\nDuncan Elliott\n63\n3.5\n59.5\n\n\n2nd\nDavid Steele\nDanni Worth\nKeith Johnson\nPeter Lawton\n65\n3.0\n62\n\n\n3rd\nAlex Emelicvhev\nAndrei Smetckii\nSvetlana Kripaytite\n66\n4.0\n62\n\n\n4th\nMike Barkess\nDavid Wilkes\nJack Wilkes\nSusan Dale\n62\n2.8\n62.2\n\n\n5th\nMike Bamforth\nNancy Bamforth\nDanielle Wrzy\nKen Lingwood\n66\n2.8\n63.2\n\n\n6th\nOscar Eguren\nGustavo Gutiérrez\nFrancisco Galán\nPhillipe Janssen\n70\n4.4\n65.6\n\n\n7th\nMarc Elliott de Lama\nDarren Windhagauer\nMark Rose\nAlison Marshall\n69\n2.8\n66.2\n\n\n8th\nCarolyn Ball\nNeil Mcleod\nRoy Dean\nCaroline Dean\n70\n3.8\n66.2\n\n\n9th\nPete Yeoman\nPaul Vincent\nMiles Yeatman\nBarry Elms\n72\n4.5\n67.5\n\n\n10th\nVladimir Koshman\nDimitry Provotorov\nVladimir Borisov\nIrina Nikitina\n74\n6.0\n68\n\n\n11th\nJohn Watt\nDiane Lavender\nPat Colley\nVic Colley\n73\n4.4\n68.6\n\n\n12th\nMiguel Ángel Blanca\nJoey Imossi\nAna Garcia\n78\n8.8\n69.2\n\n\n13th\nMike Egan\nColin McCready\nGeoffrey Donoghue\nJack Butler\n75\n4.6\n70.4\n\n\n14th\nPatrick Murphy\nAdvokia Murphy\nAndrea Mansfield\nJohn Mansfield\n76\n4.8\n71.2\n\n\n15th\nWilliam Lewis\nBjorn Bjarstad\nPilar Marginez-Vidal\n81\n8.8\n72.8\n\n\n16th\nAlicia Jimenez Ruiz\nAntonio Cortez Sanchez\nJavier Osorio\n82\n8.2\n73.8\n\n\n17th\nLucrecia Gutiérrez\nAsunción Gutiérrez\nEstaban Angulo\nMehboob Kantharina”\n80\n5.3\n74.7\n\n\n18th\nJohn Rainer\nRalph Benk\nCampbell Ferguson\nClaudia Hartman\n82\n4.5\n77.5
URL:https://golfthecosta.com/event/spence-clarke-co-annual-charity-event/
LOCATION:El Paraiso Golf Club\, Urb. El Paraiso\, Ctra de Cádiz\, km 167\,\, Estepona\, Malaga\, 29680\, Spain
ATTACH;FMTTYPE=image/jpeg:https://golfthecosta.com/wp-content/uploads/2017/12/SpenceClarkeLogo.jpg
ORGANIZER;CN="Golf The Costa":MAILTO:info@www.golfthecosta.com
GEO:36.476586;-5.034811
X-APPLE-STRUCTURED-LOCATION;VALUE=URI;X-ADDRESS=El Paraiso Golf Club Urb. El Paraiso Ctra de Cádiz km 167 Estepona Malaga 29680 Spain;X-APPLE-RADIUS=500;X-TITLE=Urb. El Paraiso\, Ctra de Cádiz\, km 167\,:geo:-5.034811,36.476586
END:VEVENT
BEGIN:VEVENT
DTSTART;TZID=Europe/Madrid:20180524T083000
DTEND;TZID=Europe/Madrid:20180524T170000
DTSTAMP:20260425T043258
CREATED:20180120T123149Z
LAST-MODIFIED:20220909T131500Z
UID:10000005-1527150600-1527181200@golfthecosta.com
SUMMARY:Spence Clarke & Co Weekly League
DESCRIPTION:Weekly League Table for May 2018 \nCategory 1          Category 2\n Winner               Winner\n Runner-Up        Runner-Up\n Third Place       Third place \nIf there is an insufficient number of players to split the categories\nthen prizes will be awarded for 1st\, 2nd and 3rd places and shown on    the table as follows:    Winner  Runner-Up   Third Place \n    The winners of the monthly league prizes are shown as follows:\n    Mens    Ladies \n\n\n\n\nPlayer\n03-May\n10-May\n17-May\n24-May\n31-May\nBest 2\nScores\n\n\n\n\nEamonn Devine\n26\n41\n38\n \n \n79\n\n\nPeter Jakobsson\n \n36\n40\n28\n \n76\n\n\nVladimir Borisov\n \n \n35\n41\n \n76\n\n\nSergey Kuznetsov\n29\n41\n33\n \n \n74\n\n\nAndrei Smetckii\n34\n35\n39\n33\n \n74\n\n\nAlasdair MacLean\n37\n \n37\n26\n \n74\n\n\nDavid Giddings\n33\n39\n34\n \n \n73\n\n\nMark Bruce\n23\n34\n \n36\n \n70\n\n\nJohn Saville\n \n32\n36\n \n \n68\n\n\nRoy Dean\n \n30\n37\n \n \n67\n\n\nShuj Datoo\n31\n \n32\n35\n \n67\n\n\nAlex Emelichev\n28\n32\n \n35\n \n67\n\n\nNorman Healey\n24\n \n32\n35\n \n67\n\n\nNeil Mcleod\n \n32\n34\n30\n \n66\n\n\nCarolyn Ball\n \n29\n37\n \n \n66\n\n\nPhil Loughton\n24\n31\n35\n31\n \n66\n\n\nirinia Nikitina\n \n \n42\n24\n \n66\n\n\nMonica Giddings\n28\n33\n32\n \n \n65\n\n\nCaroline Dean\n \n33\n32\n \n \n65\n\n\nSteven Faull\n29\n \n35\n30\n \n65\n\n\nTony Collier\n \n34\n28\n31\n \n65\n\n\nWilliam Lewis\n \n30\n29\n35\n \n65\n\n\nDimitry Provotorov\n \n \n29\n36\n \n65\n\n\nRon Brayson\n33\n \n29\n \n \n62\n\n\nSvetlana Kripaytite\n32\n28\n \n26\n \n60\n\n\nPaul McCaughey\n27\n31\n \n29\n \n60\n\n\nStephen Melville\n30\n26\n29\n \n \n59\n\n\nSvetlana Kuznetsova\n \n28\n29\n \n \n57\n\n\nYuri Buchnev\n25\n31\n \n \n \n56\n\n\nGerda Van der Knapp\n27\n29\n \n \n \n56\n\n\nJohn Dellow\n26\n30\n22\n25\n \n56\n\n\nStephen Katz\n \n31\n25\n \n \n56\n\n\nAndrey Shlykov\n \n25\n \n30\n \n55\n\n\nVladimir Koshman\n \n \n24\n31\n \n55\n\n\nArend Van der Knapp\n32\n21\n \n \n \n53\n\n\nMarjan Derogee\n27\n26\n \n \n \n53\n\n\nMike Christophers\n \n \n28\n25\n \n53\n\n\nJan Olsen\n \n22\n30\n \n \n52\n\n\nPaul Derogee\n22\n27\n \n \n \n49\n\n\nSteve Rodgers\n \n \n19\n28\n \n47\n\n\nBarry Kirk\n \n41\n \n \n \n41\n\n\nSergei Kozhaev\n \n \n \n39\n \n39\n\n\nStuart Williams\n \n \n \n37\n \n37\n\n\nJohn Franklin\n \n \n36\n \n \n36\n\n\nBruce Hurley\n \n35\n \n \n \n35\n\n\nIan Lockwood\n \n \n34\n \n \n34\n\n\nArne Oydegard\n \n \n \n34\n \n34\n\n\nKarina Budantseva\n \n \n \n34\n \n34\n\n\nSteve Asplet\n \n33\n \n \n \n33\n\n\nJohn Roethling\n \n \n \n33\n \n33\n\n\nRichard Briley\n \n \n31\n \n \n31\n\n\nLorraine Franklin\n \n \n31\n \n \n31\n\n\nBrian Dunk\n \n \n30\n \n \n30\n\n\nRobert Gilbert\n \n \n \n30\n \n30\n\n\nSteve Pagett\n28\n \n \n \n \n28\n\n\nJim Kelly\n28\n \n \n \n \n28\n\n\nJohn Whittaker\n \n13\n15\n \n \n28\n\n\nDiarmuid O’Connor\n \n \n28\n \n \n28\n\n\nJohn Maguire\n \n \n \n28\n \n28\n\n\nSergey Koynov\n27\n \n \n \n \n27\n\n\nDavid Goodwin\n \n \n27\n \n \n27\n\n\nVictor Gursky\n \n25\n \n \n \n25\n\n\nRichard Nelms\n24\n \n \n \n \n24\n\n\nDiego Echavarria\n21\n \n \n \n \n21\n\n\nNiq Lauwaert\n20\n \n \n \n \n20\n\n\nAlex Kazmin\n15\n \n \n \n \n15
URL:https://golfthecosta.com/event/spence-clarke-co-weekly-league-15-2018-05-24/
LOCATION:Mijas Golf Club\, Avenida Louison Bobet Urb Mijas Golf\,\, Las Lagunas de Mijas\, Malaga\, 29650\, Spain
ATTACH;FMTTYPE=image/jpeg:https://golfthecosta.com/wp-content/uploads/2017/12/SpenceClarkeLogo.jpg
ORGANIZER;CN="Golf The Costa":MAILTO:info@www.golfthecosta.com
GEO:36.55049;-4.66615
X-APPLE-STRUCTURED-LOCATION;VALUE=URI;X-ADDRESS=Mijas Golf Club Avenida Louison Bobet Urb Mijas Golf Las Lagunas de Mijas Malaga 29650 Spain;X-APPLE-RADIUS=500;X-TITLE=Avenida Louison Bobet Urb Mijas Golf\,:geo:-4.66615,36.55049
END:VEVENT
BEGIN:VEVENT
DTSTART;TZID=Europe/Madrid:20180531T083000
DTEND;TZID=Europe/Madrid:20180531T170000
DTSTAMP:20260425T043258
CREATED:20180120T123149Z
LAST-MODIFIED:20220909T131447Z
UID:10000006-1527755400-1527786000@golfthecosta.com
SUMMARY:Spence Clarke & Co Weekly League
DESCRIPTION:Weekly League Table for May 2018 \nCategory 1          Category 2\n Winner               Winner\n Runner-Up        Runner-Up\n Third Place       Third place \nIf there is an insufficient number of players to split the categories\nthen prizes will be awarded for 1st\, 2nd and 3rd places and shown on    the table as follows:    Winner  Runner-Up   Third Place \n    The winners of the monthly league prizes are shown as follows:\n    Mens    Ladies \n\n\n\n\nPlayer\n03-May\n10-May\n17-May\n24-May\n31-May\nBest 2\nScores\n\n\n\n\nEamonn Devine\n26\n41\n38\n \n \n79\n\n\nShuj Datoo\n31\n \n32\n35\n43\n78\n\n\nPeter Jakobsson\n \n36\n40\n28\n37\n77\n\n\nVladimir Borisov\n \n \n35\n41\n32\n76\n\n\nSergey Kuznetsov\n29\n41\n33\n \n34\n75\n\n\nIrinia Nikitina\n \n \n42\n24\n33\n75\n\n\nAndrei Smetckii\n34\n35\n39\n33\n35\n74\n\n\nAlasdair MacLean\n37\n \n37\n26\n \n74\n\n\nSteven Faull\n29\n \n35\n30\n39\n74\n\n\nDavid Giddings\n33\n39\n34\n \n \n73\n\n\nJohn Saville\n \n32\n36\n \n36\n72\n\n\nDimitry Provotorov\n \n \n29\n36\n35\n71\n\n\nMark Bruce\n23\n34\n \n36\n32\n70\n\n\nPaul McCaughey\n27\n31\n \n29\n38\n69\n\n\nKarina Budantseva\n \n \n \n34\n35\n69\n\n\nPhil Loughton\n24\n31\n35\n31\n34\n69\n\n\nRoy Dean\n \n30\n37\n \n \n67\n\n\nAlex Emelichev\n28\n32\n \n35\n \n67\n\n\nNorman Healey\n24\n \n32\n35\n \n67\n\n\nNeil Mcleod\n \n32\n34\n30\n \n66\n\n\nCarolyn Ball\n \n29\n37\n \n \n66\n\n\nStuart Williams\n \n \n \n37\n29\n66\n\n\nRichard Briley\n \n \n31\n \n35\n66\n\n\nMonica Giddings\n28\n33\n32\n \n \n65\n\n\nCaroline Dean\n \n33\n32\n \n \n65\n\n\nTony Collier\n \n34\n28\n31\n23\n65\n\n\nWilliam Lewis\n \n30\n29\n35\n22\n65\n\n\nArne Oydegard\n \n \n \n34\n29\n63\n\n\nRon Brayson\n33</span\n \n29\n \n27\n62\n\n\nJohn Dellow\n26\n30\n22\n25\n32\n62\n\n\nIan Lockwood\n \n \n34\n \n28\n62\n\n\nSvetlana Kripaytite\n32\n28\n \n26\n29\n61\n\n\nSteve Pagett\n28\n \n \n \n33\n61\n\n\nSteve Rodgers\n \n \n19\n28\n32\n60\n\n\nStephen Melville\n30\n26\n29\n \n \n59\n\n\nSvetlana Kuznetsova\n \n28\n29\n \n \n57\n\n\nYuri Buchnev\n25\n31\n \n \n \n56\n\n\nGerda Van der Knapp\n27\n29\n \n \n \n56\n\n\nStephen Katz\n \n31\n25\n \n \n56\n\n\nAndrey Shlykov\n \n25\n \n30\n \n55\n\n\nVladimir Koshman\n \n \n24\n31\n \n55\n\n\nJan Olsen\n \n22\n30\n \n25\n55\n\n\nArend Van der Knapp\n32\n21\n \n \n \n53\n\n\nMarjan Derogee\n27\n26\n \n \n \n53\n\n\nMike Christophers\n \n \n28\n25\n \n53\n\n\nRichard Nelms\n24\n \n \n \n27\n51\n\n\nPaul Derogee\n22\n27\n \n \n \n49\n\n\nBarry Kirk\n \n41\n \n \n \n41\n\n\nSergei Kozhaev\n \n \n \n39\n \n39\n\n\nGary Williams\n \n \n \n \n39\n39\n\n\nJohn Franklin\n \n \n36\n \n \n36\n\n\nBen Griffin\n \n \n \n \n36\n36\n\n\nJames Docherty\n \n \n \n \n36\n36\n\n\nBruce Hurley\n \n35\n \n \n \n35\n\n\nSteve Asplet\n \n33\n \n \n \n33\n\n\nJohn Roethling\n \n \n \n33\n \n33\n\n\nLorraine Franklin\n \n \n31\n \n \n31\n\n\nZac Hogsden\n \n \n \n \n31\n31\n\n\nBrian Dunk\n \n \n30\n \n \n30\n\n\nRobert Gilbert\n \n \n \n30\n \n30\n\n\nBrian Hollis\n \n \n \n \n29\n29\n\n\nJim Kelly\n28\n \n \n \n \n28\n\n\nJohn Whittaker\n \n13\n15\n \n \n28\n\n\nDiarmuid O’Connor\n \n \n28\n \n \n28\n\n\nJohn Maguire\n \n \n \n28\n \n28\n\n\nSergey Koynov\n27\n \n \n \n \n27\n\n\nDavid Goodwin\n \n \n27\n \n \n27\n\n\nVictor Gursky\n \n25\n \n \n \n25\n\n\nRoger Jones\n \n \n \n \n25\n25\n\n\nDiego Echavarria\n21\n \n \n \n \n21\n\n\nNiq Lauwaert\n20\n \n \n \n \n20\n\n\nAlex Kazmin\n15\n \n \n \n \n15
URL:https://golfthecosta.com/event/spence-clarke-co-weekly-league-15-2018-05-31/
LOCATION:El Paraiso Golf Club\, Urb. El Paraiso\, Ctra de Cádiz\, km 167\,\, Estepona\, Malaga\, 29680\, Spain
ATTACH;FMTTYPE=image/jpeg:https://golfthecosta.com/wp-content/uploads/2017/12/SpenceClarkeLogo.jpg
ORGANIZER;CN="Golf The Costa":MAILTO:info@www.golfthecosta.com
GEO:36.476586;-5.034811
X-APPLE-STRUCTURED-LOCATION;VALUE=URI;X-ADDRESS=El Paraiso Golf Club Urb. El Paraiso Ctra de Cádiz km 167 Estepona Malaga 29680 Spain;X-APPLE-RADIUS=500;X-TITLE=Urb. El Paraiso\, Ctra de Cádiz\, km 167\,:geo:-5.034811,36.476586
END:VEVENT
END:VCALENDAR