BEGIN:VCALENDAR
VERSION:2.0
PRODID:-// - ECPv6.15.20//NONSGML v1.0//EN
CALSCALE:GREGORIAN
METHOD:PUBLISH
X-ORIGINAL-URL:https://golfthecosta.com
X-WR-CALDESC:Events for 
REFRESH-INTERVAL;VALUE=DURATION:PT1H
X-Robots-Tag:noindex
X-PUBLISHED-TTL:PT1H
BEGIN:VTIMEZONE
TZID:Europe/Madrid
BEGIN:DAYLIGHT
TZOFFSETFROM:+0100
TZOFFSETTO:+0200
TZNAME:CEST
DTSTART:20170326T010000
END:DAYLIGHT
BEGIN:STANDARD
TZOFFSETFROM:+0200
TZOFFSETTO:+0100
TZNAME:CET
DTSTART:20171029T010000
END:STANDARD
BEGIN:DAYLIGHT
TZOFFSETFROM:+0100
TZOFFSETTO:+0200
TZNAME:CEST
DTSTART:20180325T010000
END:DAYLIGHT
BEGIN:STANDARD
TZOFFSETFROM:+0200
TZOFFSETTO:+0100
TZNAME:CET
DTSTART:20181028T010000
END:STANDARD
BEGIN:DAYLIGHT
TZOFFSETFROM:+0100
TZOFFSETTO:+0200
TZNAME:CEST
DTSTART:20190331T010000
END:DAYLIGHT
BEGIN:STANDARD
TZOFFSETFROM:+0200
TZOFFSETTO:+0100
TZNAME:CET
DTSTART:20191027T010000
END:STANDARD
END:VTIMEZONE
BEGIN:VEVENT
DTSTART;TZID=Europe/Madrid:20180705T093000
DTEND;TZID=Europe/Madrid:20180705T170000
DTSTAMP:20260425T013153
CREATED:20180120T132806Z
LAST-MODIFIED:20220909T130826Z
UID:10000009-1530783000-1530810000@golfthecosta.com
SUMMARY:Spence Clarke & Co Weekly League
DESCRIPTION:Weekly League Table for July 2018 \nCategory 1          Category 2\n Winner               Winner\n Runner-Up        Runner-Up\n Third Place       Third place \nIf there is an insufficient number of players to split the categories\nthen prizes will be awarded for 1st\, 2nd and 3rd places and shown on    the table as follows:    Winner  Runner-Up   Third Place \n    The winners of the monthly league prizes are shown as follows:\n    Mens    Ladies \n\n\n\n\nPlayer\n05-Jul\n12-Jul\n19-Jul\n26-Jul\nBest 2\nScores\n\n\n\n\nYurii Zykov\n39\n \n \n \n39\n\n\nElena Mushta\n39\n \n \n \n39\n\n\nPaul McCaughey\n38\n \n \n \n38\n\n\nPeter Jakobsson\n38\n \n \n \n38\n\n\nVladimir Borisov\n38\n \n \n \n38\n\n\nGöran Fritzell\n36\n \n \n \n36\n\n\nPhil Loughton\n36\n \n \n \n36\n\n\nSvetlana Kripaytite\n35\n \n \n \n35\n\n\nRoy Dean\n35\n \n \n \n35\n\n\nAlasdair MacLean\n35\n \n \n \n35\n\n\nFrank Hourican\n35\n \n \n \n35\n\n\nVladimir Koshman\n34\n \n \n \n34\n\n\nJohn Dellow\n33\n \n \n \n33\n\n\nAndrei Smetckii\n33\n \n \n \n33\n\n\nBarry Kirk\n33\n \n \n \n33\n\n\nYury Buchnev\n32\n \n \n \n32\n\n\nSergey Kuznetsov\n32\n \n \n \n32\n\n\nDimitry Mushta\n32\n \n \n \n32\n\n\nAndy Harris\n32\n \n \n \n32\n\n\nRon Brayson\n31\n \n \n \n31\n\n\nRichard Nelms\n31\n \n \n \n31\n\n\nShuj Datoo\n30\n \n \n \n30\n\n\nBrian Binstock\n29\n \n \n \n29\n\n\nSteve Rodgers\n28\n \n \n \n28\n\n\nJan Olsen\n27\n \n \n \n27\n\n\nAnn-Charlotte Frank Lindgren\n27\n \n \n \n27\n\n\nCaroline Dean\n26\n \n \n \n26\n\n\nPietro Hershman\n26\n \n \n \n26\n\n\nRoy Martinez\n23\n \n \n \n23\n\n\nBob Carvell\n20\n \n \n \n20
URL:https://golfthecosta.com/event/spence-clarke-co-weekly-league-17/
LOCATION:El Paraiso Golf Club\, Urb. El Paraiso\, Ctra de Cádiz\, km 167\,\, Estepona\, Malaga\, 29680\, Spain
ATTACH;FMTTYPE=image/jpeg:https://golfthecosta.com/wp-content/uploads/2017/12/SpenceClarkeLogo.jpg
ORGANIZER;CN="Golf The Costa":MAILTO:info@www.golfthecosta.com
GEO:36.476586;-5.034811
X-APPLE-STRUCTURED-LOCATION;VALUE=URI;X-ADDRESS=El Paraiso Golf Club Urb. El Paraiso Ctra de Cádiz km 167 Estepona Malaga 29680 Spain;X-APPLE-RADIUS=500;X-TITLE=Urb. El Paraiso\, Ctra de Cádiz\, km 167\,:geo:-5.034811,36.476586
END:VEVENT
BEGIN:VEVENT
DTSTART;TZID=Europe/Madrid:20180712T093000
DTEND;TZID=Europe/Madrid:20180712T170000
DTSTAMP:20260425T013154
CREATED:20180120T132806Z
LAST-MODIFIED:20220909T130815Z
UID:10000010-1531387800-1531414800@golfthecosta.com
SUMMARY:Spence Clarke & Co Weekly League
DESCRIPTION:Weekly League Table for July 2018 \nCategory 1          Category 2\n Winner               Winner\n Runner-Up        Runner-Up\n Third Place       Third place \nIf there is an insufficient number of players to split the categories\nthen prizes will be awarded for 1st\, 2nd and 3rd places and shown on    the table as follows:    Winner  Runner-Up   Third Place \n    The winners of the monthly league prizes are shown as follows:\n    Mens    Ladies \n\n\n\n\nPlayer\n05-Jul\n12-Jul\n19-Jul\n26-Jul\nBest 2\nScores\n\n\n\n\nPhil Loughton\n36\n40\n \n \n76\n\n\nRoy Dean\n35\n34\n \n \n69\n\n\nSergey Kuznetsov\n32\n37\n \n \n69\n\n\nYurii Zykov\n37\n31\n \n \n68\n\n\nPaul McCaughey\n38\n30\n \n \n68\n\n\nAndrei Smetckii\n33\n35\n \n \n68\n\n\nBarry Kirk\n33\n35\n \n \n68\n\n\nAlasdair MacLean\n35\n32\n \n \n67\n\n\nAndy Harris\n32\n34\n \n \n66\n\n\nShuj Datoo\n30\n33\n \n \n63\n\n\nSvetlana Kripaytite\n35\n27\n \n \n62\n\n\nYury Buchnev\n32\n30\n \n \n62\n\n\nSteve Rodgers\n28\n33\n \n \n61\n\n\nJohn Dellow\n33\n24\n \n \n57\n\n\nVladimir Koshman\n34\n22\n \n \n56\n\n\nRichard Nelms\n31\n25\n \n \n56\n\n\nJan Olsen\n27\n29\n \n \n56\n\n\nCaroline Dean\n26\n29\n \n \n55\n\n\nRoy Martinez\n23\n20\n \n \n43\n\n\nNiq Lauwaert\n \n41\n \n \n41\n\n\nStephen Melville\n \n40\n \n \n40\n\n\nPeter Jakobsson\n38\n \n \n \n38\n\n\nVladimir Borisov\n38\n \n \n \n38\n\n\nSteven Faull\n \n38\n \n \n38\n\n\nElena Mushta\n37\n \n \n \n37\n\n\nGöran Fritzell\n36\n \n \n \n36\n\n\nWill Haggon\n \n36\n \n \n36\n\n\nFrank Hourican\n35\n \n \n \n35\n\n\nNeil McLeoad\n \n35\n \n \n35\n\n\nJohn Roethling\n \n34\n \n \n34\n\n\nEric Ingvarson\n \n34\n \n \n34\n\n\nCarolyn Ball\n \n33\n \n \n33\n\n\nDimitry Mushta\n32\n \n \n \n32\n\n\nHoward Collins\n \n32\n \n \n32\n\n\nRon Brayson\n31\n \n \n \n31\n\n\nVladimir Bakuteev\n \n31\n \n \n31\n\n\nBrian Binstock\n29\n \n \n \n29\n\n\nAnn-Charlotte Frank Lindgren\n27\n \n \n \n27\n\n\nPietro Hershman\n26\n \n \n \n26\n\n\nBob Carvell\n20\n \n \n \n20
URL:https://golfthecosta.com/event/spence-clarke-co-weekly-league-17-2018-07-12/
LOCATION:El Paraiso Golf Club\, Urb. El Paraiso\, Ctra de Cádiz\, km 167\,\, Estepona\, Malaga\, 29680\, Spain
ATTACH;FMTTYPE=image/jpeg:https://golfthecosta.com/wp-content/uploads/2017/12/SpenceClarkeLogo.jpg
ORGANIZER;CN="Golf The Costa":MAILTO:info@www.golfthecosta.com
GEO:36.476586;-5.034811
X-APPLE-STRUCTURED-LOCATION;VALUE=URI;X-ADDRESS=El Paraiso Golf Club Urb. El Paraiso Ctra de Cádiz km 167 Estepona Malaga 29680 Spain;X-APPLE-RADIUS=500;X-TITLE=Urb. El Paraiso\, Ctra de Cádiz\, km 167\,:geo:-5.034811,36.476586
END:VEVENT
BEGIN:VEVENT
DTSTART;TZID=Europe/Madrid:20180719T093000
DTEND;TZID=Europe/Madrid:20180719T170000
DTSTAMP:20260425T013154
CREATED:20180120T132806Z
LAST-MODIFIED:20220909T130806Z
UID:10000011-1531992600-1532019600@golfthecosta.com
SUMMARY:Spence Clarke & Co Weekly League
DESCRIPTION:Weekly League Table for July 2018 \nCategory 1          Category 2\n Winner               Winner\n Runner-Up        Runner-Up\n Third Place       Third place \nIf there is an insufficient number of players to split the categories\nthen prizes will be awarded for 1st\, 2nd and 3rd places and shown on    the table as follows:    Winner  Runner-Up   Third Place \n    The winners of the monthly league prizes are shown as follows:\n    Mens    Ladies \n\n\n\n\nPlayer\n05-Jul\n12-Jul\n19-Jul\n26-Jul\nBest 2\nScores\n\n\n\n\nPhil Loughton\n36\n40\n38\n \n78\n\n\nPeter Jakobsson\n38\n \n35\n \n73\n\n\nNeil McLeoad\n \n35\n36\n \n71\n\n\nEric Ingvarson\n \n34\n37\n \n71\n\n\nRoy Dean\n35\n34\n35\n \n70\n\n\nAlasdair MacLean\n35\n32\n35\n \n70\n\n\nSergey Kuznetsov\n32\n37\n \n \n69\n\n\nPaul McCaughey\n38\n30\n31\n \n69\n\n\nYurii Zykov\n37\n31\n \n \n68\n\n\nAndrei Smetckii\n33\n35\n28\n \n68\n\n\nBarry Kirk\n33\n35\n32\n \n68\n\n\nCarolyn Ball\n \n33\n35\n \n68\n\n\nSteven Faull\n \n38\n29\n \n67\n\n\nAndy Harris\n32\n34\n31\n \n66\n\n\nHoward Collins\n \n32\n34\n \n66\n\n\nNiq Lauwaert\n \n41\n23\n \n64\n\n\nShuj Datoo\n30\n33\n28\n \n63\n\n\nSteve Rodgers\n28\n33\n30\n \n63\n\n\nSvetlana Kripaytite\n35\n27\n \n \n62\n\n\nYury Buchnev\n32\n30\n \n \n62\n\n\nJohn Dellow\n33\n24\n29\n \n62\n\n\nVladimir Koshman\n34\n22\n26\n \n60\n\n\nJan Olsen\n27\n29\n29\n \n58\n\n\nCaroline Dean\n26\n29\n29\n \n58\n\n\nRichard Nelms\n31\n25\n23\n \n56\n\n\nRoy Martinez\n23\n20\n24\n \n47\n\n\nStuart Williams\n \n \n41\n \n41\n\n\nStephen Melville\n \n40\n \n \n40\n\n\nVladimir Borisov\n38\n \n \n \n38\n\n\nElena Mushta\n37\n \n \n \n37\n\n\nGöran Fritzell\n36\n \n \n \n36\n\n\nWill Haggon\n \n36\n \n \n36\n\n\nRichard Zuhlke\n \n \n36\n \n36\n\n\nFrank Hourican\n35\n \n \n \n35\n\n\nJohn Roethling\n \n34\n \n \n34\n\n\nDavid Walker\n \n \n33\n \n33\n\n\nDimitry Mushta\n32\n \n \n \n32\n\n\nJohn Moran\n \n \n32\n \n32\n\n\nRon Brayson\n31\n \n \n \n31\n\n\nVladimir Bakuteev\n \n31\n \n \n31\n\n\nMark Bruce\n \n \n31\n \n31\n\n\nBrian Binstock\n29\n \n \n \n29\n\n\nTony Collier\n \n \n29\n \n29\n\n\nSam Chapman\n \n \n29\n \n29\n\n\nAnn-Charlotte Frank Lindgren\n27\n \n \n \n27\n\n\nScott Graham\n \n \n27\n \n27\n\n\nNorman Healey\n \n \n27\n \n27\n\n\nPietro Hershman\n26\n \n \n \n26\n\n\nAllan Kong\n \n \n26\n \n26\n\n\nBob Carvell\n20\n \n \n \n20
URL:https://golfthecosta.com/event/spence-clarke-co-weekly-league-17-2018-07-19/
LOCATION:El Paraiso Golf Club\, Urb. El Paraiso\, Ctra de Cádiz\, km 167\,\, Estepona\, Malaga\, 29680\, Spain
ATTACH;FMTTYPE=image/jpeg:https://golfthecosta.com/wp-content/uploads/2017/12/SpenceClarkeLogo.jpg
ORGANIZER;CN="Golf The Costa":MAILTO:info@www.golfthecosta.com
GEO:36.476586;-5.034811
X-APPLE-STRUCTURED-LOCATION;VALUE=URI;X-ADDRESS=El Paraiso Golf Club Urb. El Paraiso Ctra de Cádiz km 167 Estepona Malaga 29680 Spain;X-APPLE-RADIUS=500;X-TITLE=Urb. El Paraiso\, Ctra de Cádiz\, km 167\,:geo:-5.034811,36.476586
END:VEVENT
BEGIN:VEVENT
DTSTART;TZID=Europe/Madrid:20180726T090000
DTEND;TZID=Europe/Madrid:20180726T170000
DTSTAMP:20260425T013154
CREATED:20180120T132806Z
LAST-MODIFIED:20220909T130755Z
UID:10000012-1532595600-1532624400@golfthecosta.com
SUMMARY:Spence Clarke & Co Weekly League
DESCRIPTION:Weekly League Table for July 2018 \nCategory 1          Category 2\n Winner               Winner\n Runner-Up        Runner-Up\n Third Place       Third place \nIf there is an insufficient number of players to split the categories\nthen prizes will be awarded for 1st\, 2nd and 3rd places and shown on    the table as follows:    Winner  Runner-Up   Third Place \n    The winners of the monthly league prizes are shown as follows:\n    Mens    Ladies \n\n\n\n\nPlayer\n05-Jul\n12-Jul\n19-Jul\n26-Jul\nBest 2\nScores\n\n\n\n\nPhil Loughton\n36\n40\n38\n25\n78\n\n\nPeter Jakobsson\n38\n \n35\n35\n73\n\n\nPaul McCaughey\n38\n30\n31\n34\n72\n\n\nNeil McLeod\n \n35\n36\n32\n71\n\n\nEric Ingvarson\n \n34\n37\n \n71\n\n\nStuart Williams\n \n \n41\n30\n71\n\n\nRoy Dean\n35\n34\n35\n \n70\n\n\nAlasdair MacLean\n35\n32\n35\n \n70\n\n\nAndrei Smetckii\n33\n35\n28\n35\n70\n\n\nSergey Kuznetsov\n32\n37\n \n \n69\n\n\nYurii Zykov\n37\n31\n \n \n68\n\n\nBarry Kirk\n33\n35\n32\n31\n68\n\n\nCarolyn Ball\n \n33\n35\n27\n68\n\n\nSteven Faull\n \n38\n29\n27\n67\n\n\nShuj Datoo\n30\n33\n28\n34\n67\n\n\nJohn Dellow\n33\n24\n29\n34\n67\n\n\nAndy Harris\n32\n34\n31\n \n66\n\n\nHoward Collins\n \n32\n34\n \n66\n\n\nNiq Lauwaert\n \n41\n23\n16\n64\n\n\nSteve Rodgers\n28\n33\n30\n \n63\n\n\nDavid Walker\n \n \n33\n30\n63\n\n\nSvetlana Kripaytite\n35\n27\n \n \n62\n\n\nYury Buchnev\n32\n30\n \n \n62\n\n\nVladimir Koshman\n34\n22\n26\n27\n61\n\n\nMark Bruce\n \n \n31\n30\n61\n\n\nJan Olsen\n27\n29\n29\n28\n58\n\n\nCaroline Dean\n26\n29\n29\n \n58\n\n\nStephen Melville\n \n40\n \n18\n58\n\n\nRichard Nelms\n31\n25\n23\n20\n56\n\n\nNorman Healey\n \n \n27\n29\n56\n\n\nTony Collier\n \n \n29\n23\n52\n\n\nAllan Kong\n \n \n26\n23\n49\n\n\nRoy Martinez\n23\n20\n24\n \n47\n\n\nVladimir Borisov\n38\n \n \n \n38\n\n\nJohn Moran\n \n \n \n38\n38\n\n\nMiles Yeatman\n \n \n \n38\n38\n\n\nElena Mushta\n37\n \n \n \n37\n\n\nGöran Fritzell\n36\n \n \n \n36\n\n\nWill Haggon\n \n36\n \n \n36\n\n\nRichard Zuhlke\n \n \n36\n \n36\n\n\nFrank Hourican\n35\n \n \n \n35\n\n\nJohn Roethling\n \n34\n \n \n34\n\n\nReinhard Friedrich\n \n \n \n34\n34\n\n\nDimitry Mushta\n32\n \n \n \n32\n\n\nJohn Moran\n \n \n32\n \n32\n\n\nRyan Canning\n \n \n \n32\n32\n\n\nRon Brayson\n31\n \n \n \n31\n\n\nVladimir Bakuteev\n \n31\n \n \n31\n\n\nBrian Binstock\n29\n \n \n \n29\n\n\nSam Chapman\n \n \n29\n \n29\n\n\nAnn-Charlotte Frank Lindgren\n27\n \n \n \n27\n\n\nScott Graham\n \n \n27\n \n27\n\n\nPietro Hershman\n26\n \n \n \n26\n\n\nAlex Vershihin\n \n \n \n25\n25\n\n\nDamien Woods\n \n \n \n24\n24\n\n\nKyle Weston\n \n \n \n22\n22\n\n\nRoland Jackson\n \n \n \n21\n21\n\n\nBob Carvell\n20\n \n \n \n20
URL:https://golfthecosta.com/event/spence-clarke-co-weekly-league-17-2018-07-26/
LOCATION:Atalaya Golf & Country Club\, Carretera de Benahavis\, Km. 0.7\, Estepona\, Málaga\, 29688\, Spain
ATTACH;FMTTYPE=image/jpeg:https://golfthecosta.com/wp-content/uploads/2017/12/SpenceClarkeLogo.jpg
ORGANIZER;CN="Golf The Costa":MAILTO:info@www.golfthecosta.com
GEO:36.4718889;-5.0113755
X-APPLE-STRUCTURED-LOCATION;VALUE=URI;X-ADDRESS=Atalaya Golf & Country Club Carretera de Benahavis Km. 0.7 Estepona Málaga 29688 Spain;X-APPLE-RADIUS=500;X-TITLE=Carretera de Benahavis\, Km. 0.7:geo:-5.0113755,36.4718889
END:VEVENT
END:VCALENDAR