BEGIN:VCALENDAR
VERSION:2.0
PRODID:-// - ECPv6.15.20//NONSGML v1.0//EN
CALSCALE:GREGORIAN
METHOD:PUBLISH
X-ORIGINAL-URL:https://golfthecosta.com
X-WR-CALDESC:Events for 
REFRESH-INTERVAL;VALUE=DURATION:PT1H
X-Robots-Tag:noindex
X-PUBLISHED-TTL:PT1H
BEGIN:VTIMEZONE
TZID:Europe/Madrid
BEGIN:DAYLIGHT
TZOFFSETFROM:+0100
TZOFFSETTO:+0200
TZNAME:CEST
DTSTART:20170326T010000
END:DAYLIGHT
BEGIN:STANDARD
TZOFFSETFROM:+0200
TZOFFSETTO:+0100
TZNAME:CET
DTSTART:20171029T010000
END:STANDARD
BEGIN:DAYLIGHT
TZOFFSETFROM:+0100
TZOFFSETTO:+0200
TZNAME:CEST
DTSTART:20180325T010000
END:DAYLIGHT
BEGIN:STANDARD
TZOFFSETFROM:+0200
TZOFFSETTO:+0100
TZNAME:CET
DTSTART:20181028T010000
END:STANDARD
BEGIN:DAYLIGHT
TZOFFSETFROM:+0100
TZOFFSETTO:+0200
TZNAME:CEST
DTSTART:20190331T010000
END:DAYLIGHT
BEGIN:STANDARD
TZOFFSETFROM:+0200
TZOFFSETTO:+0100
TZNAME:CET
DTSTART:20191027T010000
END:STANDARD
END:VTIMEZONE
BEGIN:VEVENT
DTSTART;TZID=Europe/Madrid:20180802T083000
DTEND;TZID=Europe/Madrid:20180802T170000
DTSTAMP:20260424T235253
CREATED:20180121T101456Z
LAST-MODIFIED:20220909T130743Z
UID:10000027-1533198600-1533229200@golfthecosta.com
SUMMARY:Spence Clarke & Co Weekly League
DESCRIPTION:Weekly League Table for August 2018 \nCategory 1          Category 2\n Winner               Winner\n Runner-Up        Runner-Up\n Third Place       Third place \nIf there is an insufficient number of players to split the categories\nthen prizes will be awarded for 1st\, 2nd and 3rd places and shown on    the table as follows:    Winner  Runner-Up   Third Place \n    The winners of the monthly league prizes are shown as follows:\n    Mens    Ladies \n\n\n\n\nPlayer\n02-Aug\n09-Aug\n23-Aug\n30-Aug\nBest 2\nScores\n\n\n\n\nRyan Canning\n 38\n \n \n \n38\n\n\nMiles Yeatman\n38\n \n \n \n38\n\n\nShuj Datoo\n37\n \n \n \n37\n\n\nStuart Williams\n36\n \n \n \n36\n\n\nHoward Collins\n35\n \n \n \n35\n\n\nHelge Vegans\n34\n \n \n \n34\n\n\nBarry Kirk\n34\n \n \n \n34\n\n\nJohn Roethling\n34\n \n \n \n34\n\n\nScott Graham\n33\n \n \n \n33\n\n\nCarsten Skoube\n32\n \n \n \n32\n\n\nMike Houston\n32\n \n \n \n32\n\n\nSven Eckert\n31\n \n \n \n31\n\n\nPhil Loughton\n31\n \n \n \n31\n\n\nSteven Faull\n30\n \n \n \n30\n\n\nCarolyn Ball\n30\n \n \n \n30\n\n\nDes McGhee\n30\n \n \n \n30\n\n\nAlan White\n30\n \n \n \n30\n\n\nAndy Harris\n29\n \n \n \n29\n\n\nJohn Moran\n29\n \n \n \n29\n\n\nRichard Nelms\n29\n \n \n \n29\n\n\nRoy Martinez\n28\n \n \n \n28\n\n\nDamien Woods\n28\n \n \n \n28\n\n\nAlexey Vershinin\n28\n \n \n \n28\n\n\nMike Christophers\n27\n \n \n \n27\n\n\nAndrei Smetckii\n27\n \n \n \n27\n\n\nRon Brayson\n27\n \n \n \n27\n\n\nNeil McLeod\n27\n \n \n \n27\n\n\nRoland Jackson\n26\n \n \n \n26\n\n\nYngve vegans\n25\n \n \n \n25\n\n\nJan Olsen\n24\n \n \n \n24\n\n\nAllan Kong\n24\n \n \n \n24\n\n\nStephen Melville\n23\n \n \n \n23
URL:https://golfthecosta.com/event/spence-clarke-co-weekly-league-18/
LOCATION:El Paraiso Golf Club\, Urb. El Paraiso\, Ctra de Cádiz\, km 167\,\, Estepona\, Malaga\, 29680\, Spain
ATTACH;FMTTYPE=image/jpeg:https://golfthecosta.com/wp-content/uploads/2017/12/SpenceClarkeLogo.jpg
ORGANIZER;CN="Golf The Costa":MAILTO:info@www.golfthecosta.com
GEO:36.476586;-5.034811
X-APPLE-STRUCTURED-LOCATION;VALUE=URI;X-ADDRESS=El Paraiso Golf Club Urb. El Paraiso Ctra de Cádiz km 167 Estepona Malaga 29680 Spain;X-APPLE-RADIUS=500;X-TITLE=Urb. El Paraiso\, Ctra de Cádiz\, km 167\,:geo:-5.034811,36.476586
END:VEVENT
BEGIN:VEVENT
DTSTART;TZID=Europe/Madrid:20180809T083000
DTEND;TZID=Europe/Madrid:20180809T170000
DTSTAMP:20260424T235253
CREATED:20180121T101456Z
LAST-MODIFIED:20220909T130733Z
UID:10000026-1533803400-1533834000@golfthecosta.com
SUMMARY:Spence Clarke & Co Weekly League
DESCRIPTION:Weekly League Table for August 2018 \nCategory 1          Category 2\n Winner               Winner\n Runner-Up        Runner-Up\n Third Place       Third place \nIf there is an insufficient number of players to split the categories\nthen prizes will be awarded for 1st\, 2nd and 3rd places and shown on    the table as follows:    Winner  Runner-Up   Third Place \n    The winners of the monthly league prizes are shown as follows:\n    Mens    Ladies \n\n\n\n\nPlayer\n02-Aug\n09-Aug\n23-Aug\n30-Aug\nBest 2\nScores\n\n\n\n\nShuj Datoo\n37\n34\n \n \n71\n\n\nHoward Collins\n35\n36\n \n \n71\n\n\nMike Houston\n32\n39\n \n \n71\n\n\nSteven Faull\n30\n36\n \n \n66\n\n\nStuart Williams\n36\n29\n \n \n65\n\n\nScott Graham\n33\n32\n \n \n65\n\n\nJohn Moran\n29\n34\n \n \n63\n\n\nBarry Kirk\n34\n27\n \n \n61\n\n\nJan Olsen\n24\n37\n \n \n61\n\n\nCarsten Skoube\n32\n28\n \n \n60\n\n\nAndrei Smetckii\n27\n31\n \n \n58\n\n\nPhil Loughton\n31\n26\n \n \n57\n\n\nAlan White\n30\n27\n \n \n57\n\n\nStephen Melville\n23\n26\n \n \n49\n\n\nAllan Kong\n24\n20\n \n \n44\n\n\nRyan Canning\n38\n \n \n \n38\n\n\nMiles Yeatman\n38\n \n \n \n38\n\n\nStephen Ashurst\n \n36\n \n \n36\n\n\nHelge Vegans\n34\n \n \n \n34\n\n\nJohn Roethling\n34\n \n \n \n34\n\n\nPeter Jakobsson\n \n34\n \n \n34\n\n\nLeslie Weaver\n \n34\n \n \n34\n\n\nSven Eckert\n31\n \n \n \n31\n\n\nCarolyn Ball\n30\n \n \n \n30\n\n\nDes McGhee\n30\n \n \n \n30\n\n\nMark Bruce\n \n30\n \n \n30\n\n\nAndy Harris\n29\n \n \n \n29\n\n\nRichard Nelms\n29\n \n \n \n29\n\n\nRoy Martinez\n28\n \n \n \n28\n\n\nDamien Woods\n28\n \n \n \n28\n\n\nAlexey Vershinin\n28\n \n \n \n28\n\n\nMike Christophers\n27\n \n \n \n27\n\n\nRon Brayson\n27\n \n \n \n27\n\n\nNeil McLeod\n27\n \n \n \n27\n\n\nRoland Jackson\n26\n \n \n \n26\n\n\nSteve Richardson\n \n26\n \n \n26\n\n\nTony Gardner\n \n26\n \n \n26\n\n\nYngve vegans\n25\n \n \n \n25\n\n\nDan Keeble\n \n24\n \n \n24
URL:https://golfthecosta.com/event/spence-clarke-co-weekly-league-18-2018-08-09/
LOCATION:El Paraiso Golf Club\, Urb. El Paraiso\, Ctra de Cádiz\, km 167\,\, Estepona\, Malaga\, 29680\, Spain
ATTACH;FMTTYPE=image/jpeg:https://golfthecosta.com/wp-content/uploads/2017/12/SpenceClarkeLogo.jpg
ORGANIZER;CN="Golf The Costa":MAILTO:info@www.golfthecosta.com
GEO:36.476586;-5.034811
X-APPLE-STRUCTURED-LOCATION;VALUE=URI;X-ADDRESS=El Paraiso Golf Club Urb. El Paraiso Ctra de Cádiz km 167 Estepona Malaga 29680 Spain;X-APPLE-RADIUS=500;X-TITLE=Urb. El Paraiso\, Ctra de Cádiz\, km 167\,:geo:-5.034811,36.476586
END:VEVENT
BEGIN:VEVENT
DTSTART;TZID=Europe/Madrid:20180816T090000
DTEND;TZID=Europe/Madrid:20180816T170000
DTSTAMP:20260424T235253
CREATED:20180630T140643Z
LAST-MODIFIED:20220909T130722Z
UID:10000055-1534410000-1534438800@golfthecosta.com
SUMMARY:Pairs Better-Ball Event
DESCRIPTION:A fun day for all who participated. The results of the competition are shown in the table below.\nThe winners were Ron Brayson and Stuart Williams (on countback)\nThe runners-up were John Moran and Alan White \n\n\n\n\nTeam\nScore\n\n\n\n\nRon Brayson\nStuart Williams\n45\n\n\nAlan White\nJohn Moran\n45\n\n\nEllen Bakker\nMenno Bakker\n44\n\n\nMark Bruce\nShuj Datoo\n43\n\n\nAndrei Smetckii\nAllan Kong\n42\n\n\nPhil Loughton\nJan Olsen\n40\n\n\nJohn Shannon\nCraig Currie\n39\n\n\nBernie Crewdsen\nBarry Kirk\n37\n\n\nPeter Jakobsson\nAndy Harris\n37\n\n\nChris Keenan\nDexter Keenan\n35\n\n\nLaura Trova\nMariangela De Cesare\n33\n\n\nSteven Faull\nRoy Martinez\n29
URL:https://golfthecosta.com/event/elvis-tribute-charity-golf-day/
LOCATION:El Paraiso Golf Club\, Urb. El Paraiso\, Ctra de Cádiz\, km 167\,\, Estepona\, Malaga\, 29680\, Spain
ORGANIZER;CN="Golf The Costa":MAILTO:info@www.golfthecosta.com
GEO:36.476586;-5.034811
X-APPLE-STRUCTURED-LOCATION;VALUE=URI;X-ADDRESS=El Paraiso Golf Club Urb. El Paraiso Ctra de Cádiz km 167 Estepona Malaga 29680 Spain;X-APPLE-RADIUS=500;X-TITLE=Urb. El Paraiso\, Ctra de Cádiz\, km 167\,:geo:-5.034811,36.476586
END:VEVENT
BEGIN:VEVENT
DTSTART;TZID=Europe/Madrid:20180823T083000
DTEND;TZID=Europe/Madrid:20180823T170000
DTSTAMP:20260424T235253
CREATED:20180121T101456Z
LAST-MODIFIED:20220909T130712Z
UID:10000025-1535013000-1535043600@golfthecosta.com
SUMMARY:Spence Clarke & Co Weekly League
DESCRIPTION:Weekly League Table for August 2018 \nCategory 1          Category 2\n Winner               Winner\n Runner-Up        Runner-Up\n Third Place       Third place \nIf there is an insufficient number of players to split the categories\nthen prizes will be awarded for 1st\, 2nd and 3rd places and shown on    the table as follows:    Winner  Runner-Up   Third Place \n    The winners of the monthly league prizes are shown as follows:\n    Mens    Ladies \n\n\n\n\nPlayer\n02-Aug\n09-Aug\n23-Aug\n30-Aug\nBest 2\nScores\n\n\n\n\nShuj Datoo\n37\n34\n39\n \n76\n\n\nStuart Williams\n36\n29\n38\n \n74\n\n\nHoward Collins\n35\n36\n \n \n71\n\n\nMike Houston\n32\n39\n \n \n71\n\n\nBarry Kirk\n34\n27\n37\n \n71\n\n\nPeter Jakobsson\n \n34\n35\n \n69\n\n\nSteven Faull\n30\n36\n \n \n66\n\n\nPhil Loughton\n31\n26\n35\n \n66\n\n\nStephen Ashurst\n \n36\n29\n \n65\n\n\nScott Graham\n33\n32\n \n \n65\n\n\nAndrei Smetckii\n27\n31\n33\n \n64\n\n\nJohn Moran\n29\n34\n25\n \n63\n\n\nJan Olsen\n24\n37\n \n \n61\n\n\nCarsten Skoube\n32\n28\n \n \n60\n\n\nAlan White\n30\n27\n27\n \n57\n\n\nRoy Martinez\n28\n \n28\n \n56\n\n\nAndy Harris\n29\n \n26\n \n55\n\n\nStephen Melville\n23\n26\n \n \n49\n\n\nAllan Kong\n24\n20\n20\n \n44\n\n\nRyan Canning\n38\n \n \n \n38\n\n\nMiles Yeatman\n38\n \n \n \n38\n\n\nSergey Gayduk\n \n \n38\n \n38\n\n\nYuriy Zykov\n \n \n37\n \n37\n\n\nHelge Vegans\n34\n \n \n \n34\n\n\nJohn Roethling\n34\n \n \n \n34\n\n\nLeslie Weaver\n \n34\n \n \n34\n\n\nSergey Kuznetsov\n \n \n34\n \n34\n\n\nAndy Eames\n \n \n34\n \n34\n\n\nSven Eckert\n31\n \n \n \n31\n\n\nCarolyn Ball\n30\n \n \n \n30\n\n\nDes McGhee\n30\n \n \n \n30\n\n\nMark Bruce\n \n30\n \n \n30\n\n\nWayne Shillito\n \n \n30\n \n30\n\n\nRichard Nelms\n29\n \n \n \n29\n\n\nDamien Woods\n28\n \n \n \n28\n\n\nAlexey Vershinin\n28\n \n \n \n28\n\n\nSvetlana Kuznetsova\n \n \n28\n \n28\n\n\nPaul McCaughey\n \n \n28\n \n28\n\n\nMike Christophers\n27\n \n \n \n27\n\n\nRon Brayson\n27\n \n \n \n27\n\n\nNeil McLeod\n27\n \n \n \n27\n\n\nRoland Jackson\n26\n \n \n \n26\n\n\nSteve Richardson\n \n26\n \n \n26\n\n\nTony Gardner\n \n26\n \n \n26\n\n\nGeroge Petch\n \n \n26\n \n26\n\n\nYngve vegans\n25\n \n \n \n25\n\n\nDan Keeble\n \n24\n \n \n24\n\n\nDmitry Dubrovsky\n \n \n24\n \n24\n\n\nEdward Medina\n \n \n23\n \n23\n\n\nChris Keenan\n \n \n21\n \n21\n\n\nBob Carvell\n \n \n21\n \n21\n\n\nBjorn Bjartad\n \n \n20\n \n20
URL:https://golfthecosta.com/event/spence-clarke-co-weekly-league-18-2018-08-23/
LOCATION:El Paraiso Golf Club\, Urb. El Paraiso\, Ctra de Cádiz\, km 167\,\, Estepona\, Malaga\, 29680\, Spain
ATTACH;FMTTYPE=image/jpeg:https://golfthecosta.com/wp-content/uploads/2017/12/SpenceClarkeLogo.jpg
ORGANIZER;CN="Golf The Costa":MAILTO:info@www.golfthecosta.com
GEO:36.476586;-5.034811
X-APPLE-STRUCTURED-LOCATION;VALUE=URI;X-ADDRESS=El Paraiso Golf Club Urb. El Paraiso Ctra de Cádiz km 167 Estepona Malaga 29680 Spain;X-APPLE-RADIUS=500;X-TITLE=Urb. El Paraiso\, Ctra de Cádiz\, km 167\,:geo:-5.034811,36.476586
END:VEVENT
BEGIN:VEVENT
DTSTART;TZID=Europe/Madrid:20180830T093000
DTEND;TZID=Europe/Madrid:20180830T170000
DTSTAMP:20260424T235253
CREATED:20180121T102402Z
LAST-MODIFIED:20220909T130702Z
UID:10000024-1535621400-1535648400@golfthecosta.com
SUMMARY:Spence Clarke & Co Weekly League
DESCRIPTION:Weekly League Table for August 2018 \nCategory 1          Category 2\n Winner               Winner\n Runner-Up        Runner-Up\n Third Place       Third place \nIf there is an insufficient number of players to split the categories\nthen prizes will be awarded for 1st\, 2nd and 3rd places and shown on    the table as follows:    Winner  Runner-Up   Third Place \n    The winners of the monthly league prizes are shown as follows:\n    Mens    Ladies \n\n\n\n\nPlayer\n02-Aug\n09-Aug\n23-Aug\n30-Aug\nBest 2\nScores\n\n\n\n\nShuj Datoo\n37\n34\n39\n30\n76\n\n\nStuart Williams\n36\n29\n38\n31\n74\n\n\nHoward Collins\n35\n36\n \n \n71\n\n\nMike Houston\n32\n39\n \n \n71\n\n\nBarry Kirk\n34\n27\n37\n28\n71\n\n\nPeter Jakobsson\n \n34\n35\n27\n69\n\n\nAndy Eames\n \n \n34\n33\n67\n\n\nSteven Faull\n30\n36\n \n \n66\n\n\nPhil Loughton\n31\n26\n35\n27\n66\n\n\nStephen Ashurst\n \n36\n29\n24\n65\n\n\nScott Graham\n33\n32\n \n \n65\n\n\nAndrei Smetckii\n27\n31\n33\n \n64\n\n\nJohn Moran\n29\n34\n25\n28\n63\n\n\nSvetlana Kuznetsova\n \n \n28\n35\n63\n\n\nJan Olsen\n24\n37\n \n \n61\n\n\nCarsten Skoube\n32\n28\n \n \n60\n\n\nSergey Kuznetsov\n \n \n34\n26\n60\n\n\nWayne Shillito\n \n \n30\n29\n59\n\n\nPaul McCaughey\n \n \n28\n31\n59\n\n\nAlan White\n30\n27\n27\n12\n57\n\n\nRoy Martinez\n28\n \n28\n16\n56\n\n\nAndy Harris\n29\n \n26\n21\n55\n\n\nMark Bruce\n \n30\n \n23\n53\n\n\nAllan Kong\n24\n20\n20\n26\n50\n\n\nStephen Melville\n23\n26\n \n \n49\n\n\nRyan Canning\n38\n \n \n \n38\n\n\nMiles Yeatman\n38\n \n \n \n38\n\n\nSergey Gayduk\n \n \n38\n \n38\n\n\nYuriy Zykov\n \n \n37\n \n37\n\n\nRichard Noble\n \n \n \n35\n35\n\n\nHelge Vegans\n34\n \n \n \n34\n\n\nJohn Roethling\n34\n \n \n \n34\n\n\nLeslie Weaver\n \n34\n \n \n34\n\n\nSven Eckert\n31\n \n \n \n31\n\n\nCarolyn Ball\n30\n \n \n \n30\n\n\nDes McGhee\n30\n \n \n \n30\n\n\nRichard Nelms\n29\n \n \n \n29\n\n\nMark Willmore\n \n \n \n29\n29\n\n\nDamien Woods\n28\n \n \n \n28\n\n\nAlexey Vershinin\n28\n \n \n \n28\n\n\nSteve Hill\n \n \n \n28\n28\n\n\nSvetlana Kripaytite\n \n \n \n28\n28\n\n\nSteve Asplet\n \n \n \n28\n28\n\n\nMike Christophers\n27\n \n \n \n27\n\n\nRon Brayson\n27\n \n \n \n27\n\n\nNeil McLeod\n27\n \n \n \n27\n\n\nCaroline Dean\n \n \n \n27\n27\n\n\nRoland Jackson\n26\n \n \n \n26\n\n\nSteve Richardson\n \n26\n \n \n26\n\n\nTony Gardner\n \n26\n \n \n26\n\n\nGeroge Petch\n \n \n26\n \n26\n\n\nGary Primeau\n \n \n \n26\n26\n\n\nYngve vegans\n25\n \n \n \n25\n\n\nDan Keeble\n \n24\n \n \n24\n\n\nDmitry Dubrovsky\n \n \n24\n \n24\n\n\nMick Grigg\n \n \n \n24\n24\n\n\nEdward Medina\n \n \n23\n \n23\n\n\nAlex Emelichev\n \n \n \n23\n23\n\n\nRoy Dean\n \n \n \n22\n22\n\n\nChris Keenan\n \n \n21\n \n21\n\n\nBob Carvell\n \n \n21\n \n21\n\n\nBjorn Bjartad\n \n \n20\n \n20\n\n\nYuri Buchnev\n \n \n \n19\n19
URL:https://golfthecosta.com/event/spence-clarke-co-weekly-league-19/
LOCATION:Mijas Golf Club\, Avenida Louison Bobet Urb Mijas Golf\,\, Las Lagunas de Mijas\, Malaga\, 29650\, Spain
ATTACH;FMTTYPE=image/jpeg:https://golfthecosta.com/wp-content/uploads/2017/12/SpenceClarkeLogo.jpg
ORGANIZER;CN="Golf The Costa":MAILTO:info@www.golfthecosta.com
GEO:36.55049;-4.66615
X-APPLE-STRUCTURED-LOCATION;VALUE=URI;X-ADDRESS=Mijas Golf Club Avenida Louison Bobet Urb Mijas Golf Las Lagunas de Mijas Malaga 29650 Spain;X-APPLE-RADIUS=500;X-TITLE=Avenida Louison Bobet Urb Mijas Golf\,:geo:-4.66615,36.55049
END:VEVENT
END:VCALENDAR