BEGIN:VCALENDAR
VERSION:2.0
PRODID:-// - ECPv6.15.20//NONSGML v1.0//EN
CALSCALE:GREGORIAN
METHOD:PUBLISH
X-ORIGINAL-URL:https://golfthecosta.com
X-WR-CALDESC:Events for 
REFRESH-INTERVAL;VALUE=DURATION:PT1H
X-Robots-Tag:noindex
X-PUBLISHED-TTL:PT1H
BEGIN:VTIMEZONE
TZID:Europe/Madrid
BEGIN:DAYLIGHT
TZOFFSETFROM:+0100
TZOFFSETTO:+0200
TZNAME:CEST
DTSTART:20170326T010000
END:DAYLIGHT
BEGIN:STANDARD
TZOFFSETFROM:+0200
TZOFFSETTO:+0100
TZNAME:CET
DTSTART:20171029T010000
END:STANDARD
BEGIN:DAYLIGHT
TZOFFSETFROM:+0100
TZOFFSETTO:+0200
TZNAME:CEST
DTSTART:20180325T010000
END:DAYLIGHT
BEGIN:STANDARD
TZOFFSETFROM:+0200
TZOFFSETTO:+0100
TZNAME:CET
DTSTART:20181028T010000
END:STANDARD
BEGIN:DAYLIGHT
TZOFFSETFROM:+0100
TZOFFSETTO:+0200
TZNAME:CEST
DTSTART:20190331T010000
END:DAYLIGHT
BEGIN:STANDARD
TZOFFSETFROM:+0200
TZOFFSETTO:+0100
TZNAME:CET
DTSTART:20191027T010000
END:STANDARD
END:VTIMEZONE
BEGIN:VEVENT
DTSTART;TZID=Europe/Madrid:20180906T090000
DTEND;TZID=Europe/Madrid:20180906T170000
DTSTAMP:20260424T221848
CREATED:20180121T130608Z
LAST-MODIFIED:20220909T130650Z
UID:10000020-1536224400-1536253200@golfthecosta.com
SUMMARY:Spence Clarke & Co Weekly League
DESCRIPTION:Weekly League Table for September 2018 \nCategory 1          Category 2\n Winner               Winner\n Runner-Up        Runner-Up\n Third Place       Third place \nIf there is an insufficient number of players to split the categories\nthen prizes will be awarded for 1st\, 2nd and 3rd places and shown on    the table as follows:    Winner  Runner-Up   Third Place \n    The winners of the monthly league prizes are shown as follows:\n    Mens    Ladies \n\n\n\n\nPlayer\n06-Sep\n13-Sep\n20-Sep\n27-Sep\nBest 2\nScores\n\n\n\n\nYury Buchnev\n37\n \n \n \n37\n\n\nPeter Jakobsson\n37\n \n \n \n37\n\n\nAndrei Smetckii\n34\n \n \n \n34\n\n\nSvetlana Kuznetsova\n32\n \n \n \n32\n\n\nHans Kraenzler\n32\n \n \n \n32\n\n\nRoy Dean\n32\n \n \n \n32\n\n\nAlistair Creevy\n30\n \n \n \n30\n\n\nSteve Rodgers\n28\n \n \n \n28\n\n\nMichael Houston\n26\n \n \n \n26\n\n\nVladimir Koshman\n25\n \n \n \n25\n\n\nSergey Kuznetsov\n23\n \n \n \n23\n\n\nMike Christophers\n23\n \n \n \n23\n\n\nShuj Datoo\n23\n \n \n \n23\n\n\nPhil Loughton\n23\n \n \n \n23\n\n\nRichard Nelms\n22\n \n \n \n22\n\n\nSvetlana Kripaytite\n22\n \n \n \n22\n\n\nColin Sparkes\n21\n \n \n \n21\n\n\nPaul McCaughey\n20\n \n \n \n20\n\n\nLorraine Sparkes\n19\n \n \n \n19\n\n\nCaroline Dean\n19\n \n \n \n19\n\n\nStephen Melville\n19\n \n \n \n19\n\n\nVladimir Borisov\n19\n \n \n \n19\n\n\nRon Brayson\n19\n \n \n \n19\n\n\nIrini Nikitina\n17\n \n \n \n17\n\n\nBob Carvell\n16\n \n \n \n16\n\n\nMartin Pascoe\n12\n \n \n \n12
URL:https://golfthecosta.com/event/spence-clarke-co-weekly-league-23/
LOCATION:Cabopino Golf Club\, Km. 194-5\, Urb. Artola Baja\, Marbella\, Malaga\, 29604\, Spain
ATTACH;FMTTYPE=image/jpeg:https://golfthecosta.com/wp-content/uploads/2017/12/SpenceClarkeLogo.jpg
ORGANIZER;CN="Golf The Costa":MAILTO:info@www.golfthecosta.com
GEO:36.4943407;-4.7425443
X-APPLE-STRUCTURED-LOCATION;VALUE=URI;X-ADDRESS=Cabopino Golf Club Km. 194-5 Urb. Artola Baja Marbella Malaga 29604 Spain;X-APPLE-RADIUS=500;X-TITLE=Km. 194-5\, Urb. Artola Baja:geo:-4.7425443,36.4943407
END:VEVENT
BEGIN:VEVENT
DTSTART;TZID=Europe/Madrid:20180913T083000
DTEND;TZID=Europe/Madrid:20180913T170000
DTSTAMP:20260424T221848
CREATED:20180121T125433Z
LAST-MODIFIED:20220909T130640Z
UID:10000023-1536827400-1536858000@golfthecosta.com
SUMMARY:Spence Clarke & Co Weekly League
DESCRIPTION:Weekly League Table for September 2018 \nCategory 1          Category 2\n Winner               Winner\n Runner-Up        Runner-Up\n Third Place       Third place \nIf there is an insufficient number of players to split the categories\nthen prizes will be awarded for 1st\, 2nd and 3rd places and shown on    the table as follows:    Winner  Runner-Up   Third Place \n    The winners of the monthly league prizes are shown as follows:\n    Mens    Ladies \n\n\n\n\nPlayer\n06-Sep\n13-Sep\n20-Sep\n27-Sep\nBest 2\nScores\n\n\n\n\nPeter Jakobsson\n37\n34\n \n \n71\n\n\nRoy Dean\n32\n34\n \n \n66\n\n\nSteve Rodgers\n28\n33\n \n \n61\n\n\nMichael Houston\n26\n35\n \n \n61\n\n\nSergey Kuznetsov\n23\n37\n \n \n60\n\n\nShuj Datoo\n23\n34\n \n \n57\n\n\nSvetlana Kripaytite\n22\n35\n \n \n57\n\n\nColin Sparkes\n21\n32\n \n \n53\n\n\nPhil Loughton\n23\n30\n \n \n53\n\n\nCaroline Dean\n19\n32\n \n \n51\n\n\nRichard Nelms\n22\n27\n \n \n49\n\n\nVladimir Borisov\n19\n28\n \n \n47\n\n\nStephen Melville\n19\n27\n \n \n46\n\n\nLorraine Sparkes\n19\n26\n \n \n45\n\n\nYuri Buchnev\n37\n \n \n \n37\n\n\nAndrei Smetckii\n34\n \n \n \n34\n\n\nBrian Murphy\n \n34\n \n \n34\n\n\nDavid Goodwin\n \n33\n \n \n33\n\n\nJim Cotter\n \n33\n \n \n33\n\n\nSvetlana Kuznetsova\n32\n \n \n \n32\n\n\nHans Kraenzler\n32\n \n \n \n32\n\n\nNigle Guy\n \n32\n \n \n32\n\n\nMark Bruce\n \n32\n \n \n32\n\n\nDamien Woods\n \n31\n \n \n31\n\n\nAlistair Creevy\n30\n \n \n \n30\n\n\nBarry Kirk\n \n29\n \n \n29\n\n\nSean Carney\n \n29\n \n \n29\n\n\nTony Collier\n \n28\n \n \n28\n\n\nDimitri Provodorov\n \n27\n \n \n27\n\n\nGerry Wilde\n \n27\n \n \n27\n\n\nAdrian High\n \n27\n \n \n27\n\n\nVladimir Koshman\n25\n \n \n \n25\n\n\nMartin Pascoe\n12\n12\n \n \n24\n\n\nMike Christophers\n23\n \n \n \n23\n\n\nJohn Campbell\n \n21\n \n \n21\n\n\nPaul McCaughey\n20\n \n \n \n20\n\n\nRon Brayson\n19\n \n \n \n19\n\n\nIrini Nikitina\n17\n \n \n \n17\n\n\nBob Carvell\n16\n \n \n \n16\n\n\nPeter Gorman\n \n14\n \n \n14
URL:https://golfthecosta.com/event/spence-clarke-co-weekly-league-20/
LOCATION:El Paraiso Golf Club\, Urb. El Paraiso\, Ctra de Cádiz\, km 167\,\, Estepona\, Malaga\, 29680\, Spain
ATTACH;FMTTYPE=image/jpeg:https://golfthecosta.com/wp-content/uploads/2017/12/SpenceClarkeLogo.jpg
ORGANIZER;CN="Golf The Costa":MAILTO:info@www.golfthecosta.com
GEO:36.476586;-5.034811
X-APPLE-STRUCTURED-LOCATION;VALUE=URI;X-ADDRESS=El Paraiso Golf Club Urb. El Paraiso Ctra de Cádiz km 167 Estepona Malaga 29680 Spain;X-APPLE-RADIUS=500;X-TITLE=Urb. El Paraiso\, Ctra de Cádiz\, km 167\,:geo:-5.034811,36.476586
END:VEVENT
BEGIN:VEVENT
DTSTART;TZID=Europe/Madrid:20180920T080000
DTEND;TZID=Europe/Madrid:20180920T170000
DTSTAMP:20260424T221848
CREATED:20180121T125711Z
LAST-MODIFIED:20220909T130630Z
UID:10000022-1537430400-1537462800@golfthecosta.com
SUMMARY:Spence Clarke & Co Weekly League
DESCRIPTION:Weekly League Table for September 2018 \nCategory 1          Category 2\n Winner               Winner\n Runner-Up        Runner-Up\n Third Place       Third place \nIf there is an insufficient number of players to split the categories\nthen prizes will be awarded for 1st\, 2nd and 3rd places and shown on    the table as follows:    Winner  Runner-Up   Third Place \n    The winners of the monthly league prizes are shown as follows:\n    Mens    Ladies \n\n\n\n\nPlayer\n06-Sep\n13-Sep\n20-Sep\n27-Sep\nBest 2\n\n\n\n\nPeter Jakobsson\n37\n34\n35\n \n72\n\n\nSvetlana Kripaytite\n22\n35\n35\n \n70\n\n\nRoy Dean\n32\n34\n34\n \n68\n\n\nPhil Loughton\n23\n30\n38\n \n68\n\n\nSteve Rodgers\n28\n33\n33\n \n66\n\n\nAndrei Smetckii\n34\n \n32\n \n66\n\n\nRichard Nelms\n22\n27\n38\n \n65\n\n\nDavid Goodwin\n \n33\n32\n \n65\n\n\nMark Bruce\n \n32\n33\n \n65\n\n\nCaroline Dean\n19\n32\n32\n \n64\n\n\nMichael Houston\n26\n35\n28\n \n63\n\n\nShuj Datoo\n23\n34\n29\n \n63\n\n\nSergey Kuznetsov\n23\n37\n \n \n60\n\n\nBarry Kirk\n \n29\n31\n \n60\n\n\nTony Collier\n \n28\n30\n \n58\n\n\nGerry Wilde\n \n27\n31\n \n58\n\n\nPaul McCaughey\n20\n \n37\n \n57\n\n\nDimitri Provodorov\n \n27\n29\n \n56\n\n\nStephen Melville\n19\n27\n28\n \n55\n\n\nColin Sparkes\n21\n32\n \n \n53\n\n\nAdrian High\n \n27\n26\n \n53\n\n\nJohn Campbell\n \n21\n32\n \n53\n\n\nVladimir Borisov\n19\n28\n \n \n47\n\n\nLorraine Sparkes\n19\n26\n \n \n45\n\n\nNorman Healey\n \n \n39\n \n39\n\n\nBob Grierson\n \n \n38\n \n38\n\n\nAndrey Shlykov\n \n \n38\n \n38\n\n\nYuri Buchnev\n37\n \n \n \n37\n\n\nNigel Rzemieriecki\n \n \n37\n \n37\n\n\nErika Pilgrim\n \n \n36\n \n36\n\n\nAlexandr Eltsov\n \n \n36\n \n36\n\n\nBrian Murphy\n \n34\n \n \n34\n\n\nAlex Emelichev\n \n \n34\n \n34\n\n\nJim Cotter\n \n33\n \n \n33\n\n\nTony Pilgrim\n \n \n33\n \n33\n\n\nSvetlana Kuznetsova\n32\n \n \n \n32\n\n\nHans Kraenzler\n32\n \n \n \n32\n\n\nNigel Guy\n \n32\n \n \n32\n\n\nDamien Woods\n \n31\n \n \n31\n\n\nKarina Budantseva\n \n \n30\n \n30\n\n\nAlistair Creevy\n30\n \n \n \n30\n\n\nJan Olsen\n \n \n30\n \n30\n\n\nDavid Cole\n \n \n30\n \n30\n\n\nSean Carney\n \n29\n \n \n29\n\n\nSimon Curle\n \n \n29\n \n29\n\n\nBob Robinson\n \n \n28\n \n28\n\n\nJohn Saville\n \n \n28\n \n28\n\n\nAlasdair MacLean\n \n \n28\n \n28\n\n\nAndy Harris\n \n \n27\n \n27\n\n\nJohn Roethling\n \n \n27\n \n27\n\n\nVladimir Koshman\n25\n \n \n \n25\n\n\nMartin Pascoe\n12\n12\n \n \n24\n\n\nMike Christophers\n23\n \n \n \n23\n\n\nRoy Martinez\n \n \n23\n \n23\n\n\nRon Brayson\n19\n \n \n \n19\n\n\nIrini Nikitina\n17\n \n \n \n17\n\n\nBob Carvell\n16\n \n \n \n16\n\n\nPeter Gorman\n \n14\n \n \n14
URL:https://golfthecosta.com/event/spence-clarke-co-weekly-league-21/
LOCATION:El Paraiso Golf Club\, Urb. El Paraiso\, Ctra de Cádiz\, km 167\,\, Estepona\, Malaga\, 29680\, Spain
ATTACH;FMTTYPE=image/jpeg:https://golfthecosta.com/wp-content/uploads/2017/12/SpenceClarkeLogo.jpg
ORGANIZER;CN="Golf The Costa":MAILTO:info@www.golfthecosta.com
GEO:36.476586;-5.034811
X-APPLE-STRUCTURED-LOCATION;VALUE=URI;X-ADDRESS=El Paraiso Golf Club Urb. El Paraiso Ctra de Cádiz km 167 Estepona Malaga 29680 Spain;X-APPLE-RADIUS=500;X-TITLE=Urb. El Paraiso\, Ctra de Cádiz\, km 167\,:geo:-5.034811,36.476586
END:VEVENT
BEGIN:VEVENT
DTSTART;TZID=Europe/Madrid:20180927T100000
DTEND;TZID=Europe/Madrid:20180927T170000
DTSTAMP:20260424T221848
CREATED:20180121T130143Z
LAST-MODIFIED:20220909T130618Z
UID:10000021-1538042400-1538067600@golfthecosta.com
SUMMARY:Spence Clarke & Co Weekly League
DESCRIPTION:Weekly League Table for September 2018 \nCategory 1          Category 2\n Winner               Winner\n Runner-Up        Runner-Up\n Third Place       Third place \nIf there is an insufficient number of players to split the categories\nthen prizes will be awarded for 1st\, 2nd and 3rd places and shown on    the table as follows:    Winner  Runner-Up   Third Place \n    The winners of the monthly league prizes are shown as follows:\n    Mens    Ladies \n\n\n\n\nPlayer\n06-Sep\n13-Sep\n20-Sep\n27-Sep\nBest 2\n\n\n\n\nPeter Jakobsson\n37\n34\n35\n \n72\n\n\nSvetlana Kripaytite\n22\n35\n35\n23\n70\n\n\nRoy Dean\n32\n34\n34\n \n68\n\n\nPhil Loughton\n23\n30\n38\n26\n68\n\n\nSteve Rodgers\n28\n33\n33\n \n66\n\n\nAndrei Smetckii\n34\n \n32\n \n66\n\n\nRichard Nelms\n22\n27\n38\n17\n65\n\n\nDavid Goodwin\n \n33\n32\n25\n65\n\n\nMark Bruce\n \n32\n33\n25\n65\n\n\nCaroline Dean\n19\n32\n32\n \n64\n\n\nMichael Houston\n26\n35\n28\n \n63\n\n\nShuj Datoo\n23\n34\n29\n20\n63\n\n\nAlex Emelichev\n \n \n34\n27\n61\n\n\nSergey Kuznetsov\n23\n37\n \n \n60\n\n\nBarry Kirk\n \n29\n31\n \n60\n\n\nTony Collier\n \n28\n30\n28\n58\n\n\nGerry Wilde\n \n27\n31\n \n58\n\n\nPaul McCaughey\n20\n \n37\n \n57\n\n\nJohn Campbell\n \n21\n32\n25\n57\n\n\nDimitri Provodorov\n \n27\n29\n \n56\n\n\nYuri Buchnev\n37\n \n \n19\n56\n\n\nStephen Melville\n19\n27\n28\n \n55\n\n\nColin Sparkes\n21\n32\n \n \n53\n\n\nAdrian High\n \n27\n26\n \n53\n\n\nJan Olsen\n \n \n30\n23\n53\n\n\nJohn Saville\n \n \n28\n25\n53\n\n\nVladimir Borisov\n19\n28\n \n \n47\n\n\nLorraine Sparkes\n19\n26\n \n \n45\n\n\nRon Brayson\n19\n \n \n24\n43\n\n\nElena Mushta\n \n \n \n41\n41\n\n\nNorman Healey\n \n \n39\n \n39\n\n\nBob Grierson\n \n \n38\n \n38\n\n\nAndrey Shlykov\n \n \n38\n \n38\n\n\nNigel Rzemieriecki\n \n \n37\n \n37\n\n\nErika Pilgrim\n \n \n36\n \n36\n\n\nAlexandr Eltsov\n \n \n36\n \n36\n\n\nBrian Murphy\n \n34\n \n \n34\n\n\nJim Cotter\n \n33\n \n \n33\n\n\nTony Pilgrim\n \n \n33\n \n33\n\n\nSvetlana Kuznetsova\n32\n \n \n \n32\n\n\nHans Kraenzler\n32\n \n \n \n32\n\n\nNigel Guy\n \n32\n \n \n32\n\n\nDamien Woods\n \n31\n \n \n31\n\n\nKarina Budantseva\n \n \n30\n \n30\n\n\nAlistair Creevy\n30\n \n \n \n30\n\n\nDavid Cole\n \n \n30\n \n30\n\n\nSean Carney\n \n29\n \n \n29\n\n\nSimon Curle\n \n \n29\n \n29\n\n\nBob Robinson\n \n \n28\n \n28\n\n\nAlasdair MacLean\n \n \n28\n \n28\n\n\nAndy Harris\n \n \n27\n \n27\n\n\nJohn Roethling\n \n \n27\n \n27\n\n\nArend van dr Knaap\n \n \n \n27\n27\n\n\nLeslie Boswell\n \n \n \n26\n26\n\n\nDimitry Provodoro\n \n \n \n26\n26\n\n\nVladimir Koshman\n25\n \n \n \n25\n\n\nMartin Pascoe\n12\n12\n \n \n24\n\n\nMatt Molloy\n \n \n \n24\n24\n\n\nMike Christophers\n23\n \n \n \n23\n\n\nRoy Martinez\n \n \n23\n \n23\n\n\nBrian Binstock\n \n \n \n22\n22\n\n\nGerda van der Knaap\n \n \n \n21\n21\n\n\nPhilip Cross\n \n \n \n18\n18\n\n\nIrini Nikitina\n17\n \n \n \n17\n\n\nMike Gill\n \n \n \n17\n17\n\n\nBob Carvell\n16\n \n \n \n16\n\n\nPeter Gorman\n \n14\n \n \n14
URL:https://golfthecosta.com/event/spence-clarke-co-weekly-league-22/
LOCATION:La Cañada Golf Club\, Ctra de Guadiaro\, Km 1\, San Roque\, Cadiz\, 11311\, Spain
ATTACH;FMTTYPE=image/jpeg:https://golfthecosta.com/wp-content/uploads/2017/12/SpenceClarkeLogo.jpg
ORGANIZER;CN="Golf The Costa":MAILTO:info@www.golfthecosta.com
GEO:36.3002424;-5.3025278
X-APPLE-STRUCTURED-LOCATION;VALUE=URI;X-ADDRESS=La Cañada Golf Club Ctra de Guadiaro Km 1 San Roque Cadiz 11311 Spain;X-APPLE-RADIUS=500;X-TITLE=Ctra de Guadiaro\, Km 1:geo:-5.3025278,36.3002424
END:VEVENT
END:VCALENDAR