BEGIN:VCALENDAR
VERSION:2.0
PRODID:-// - ECPv6.15.20//NONSGML v1.0//EN
CALSCALE:GREGORIAN
METHOD:PUBLISH
X-ORIGINAL-URL:https://golfthecosta.com
X-WR-CALDESC:Events for 
REFRESH-INTERVAL;VALUE=DURATION:PT1H
X-Robots-Tag:noindex
X-PUBLISHED-TTL:PT1H
BEGIN:VTIMEZONE
TZID:Europe/Madrid
BEGIN:DAYLIGHT
TZOFFSETFROM:+0100
TZOFFSETTO:+0200
TZNAME:CEST
DTSTART:20170326T010000
END:DAYLIGHT
BEGIN:STANDARD
TZOFFSETFROM:+0200
TZOFFSETTO:+0100
TZNAME:CET
DTSTART:20171029T010000
END:STANDARD
BEGIN:DAYLIGHT
TZOFFSETFROM:+0100
TZOFFSETTO:+0200
TZNAME:CEST
DTSTART:20180325T010000
END:DAYLIGHT
BEGIN:STANDARD
TZOFFSETFROM:+0200
TZOFFSETTO:+0100
TZNAME:CET
DTSTART:20181028T010000
END:STANDARD
BEGIN:DAYLIGHT
TZOFFSETFROM:+0100
TZOFFSETTO:+0200
TZNAME:CEST
DTSTART:20190331T010000
END:DAYLIGHT
BEGIN:STANDARD
TZOFFSETFROM:+0200
TZOFFSETTO:+0100
TZNAME:CET
DTSTART:20191027T010000
END:STANDARD
END:VTIMEZONE
BEGIN:VEVENT
DTSTART;TZID=Europe/Madrid:20181004T083000
DTEND;TZID=Europe/Madrid:20181004T170000
DTSTAMP:20260424T205425
CREATED:20180121T130806Z
LAST-MODIFIED:20220909T130606Z
UID:10000019-1538641800-1538672400@golfthecosta.com
SUMMARY:Spence Clarke & Co Weekly League
DESCRIPTION:Weekly League Table for October 2018 \nCategory 1          Category 2\n Winner               Winner\n Runner-Up        Runner-Up\n Third Place       Third place \nIf there is an insufficient number of players to split the categories\nthen prizes will be awarded for 1st\, 2nd and 3rd places and shown on    the table as follows:    Winner  Runner-Up   Third Place \n    The winners of the monthly league prizes are shown as follows:\n    Mens    Ladies \n\n\n\n\nPlayer\n04-Oct\n11-Oct\n18-Oct\n25-Oct\nBest 2\n\n\n\n\nErika Pilgrim\n42\n \n \n \n42\n\n\nDmitrii Provotorov\n36\n \n \n \n36\n\n\nChris Date\n35\n \n \n \n35\n\n\nRichard Nelms\n34\n \n \n \n34\n\n\nStuart Williams\n34\n \n \n \n34\n\n\nBarry Kirk\n34\n \n \n \n34\n\n\nArne Oydegard\n34\n \n \n \n34\n\n\nStephen Melville\n34\n \n \n \n34\n\n\nPhil Loughton\n34\n \n \n \n34\n\n\nRonan Ghosh\n34\n \n \n \n34\n\n\nPeter Jakobsson\n34\n \n \n \n34\n\n\nRobert Gilbert\n33\n \n \n \n33\n\n\nJohn Saville\n33\n \n \n \n33\n\n\nMike Gill\n32\n \n \n \n32\n\n\nDes McGhee\n32\n \n \n \n32\n\n\nPaul McCaughey\n32\n \n \n \n32\n\n\nRoy Martinez\n31\n \n \n \n31\n\n\nMike Christophers\n31\n \n \n \n31\n\n\nShuj Datoo\n31\n \n \n \n31\n\n\nRon Brayson\n31\n \n \n \n31\n\n\nAlasdair MacLean\n30\n \n \n \n30\n\n\nGerda van der Knaap\n29\n \n \n \n29\n\n\nJan Olsen\n29\n \n \n \n29\n\n\nMark Bruce\n29\n \n \n \n29\n\n\nSteven Faull\n29\n \n \n \n29\n\n\nTommy Stewart\n29\n \n \n \n29\n\n\nBjørn Bjarstad\n28\n \n \n \n28\n\n\nTony Pilgrim\n27\n \n \n \n27\n\n\nJohn Campbell\n27\n \n \n \n27\n\n\nNieil Crichton\n27\n \n \n \n27\n\n\nArend van der Knaap\n26\n \n \n \n26\n\n\nDavid Goodwin\n25\n \n \n \n25\n\n\nSteve Rodgers\n25\n \n \n \n25\n\n\nFinn Bakke Olsen\n20\n \n \n \n20
URL:https://golfthecosta.com/event/spence-clarke-co-weekly-league-24/
LOCATION:El Paraiso Golf Club\, Urb. El Paraiso\, Ctra de Cádiz\, km 167\,\, Estepona\, Malaga\, 29680\, Spain
ATTACH;FMTTYPE=image/jpeg:https://golfthecosta.com/wp-content/uploads/2017/12/SpenceClarkeLogo.jpg
ORGANIZER;CN="Golf The Costa":MAILTO:info@www.golfthecosta.com
GEO:36.476586;-5.034811
X-APPLE-STRUCTURED-LOCATION;VALUE=URI;X-ADDRESS=El Paraiso Golf Club Urb. El Paraiso Ctra de Cádiz km 167 Estepona Malaga 29680 Spain;X-APPLE-RADIUS=500;X-TITLE=Urb. El Paraiso\, Ctra de Cádiz\, km 167\,:geo:-5.034811,36.476586
END:VEVENT
BEGIN:VEVENT
DTSTART;TZID=Europe/Madrid:20181011T083000
DTEND;TZID=Europe/Madrid:20181011T170000
DTSTAMP:20260424T205425
CREATED:20180121T130806Z
LAST-MODIFIED:20220909T130554Z
UID:10000018-1539246600-1539277200@golfthecosta.com
SUMMARY:Spence Clarke & Co Weekly League
DESCRIPTION:Weekly League Table for October 2018 \nCategory 1          Category 2\n Winner               Winner\n Runner-Up        Runner-Up\n Third Place       Third place \nIf there is an insufficient number of players to split the categories\nthen prizes will be awarded for 1st\, 2nd and 3rd places and shown on    the table as follows:    Winner  Runner-Up   Third Place \n    The winners of the monthly league prizes are shown as follows:\n    Mens    Ladies \n\n\n\n\nPlayer\n04-Oct\n11-Oct\n18-Oct\n25-Oct\nBest 2\n\n\n\n\nErika Pilgrim\n42\n \n \n \n42\n\n\nDmitrii Provotorov\n36\n \n \n \n36\n\n\nChris Date\n35\n \n \n \n35\n\n\nRichard Nelms\n34\n \n \n \n34\n\n\nStuart Williams\n34\n \n \n \n34\n\n\nBarry Kirk\n34\n \n \n \n34\n\n\nArne Oydegard\n34\nC\n \n \n34\n\n\nStephen Melville\n34\nA\n \n \n34\n\n\nPhil Loughton\n34\nN\n \n \n34\n\n\nRonan Ghosh\n34\nC\n \n \n34\n\n\nPeter Jakobsson\n34\nE\n \n \n34\n\n\nRobert Gilbert\n33\nL\n \n \n33\n\n\nJohn Saville\n33\nL\n \n \n33\n\n\nMike Gill\n32\nE\n \n \n32\n\n\nDes McGhee\n32\nD\n \n \n32\n\n\nPaul McCaughey\n32\n \n \n \n32\n\n\nRoy Martinez\n31\nD\n \n \n31\n\n\nMike Christophers\n31\nU\n \n \n31\n\n\nShuj Datoo\n31\nE\n \n \n31\n\n\nRon Brayson\n31\n \n \n \n31\n\n\nAlasdair MacLean\n30\nT\n \n \n30\n\n\nGerda van der Knaap\n29\nO\n \n \n29\n\n\nJan Olsen\n29\n \n \n \n29\n\n\nMark Bruce\n29\nR\n \n \n29\n\n\nSteven Faull\n29\nA\n \n \n29\n\n\nTommy Stewart\n29\nI\n \n \n29\n\n\nBjørn Bjarstad\n28\nN\n \n \n28\n\n\nTony Pilgrim\n27\n \n \n \n27\n\n\nJohn Campbell\n27\n \n \n \n27\n\n\nNieil Crichton\n27\n \n \n \n27\n\n\nArend van der Knaap\n26\n \n \n \n26\n\n\nDavid Goodwin\n25\n \n \n \n25\n\n\nSteve Rodgers\n25\n \n \n \n25\n\n\nFinn Bakke Olsen\n20\n \n \n \n20
URL:https://golfthecosta.com/event/spence-clarke-co-weekly-league-24-2018-10-11/
LOCATION:El Paraiso Golf Club\, Urb. El Paraiso\, Ctra de Cádiz\, km 167\,\, Estepona\, Malaga\, 29680\, Spain
ATTACH;FMTTYPE=image/jpeg:https://golfthecosta.com/wp-content/uploads/2017/12/SpenceClarkeLogo.jpg
ORGANIZER;CN="Golf The Costa":MAILTO:info@www.golfthecosta.com
GEO:36.476586;-5.034811
X-APPLE-STRUCTURED-LOCATION;VALUE=URI;X-ADDRESS=El Paraiso Golf Club Urb. El Paraiso Ctra de Cádiz km 167 Estepona Malaga 29680 Spain;X-APPLE-RADIUS=500;X-TITLE=Urb. El Paraiso\, Ctra de Cádiz\, km 167\,:geo:-5.034811,36.476586
END:VEVENT
BEGIN:VEVENT
DTSTART;TZID=Europe/Madrid:20181018T083000
DTEND;TZID=Europe/Madrid:20181018T170000
DTSTAMP:20260424T205425
CREATED:20180121T130806Z
LAST-MODIFIED:20220909T130544Z
UID:10000017-1539851400-1539882000@golfthecosta.com
SUMMARY:Spence Clarke & Co Weekly League
DESCRIPTION:Weekly League Table for September 2018 \nCategory 1          Category 2\n Winner               Winner\n Runner-Up        Runner-Up\n Third Place       Third place \nIf there is an insufficient number of players to split the categories\nthen prizes will be awarded for 1st\, 2nd and 3rd places and shown on    the table as follows:    Winner  Runner-Up   Third Place \n    The winners of the monthly league prizes are shown as follows:\n    Mens    Ladies \n\n\n\n\nPlayer\n04-Oct\n11-Oct\n18-Oct\n25-Oct\nBest 2\n\n\n\n\nErika Pilgrim\n42\n \n \n \n42\n\n\nDmitrii Provotorov\n36\n \n \n \n36\n\n\nChris Date\n35\n \n \n \n35\n\n\nRichard Nelms\n34\n \n \n \n34\n\n\nStuart Williams\n34\n \n \n \n34\n\n\nBarry Kirk\n34\n \n \n \n34\n\n\nArne Oydegard\n34\nC\nC\n \n34\n\n\nStephen Melville\n34\nA\nA\n \n34\n\n\nPhil Loughton\n34\nN\nN\n \n34\n\n\nRonan Ghosh\n34\nC\nC\n \n34\n\n\nPeter Jakobsson\n34\nE\nE\n \n34\n\n\nRobert Gilbert\n33\nL\nL\n \n33\n\n\nJohn Saville\n33\nL\nL\n \n33\n\n\nMike Gill\n32\nE\nE\n \n32\n\n\nDes McGhee\n32\nD\nD\n \n32\n\n\nPaul McCaughey\n32\n \n \n \n32\n\n\nRoy Martinez\n31\nD\nD\n \n31\n\n\nMike Christophers\n31\nU\nU\n \n31\n\n\nShuj Datoo\n31\nE\nE\n \n31\n\n\nRon Brayson\n31\n \n \n \n31\n\n\nAlasdair MacLean\n30\nT\nT\n \n30\n\n\nGerda van der Knaap\n29\nO\nO\n \n29\n\n\nJan Olsen\n29\n \n \n \n29\n\n\nMark Bruce\n29\nR\nR\n \n29\n\n\nSteven Faull\n29\nA\nA\n \n29\n\n\nTommy Stewart\n29\nI\nI\n \n29\n\n\nBjørn Bjarstad\n28\nN\nN\n \n28\n\n\nTony Pilgrim\n27\n \n \n \n27\n\n\nJohn Campbell\n27\n \n \n \n27\n\n\nNieil Crichton\n27\n \n \n \n27\n\n\nArend van der Knaap\n26\n \n \n \n26\n\n\nDavid Goodwin\n25\n \n \n \n25\n\n\nSteve Rodgers\n25\n \n \n \n25\n\n\nFinn Bakke Olsen\n20\n \n \n \n20
URL:https://golfthecosta.com/event/spence-clarke-co-weekly-league-24-2018-10-18/
LOCATION:El Paraiso Golf Club\, Urb. El Paraiso\, Ctra de Cádiz\, km 167\,\, Estepona\, Malaga\, 29680\, Spain
ATTACH;FMTTYPE=image/jpeg:https://golfthecosta.com/wp-content/uploads/2017/12/SpenceClarkeLogo.jpg
ORGANIZER;CN="Golf The Costa":MAILTO:info@www.golfthecosta.com
GEO:36.476586;-5.034811
X-APPLE-STRUCTURED-LOCATION;VALUE=URI;X-ADDRESS=El Paraiso Golf Club Urb. El Paraiso Ctra de Cádiz km 167 Estepona Malaga 29680 Spain;X-APPLE-RADIUS=500;X-TITLE=Urb. El Paraiso\, Ctra de Cádiz\, km 167\,:geo:-5.034811,36.476586
END:VEVENT
BEGIN:VEVENT
DTSTART;TZID=Europe/Madrid:20181026T083000
DTEND;TZID=Europe/Madrid:20181026T170000
DTSTAMP:20260424T205425
CREATED:20180121T130806Z
LAST-MODIFIED:20220909T130533Z
UID:10000016-1540542600-1540573200@golfthecosta.com
SUMMARY:Spence Clarke & Co Weekly League
DESCRIPTION:Weekly League Table for October 2018 \nCategory 1          Category 2\n Winner               Winner\n Runner-Up        Runner-Up\n Third Place       Third place \nIf there is an insufficient number of players to split the categories\nthen prizes will be awarded for 1st\, 2nd and 3rd places and shown on    the table as follows:    Winner  Runner-Up   Third Place \n    The winners of the monthly league prizes are shown as follows:\n    Mens    Ladies \n\n\n\n\nPlayer\n04-Oct\n11-Oct\n18-Oct\n25-Oct\nBest 2\n\n\n\n\nPeter Jakobsson\n34\n \n \n30\n64\n\n\nShuj Datoo\n31\n \n \n31\n62\n\n\nRon Brayson\n31\n \n \n31\n62\n\n\nArne Oydegard\n34\n \n \n27\n61\n\n\nMark Bruce\n29\nC\nC\n29\n58\n\n\nSteve Rodgers\n25\nA\nA\n32\n57\n\n\nRichard Nelms\n34\nN\nN\n20\n54\n\n\nMike Christophers\n31\nC\nC\n22\n53\n\n\nErika Pilgrim\n42\nE\nE\n \n42\n\n\nTony Gardner\n \nL\nL\n38\n38\n\n\nAndrei Smetckii\n \nL\nL\n37\n37\n\n\nDmitrii Provotorov\n36\nE\nE\n \n36\n\n\nSteve Asplet\n \nD\nD\n36\n36\n\n\nChris Date\n35\n \n \n \n35\n\n\nStuart Williams\n34\n \n \n \n34\n\n\nBarry Kirk\n34\nD\nD\n \n34\n\n\nStephen Melville\n34\nU\nU\n \n34\n\n\nPhil Loughton\n34\nE\nE\n \n34\n\n\nRonan Ghosh\n34\n \n \n \n34\n\n\nJoe Caffrey\n \n \n \n34\n34\n\n\nRobert Gilbert\n33\nT\nT\n \n33\n\n\nJohn Saville\n33\nO\nO\n \n33\n\n\nGrant Evans\n \n \n \n33\n33\n\n\nMike Gill\n32\n \n \n \n32\n\n\nDes McGhee\n32\nR\nR\n \n32\n\n\nPaul McCaughey\n32\nA\nA\n \n32\n\n\nSteve Pagett\n \nI\nI\n32\n32\n\n\nRoy Martinez\n31\nN\nN\n \n31\n\n\nAlasdair MacLean\n30\n \n \n \n30\n\n\nIan Morrison\n \n \n \n30\n30\n\n\nGerda van der Knaap\n29\n \n \n \n29\n\n\nJan Olsen\n29\n \n \n \n29\n\n\nSteven Faull\n29\n \n \n \n29\n\n\nTommy Stewart\n29\n \n \n \n29\n\n\nBjørn Bjarstad\n28\n \n \n \n28\n\n\nChristine Morrison\n \n \n \n28\n28\n\n\nTony Pilgrim\n27\n \n \n \n27\n\n\nJohn Campbell\n27\n \n \n \n27\n\n\nNieil Crichton\n27\n \n \n \n27\n\n\nArend van der Knaap\n26\n \n \n \n26\n\n\nBob Carvell\n \n \n \n26\n26\n\n\nDavid Goodwin\n25\n \n \n \n25\n\n\nFinn Bakke Olsen\n20\n \n \n \n20\n\n\nDavid Whiteson\n \n \n \n18\n18
URL:https://golfthecosta.com/event/spence-clarke-co-weekly-league-24-2018-10-25/
LOCATION:El Paraiso Golf Club\, Urb. El Paraiso\, Ctra de Cádiz\, km 167\,\, Estepona\, Malaga\, 29680\, Spain
ATTACH;FMTTYPE=image/jpeg:https://golfthecosta.com/wp-content/uploads/2017/12/SpenceClarkeLogo.jpg
ORGANIZER;CN="Golf The Costa":MAILTO:info@www.golfthecosta.com
GEO:36.476586;-5.034811
X-APPLE-STRUCTURED-LOCATION;VALUE=URI;X-ADDRESS=El Paraiso Golf Club Urb. El Paraiso Ctra de Cádiz km 167 Estepona Malaga 29680 Spain;X-APPLE-RADIUS=500;X-TITLE=Urb. El Paraiso\, Ctra de Cádiz\, km 167\,:geo:-5.034811,36.476586
END:VEVENT
END:VCALENDAR