BEGIN:VCALENDAR
VERSION:2.0
PRODID:-// - ECPv6.15.20//NONSGML v1.0//EN
CALSCALE:GREGORIAN
METHOD:PUBLISH
X-ORIGINAL-URL:https://golfthecosta.com
X-WR-CALDESC:Events for 
REFRESH-INTERVAL;VALUE=DURATION:PT1H
X-Robots-Tag:noindex
X-PUBLISHED-TTL:PT1H
BEGIN:VTIMEZONE
TZID:Europe/Madrid
BEGIN:DAYLIGHT
TZOFFSETFROM:+0100
TZOFFSETTO:+0200
TZNAME:CEST
DTSTART:20170326T010000
END:DAYLIGHT
BEGIN:STANDARD
TZOFFSETFROM:+0200
TZOFFSETTO:+0100
TZNAME:CET
DTSTART:20171029T010000
END:STANDARD
BEGIN:DAYLIGHT
TZOFFSETFROM:+0100
TZOFFSETTO:+0200
TZNAME:CEST
DTSTART:20180325T010000
END:DAYLIGHT
BEGIN:STANDARD
TZOFFSETFROM:+0200
TZOFFSETTO:+0100
TZNAME:CET
DTSTART:20181028T010000
END:STANDARD
BEGIN:DAYLIGHT
TZOFFSETFROM:+0100
TZOFFSETTO:+0200
TZNAME:CEST
DTSTART:20190331T010000
END:DAYLIGHT
BEGIN:STANDARD
TZOFFSETFROM:+0200
TZOFFSETTO:+0100
TZNAME:CET
DTSTART:20191027T010000
END:STANDARD
END:VTIMEZONE
BEGIN:VEVENT
DTSTART;TZID=Europe/Madrid:20181207T090000
DTEND;TZID=Europe/Madrid:20181207T170000
DTSTAMP:20260424T180031
CREATED:20180121T132347Z
LAST-MODIFIED:20220909T124112Z
UID:10000053-1544173200-1544202000@golfthecosta.com
SUMMARY:Fun Stableford Competition
DESCRIPTION:RESULTS \n\n\n\n\nPlayer\nStableford Score\n\n\n\n\nTony Gardner\n42\n\n\nPeter Jakobsson\n34\n\n\nRoger Jones\n34\n\n\nDimitry Mushta\n34\n\n\nPhil Loughton\n32\n\n\nMark Bruce\n32\n\n\nSvetlana Kripaytite\n32\n\n\nGary Williams\n31\n\n\nAndreii Smetckii\n31\n\n\nBarry Kirk\n30\n\n\nSimon Curle\n30\n\n\nColin Martin\n28\n\n\nAnnica Statham\n26\n\n\nDavid Cole\n26\n\n\nShuj Datoo\n26\n\n\nSergey Kuznetsov\n25\n\n\nAlasdair MacLean\n23
URL:https://golfthecosta.com/event/spence-clarke-co-am-am-competition/
LOCATION:El Paraiso Golf Club\, Urb. El Paraiso\, Ctra de Cádiz\, km 167\,\, Estepona\, Malaga\, 29680\, Spain
ORGANIZER;CN="Golf The Costa":MAILTO:info@www.golfthecosta.com
GEO:36.476586;-5.034811
X-APPLE-STRUCTURED-LOCATION;VALUE=URI;X-ADDRESS=El Paraiso Golf Club Urb. El Paraiso Ctra de Cádiz km 167 Estepona Malaga 29680 Spain;X-APPLE-RADIUS=500;X-TITLE=Urb. El Paraiso\, Ctra de Cádiz\, km 167\,:geo:-5.034811,36.476586
END:VEVENT
BEGIN:VEVENT
DTSTART;TZID=Europe/Madrid:20181213T090000
DTEND;TZID=Europe/Madrid:20181213T170000
DTSTAMP:20260424T180032
CREATED:20180121T133554Z
LAST-MODIFIED:20220909T124102Z
UID:10000054-1544691600-1544720400@golfthecosta.com
SUMMARY:The 2018 Christmas Bash Scramble
DESCRIPTION:The final GTC event of 2018\nA fun Las Vegas Scramble followed by a traditional Christmas lunch\nand the presentation of the annual prizes. \nRESULTS \n\n\n\n\n\nTeam\nGross\nScore\nHandicap\nNett\nScore\n\n\n\n\n1st\nJoe Statham\nGary Williams\nShuj Datoo\nMark Bruce\n67\n6.3\n60.7\n\n\n \n \n \n \n \n\n\n2nd\nArne Oydegard\nAndrei Smetckii\nYuri Buchnev\n69\n5.4\n63.6\n\n\n \n \n \n \n \n\n\n3rd\nPhil Loughton\nTony Gardner\nAnnica Statham\nNeil Crichton\n71\n6.1\n64.9\n\n\n \n \n \n \n \n\n\n4th\nSteve Pagett\nAlasdair MacLean\nLaurie Passman\nDmitry Mushta\n71\n5.9\n65.1\n\n\n \n \n \n \n \n\n\n5th\nPaul McCaughey\nSteve Rodgers\nSvetlana Kripaytite\n75\n8.5\n66.5\n\n\n \n \n \n \n \n\n\n6th\nTony Collier\nPeter Jakobsson\nElena Mushta\nRichard Nelms\n73\n7.6\n67.4\n\n\n \n \n \n \n \n\n\n7th\nSergey Kuznetsov\nBarry Kirk\nJens Jeske\n78\n7.0\n71
URL:https://golfthecosta.com/event/the-2018-christmas-bash-scramble/
LOCATION:El Paraiso Golf Club\, Urb. El Paraiso\, Ctra de Cádiz\, km 167\,\, Estepona\, Malaga\, 29680\, Spain
ATTACH;FMTTYPE=image/gif:https://golfthecosta.com/wp-content/uploads/2018/01/santa53-e1634026204205.gif
ORGANIZER;CN="Golf The Costa":MAILTO:info@www.golfthecosta.com
GEO:36.476586;-5.034811
X-APPLE-STRUCTURED-LOCATION;VALUE=URI;X-ADDRESS=El Paraiso Golf Club Urb. El Paraiso Ctra de Cádiz km 167 Estepona Malaga 29680 Spain;X-APPLE-RADIUS=500;X-TITLE=Urb. El Paraiso\, Ctra de Cádiz\, km 167\,:geo:-5.034811,36.476586
END:VEVENT
END:VCALENDAR