BEGIN:VCALENDAR
VERSION:2.0
PRODID:-// - ECPv6.15.20//NONSGML v1.0//EN
CALSCALE:GREGORIAN
METHOD:PUBLISH
X-ORIGINAL-URL:https://golfthecosta.com
X-WR-CALDESC:Events for 
REFRESH-INTERVAL;VALUE=DURATION:PT1H
X-Robots-Tag:noindex
X-PUBLISHED-TTL:PT1H
BEGIN:VTIMEZONE
TZID:Europe/Madrid
BEGIN:DAYLIGHT
TZOFFSETFROM:+0100
TZOFFSETTO:+0200
TZNAME:CEST
DTSTART:20180325T010000
END:DAYLIGHT
BEGIN:STANDARD
TZOFFSETFROM:+0200
TZOFFSETTO:+0100
TZNAME:CET
DTSTART:20181028T010000
END:STANDARD
BEGIN:DAYLIGHT
TZOFFSETFROM:+0100
TZOFFSETTO:+0200
TZNAME:CEST
DTSTART:20190331T010000
END:DAYLIGHT
BEGIN:STANDARD
TZOFFSETFROM:+0200
TZOFFSETTO:+0100
TZNAME:CET
DTSTART:20191027T010000
END:STANDARD
BEGIN:DAYLIGHT
TZOFFSETFROM:+0100
TZOFFSETTO:+0200
TZNAME:CEST
DTSTART:20200329T010000
END:DAYLIGHT
BEGIN:STANDARD
TZOFFSETFROM:+0200
TZOFFSETTO:+0100
TZNAME:CET
DTSTART:20201025T010000
END:STANDARD
END:VTIMEZONE
BEGIN:VEVENT
DTSTART;TZID=Europe/Madrid:20190110T090000
DTEND;TZID=Europe/Madrid:20190110T170000
DTSTAMP:20260424T161541
CREATED:20181130T132518Z
LAST-MODIFIED:20220909T124051Z
UID:10000060-1547110800-1547139600@golfthecosta.com
SUMMARY:Spence Clarek & Co Weekly League
DESCRIPTION:Weekly League Table for January 2019 \nCategory 1          Category 2\n Winner               Winner\n Runner-Up        Runner-Up\n Third Place       Third place \nIf there is an insufficient number of players to split the categories\nthen prizes will be awarded for 1st\, 2nd and 3rd places and shown on    the table as follows:    Winner  Runner-Up   Third Place \n    The winners of the monthly league prizes are shown as follows:\n    Mens    Ladies \n\n\n\n\nPlayer\n10-Jan\n17-Jan\n24-Jan\n31-Jan\nBest 2\nScores\n\n\n\n\nBrian Murphy\n37\n \n \n \n37\n\n\nSteve Rodgers\n37\n \n \n \n37\n\n\nPhil Loughton\n34\n \n \n \n34\n\n\nPeter Jakobsson\n30\n \n \n \n30\n\n\nBruce Hurley\n28\n \n \n \n28\n\n\nAsh Popat\n28\n \n \n \n28\n\n\nAndrei Smetckii\n27\n \n \n \n27\n\n\nDavid Giddings\n27\n \n \n \n27\n\n\nRoland Bourgeois\n27\n \n \n \n27\n\n\nOleg Matrohin\n27\n \n \n \n27\n\n\nVasiliy Putilovsky\n26\n \n \n \n26\n\n\nYuri Zykov\n26\n \n \n \n26\n\n\nColin Meister\n25\n \n \n \n25\n\n\nMark Bruce\n24\n \n \n \n24\n\n\nSergey Kuznetsov\n24\n \n \n \n24\n\n\nEamonn Devine\n24\n \n \n \n24\n\n\nMonica Giddings\n23\n \n \n \n23\n\n\nDiego Echavarria\n22\n \n \n \n22\n\n\nRon Brayson\n22\n \n \n \n22\n\n\nMike Christophers\n22\n \n \n \n22\n\n\nChris Dixon\n22\n \n \n \n22\n\n\nArne Oydegard\n21\n \n \n \n21\n\n\nDavid Goodwin\n21\n \n \n \n21\n\n\nJens Jeske\n20\n \n \n \n20\n\n\nLaurie Passman\n20\n \n \n \n20\n\n\nAlex Rubailo\n1\n \n \n \n1
URL:https://golfthecosta.com/event/spence-clarek-co-weekly-league/
LOCATION:La Cala Golf Resort\, Urb. La Cala Golf\, Mijas Costa\, Málaga\, 29649\, Spain
ATTACH;FMTTYPE=image/jpeg:https://golfthecosta.com/wp-content/uploads/2017/12/SpenceClarkeLogo.jpg
ORGANIZER;CN="Golf The Costa":MAILTO:info@www.golfthecosta.com
GEO:36.541822;-4.722268
X-APPLE-STRUCTURED-LOCATION;VALUE=URI;X-ADDRESS=La Cala Golf Resort Urb. La Cala Golf Mijas Costa Málaga 29649 Spain;X-APPLE-RADIUS=500;X-TITLE=Urb. La Cala Golf:geo:-4.722268,36.541822
END:VEVENT
BEGIN:VEVENT
DTSTART;TZID=Europe/Madrid:20190117T090000
DTEND;TZID=Europe/Madrid:20190117T170000
DTSTAMP:20260424T161541
CREATED:20181130T130748Z
LAST-MODIFIED:20220909T124037Z
UID:10000056-1547715600-1547744400@golfthecosta.com
SUMMARY:Spence Clarke & Co Weekly League
DESCRIPTION:Weekly League Table for January 2019 \nCategory 1          Category 2\n Winner               Winner\n Runner-Up        Runner-Up\n Third Place       Third place \nIf there is an insufficient number of players to split the categories\nthen prizes will be awarded for 1st\, 2nd and 3rd places and shown on    the table as follows:    Winner  Runner-Up   Third Place \n    The winners of the monthly league prizes are shown as follows:\n    Mens    Ladies \n\n\n\n\nPlayer\n10-Jan\n17-Jan\n24-Jan\n31-Jan\nBest 2\nScores\n\n\n\n\nSteve Rodgers\n37\n31\n \n \n68\n\n\nBrian Murphy\n37\n30\n \n \n67\n\n\nPhil Loughton\n34\n30\n \n \n64\n\n\nOleg Matrohin\n27\n35\n \n \n62\n\n\nAndrei Smetckii\n27\n34\n \n \n61\n\n\nDavid Giddings\n27\n33\n \n \n60\n\n\nPeter Jakobsson\n30\n28\n \n \n58\n\n\nMonica Giddings\n23\n32\n \n \n55\n\n\nSergey Kuznetsov\n24\n30\n \n \n54\n\n\nEamonn Devine\n24\n30\n \n \n54\n\n\nMark Bruce\n24\n29\n \n \n53\n\n\nRon Brayson\n22\n27\n \n \n49\n\n\nArne Oydegard\n21\n27\n \n \n48\n\n\nAlex Emelichev\n \n37\n \n \n37\n\n\nRichard Bruce\n \n34\n \n \n34\n\n\nDiarmuid O’Connor\n \n33\n \n \n33\n\n\nMike Gill\n \n30\n \n \n30\n\n\nMichael Barnwell\n \n30\n \n \n30\n\n\nLauire Passman\n \n30\n \n \n30\n\n\nJack Grieves\n \n30\n \n \n30\n\n\nShuj Datoo\n \n29\n \n \n29\n\n\nBruce Hurley\n28\n \n \n \n28\n\n\nAsh Popat\n28\n \n \n \n28\n\n\nSteven Faull\n \n28\n \n \n28\n\n\nRoland Bourgeois\n27\n \n \n \n27\n\n\nMarilyn Grieves\n \n27\n \n \n27\n\n\nVasiliy Putilovsky\n26\n \n \n \n26\n\n\nYuri Zykov\n26\n \n \n \n26\n\n\nPaul McCaughey\n \n26\n \n \n26\n\n\nBarry Kirk\n \n26\n \n \n26\n\n\nColin Meister\n25\n \n \n \n25\n\n\nRichard Nelms\n \n25\n \n \n25\n\n\nYuri Buchnev\n \n25\n \n \n25\n\n\nVladimir Koshman\n \n25\n \n \n25\n\n\nDavid Goodwin\n \n25\n \n \n25\n\n\nGeorge Petch\n \n23\n \n \n23\n\n\nDiego Echavarria\n22\n \n \n \n22\n\n\nMike Christophers\n22\n \n \n \n22\n\n\nChris Dixon\n22\n \n \n \n22\n\n\nMichael Smith\n \n22\n \n \n22\n\n\nDavid Goodwin\n21\n \n \n \n21\n\n\nJudith Smith\n \n21\n \n \n21\n\n\nJens Jeske\n20\n \n \n \n20\n\n\nLaurie Passman\n20\n \n \n \n20\n\n\nWilliam Lewis\n \n18\n \n \n18\n\n\nAlex Rubailo\n1\n9\n \n \n10
URL:https://golfthecosta.com/event/spence-clarke-co-weekly-league-27/
LOCATION:El Paraiso Golf Club\, Urb. El Paraiso\, Ctra de Cádiz\, km 167\,\, Estepona\, Malaga\, 29680\, Spain
ATTACH;FMTTYPE=image/jpeg:https://golfthecosta.com/wp-content/uploads/2017/12/SpenceClarkeLogo.jpg
ORGANIZER;CN="Golf The Costa":MAILTO:info@www.golfthecosta.com
GEO:36.476586;-5.034811
X-APPLE-STRUCTURED-LOCATION;VALUE=URI;X-ADDRESS=El Paraiso Golf Club Urb. El Paraiso Ctra de Cádiz km 167 Estepona Malaga 29680 Spain;X-APPLE-RADIUS=500;X-TITLE=Urb. El Paraiso\, Ctra de Cádiz\, km 167\,:geo:-5.034811,36.476586
END:VEVENT
BEGIN:VEVENT
DTSTART;TZID=Europe/Madrid:20190125T090000
DTEND;TZID=Europe/Madrid:20190125T170000
DTSTAMP:20260424T161541
CREATED:20181130T130748Z
LAST-MODIFIED:20220909T124021Z
UID:10000057-1548406800-1548435600@golfthecosta.com
SUMMARY:Spence Clarke & Co Weekly League
DESCRIPTION:Weekly League Table for January 2019 \nCategory 1          Category 2\n Winner               Winner\n Runner-Up        Runner-Up\n Third Place       Third place \nIf there is an insufficient number of players to split the categories\nthen prizes will be awarded for 1st\, 2nd and 3rd places and shown on    the table as follows:    Winner  Runner-Up   Third Place \n    The winners of the monthly league prizes are shown as follows:\n    Mens    Ladies \n\n\n\n\nPlayer\n10-Jan\n17-Jan\n24-Jan\n31-Jan\nBest 2\nScores\n\n\n\n\nBrian Murphy\n37\n30\n32\n \n69\n\n\nAndrei Smetckii\n27\n34\n34\n \n68\n\n\nOleg Matrohin\n27\n35\n33\n \n68\n\n\nSteve Rodgers\n37\n31\n25\n \n68\n\n\nPaul McCaughey\n \n26\n41\n \n67\n\n\nMark Bruce\n24\n29\n36\n \n65\n\n\nPhil Loughton\n34\n30\n26\n \n64\n\n\nRichard Bruce\n \n34\n30\n \n64\n\n\nMike Gill\n \n30\n32\n \n62\n\n\nDavid Giddings\n27\n33\n \n \n60\n\n\nDavid Goodwin\n21\n25\n35\n \n60\n\n\nShuj Datoo\n \n29\n30\n \n59\n\n\nPeter Jakobsson\n30\n28\n \n \n58\n\n\nSergey Kuznetsov\n24\n30\n28\n \n58\n\n\nSteven Faull\n \n28\n30\n \n58\n\n\nRichard Nelms\n \n25\n31\n \n56\n\n\nMonica Giddings\n23\n32\n \n \n55\n\n\nBarry Kirk\n \n26\n28\n \n54\n\n\nEamonn Devine\n24\n30\n \n \n54\n\n\nJens Jeske\n20\n \n34\n \n54\n\n\nVladimir Koshman\n \n25\n28\n \n53\n\n\nArne Oydegard\n21\n27\n25\n \n52\n\n\nLauire Passman\n20\n30\n \n \n50\n\n\nRon Brayson\n22\n27\n \n \n49\n\n\nWilliam Lewis\n \n18\n27\n \n45\n\n\nYuri Buchnev\n \n25\n13\n \n38\n\n\nAlex Emelichev\n \n37\n \n \n37\n\n\nDiarmuid O’Connor\n \n33\n \n \n33\n\n\nSvetlana Kripaytite\n \n \n32\n \n32\n\n\nJack Grieves\n \n30\n \n \n30\n\n\nMichael Barnwell\n \n30\n \n \n30\n\n\nSteve Pagett\n \n \n30\n \n30\n\n\nJim Carr\n \n \n29\n \n29\n\n\nAsh Popat\n28\n \n \n \n28\n\n\nBruce Hurley\n28\n \n \n \n28\n\n\nPhilip Cross\n \n \n28\n \n28\n\n\nMarilyn Grieves\n \n27\n \n \n27\n\n\nRoland Bourgeois\n27\n \n \n \n27\n\n\nVasiliy Putilovsky\n26\n \n \n \n26\n\n\nYuri Zykov\n26\n \n \n \n26\n\n\nColin Meister\n25\n \n \n \n25\n\n\nStewart Thompson\n \n \n25\n \n25\n\n\nGeorge Petch\n \n23\n \n \n23\n\n\nChris Dixon\n22\n \n \n \n22\n\n\nDiego Echavarria\n22\n \n \n \n22\n\n\nMichael Smith\n \n22\n \n \n22\n\n\nMike Christophers\n22\n \n \n \n22\n\n\nJudith Smith\n \n21\n \n \n21\n\n\nAlex Rubailo\n1\n9\n8\n \n17\n\n\nIan Hollingham\n \n \n7\n \n7
URL:https://golfthecosta.com/event/spence-clarke-co-weekly-league-27-2019-01-24/
LOCATION:El Paraiso Golf Club\, Urb. El Paraiso\, Ctra de Cádiz\, km 167\,\, Estepona\, Malaga\, 29680\, Spain
ATTACH;FMTTYPE=image/jpeg:https://golfthecosta.com/wp-content/uploads/2017/12/SpenceClarkeLogo.jpg
ORGANIZER;CN="Golf The Costa":MAILTO:info@www.golfthecosta.com
GEO:36.476586;-5.034811
X-APPLE-STRUCTURED-LOCATION;VALUE=URI;X-ADDRESS=El Paraiso Golf Club Urb. El Paraiso Ctra de Cádiz km 167 Estepona Malaga 29680 Spain;X-APPLE-RADIUS=500;X-TITLE=Urb. El Paraiso\, Ctra de Cádiz\, km 167\,:geo:-5.034811,36.476586
END:VEVENT
BEGIN:VEVENT
DTSTART;TZID=Europe/Madrid:20190131T090000
DTEND;TZID=Europe/Madrid:20190131T170000
DTSTAMP:20260424T161541
CREATED:20181130T130748Z
LAST-MODIFIED:20220909T124003Z
UID:10000058-1548925200-1548954000@golfthecosta.com
SUMMARY:Spence Clarke & Co Weekly League
DESCRIPTION:Weekly League Table for January 2019 \nCategory 1          Category 2\n Winner               Winner\n Runner-Up        Runner-Up\n Third Place       Third place \nIf there is an insufficient number of players to split the categories\nthen prizes will be awarded for 1st\, 2nd and 3rd places and shown on    the table as follows:    Winner  Runner-Up   Third Place \n    The winners of the monthly league prizes are shown as follows:\n    Mens    Ladies \n\n\n\n\nPlayer\n10-Jan\n17-Jan\n25-Jan\n31-Jan\nBest 2\nScores\n\n\n\n\nSteve Rodgers\n37\n31\n25\n37\n74\n\n\nAndrei Smetckii\n27\n34\n34\n35\n69\n\n\nBrian Murphy\n37\n30\n32\n \n69\n\n\nJens Jeske\n20\n \n34\n35\n69\n\n\nMark Bruce\n24\n29\n36\n33\n69\n\n\nOleg Matrohin\n27\n35\n33\n \n68\n\n\nPhil Loughton\n34\n30\n26\n34\n68\n\n\nPaul McCaughey\n \n26\n41\n \n67\n\n\nSvetlana Kripaytite\n \n \n32\n35\n67\n\n\nSteve Pagett\n \n \n30\n36\n66\n\n\nPeter Jakobsson\n30\n28\n \n34\n64\n\n\nRichard Bruce\n \n34\n30\n25\n64\n\n\nLauire Passman\n20\n30\n \n32\n62\n\n\nMike Gill\n \n30\n32\n \n62\n\n\nDavid Giddings\n27\n33\n \n \n60\n\n\nDavid Goodwin\n21\n25\n35\n \n60\n\n\nSteven Faull\n \n28\n30\n30\n60\n\n\nShuj Datoo\n \n29\n30\n21\n59\n\n\nVladimir Koshman\n \n25\n28\n31\n59\n\n\nRichard Nelms\n \n25\n31\n27\n58\n\n\nSergey Kuznetsov\n24\n30\n28\n27\n58\n\n\nRon Brayson\n22\n27\n \n30\n57\n\n\nArne Oydegard\n21\n27\n25\n29\n56\n\n\nMonica Giddings\n23\n32\n \n \n55\n\n\nStewart Thompson\n \n \n25\n30\n55\n\n\nBarry Kirk\n \n26\n28\n26\n54\n\n\nEamonn Devine\n24\n30\n \n23\n54\n\n\nWilliam Lewis\n \n18\n27\n \n45\n\n\nAndy Eames\n \n \n \n40\n40\n\n\nYuri Buchnev\n \n25\n13\n \n38\n\n\nAlex Emelichev\n \n37\n \n \n37\n\n\nWolfhard Engel\n \n \n \n35\n35\n\n\nDiarmuid O’Connor\n \n33\n \n \n33\n\n\nRoger Jones\n \n \n \n33\n33\n\n\nJack Grieves\n \n30\n \n \n30\n\n\nJürg Stadlwieser\n \n \n \n30\n30\n\n\nMichael Barnwell\n \n30\n \n \n30\n\n\nTony Collier\n \n \n \n30\n30\n\n\nJim Carr\n \n \n29\n \n29\n\n\nAsh Popat\n28\n \n \n \n28\n\n\nBruce Hurley\n28\n \n \n \n28\n\n\nPhilip Cross\n \n \n28\n \n28\n\n\nMarilyn Grieves\n \n27\n \n \n27\n\n\nRoland Bourgeois\n27\n \n \n \n27\n\n\nVasiliy Putilovsky\n26\n \n \n \n26\n\n\nYuri Zykov\n26\n \n \n \n26\n\n\nColin Meister\n25\n \n \n \n25\n\n\nGeorge Petch\n \n23\n \n \n23\n\n\nChris Dixon\n22\n \n \n \n22\n\n\nDiego Echavarria\n22\n \n \n \n22\n\n\nMichael Smith\n \n22\n \n \n22\n\n\nMike Christophers\n22\n \n \n \n22\n\n\nJudith Smith\n \n21\n \n \n21\n\n\nAlex Rubailo\n1\n9\n8\n8\n17\n\n\nIan Hollingham\n \n \n7\n \n7
URL:https://golfthecosta.com/event/spence-clarke-co-weekly-league-27-2019-01-31/
LOCATION:El Paraiso Golf Club\, Urb. El Paraiso\, Ctra de Cádiz\, km 167\,\, Estepona\, Malaga\, 29680\, Spain
ATTACH;FMTTYPE=image/jpeg:https://golfthecosta.com/wp-content/uploads/2017/12/SpenceClarkeLogo.jpg
ORGANIZER;CN="Golf The Costa":MAILTO:info@www.golfthecosta.com
GEO:36.476586;-5.034811
X-APPLE-STRUCTURED-LOCATION;VALUE=URI;X-ADDRESS=El Paraiso Golf Club Urb. El Paraiso Ctra de Cádiz km 167 Estepona Malaga 29680 Spain;X-APPLE-RADIUS=500;X-TITLE=Urb. El Paraiso\, Ctra de Cádiz\, km 167\,:geo:-5.034811,36.476586
END:VEVENT
END:VCALENDAR