BEGIN:VCALENDAR
VERSION:2.0
PRODID:-// - ECPv6.15.20//NONSGML v1.0//EN
CALSCALE:GREGORIAN
METHOD:PUBLISH
X-ORIGINAL-URL:https://golfthecosta.com
X-WR-CALDESC:Events for 
REFRESH-INTERVAL;VALUE=DURATION:PT1H
X-Robots-Tag:noindex
X-PUBLISHED-TTL:PT1H
BEGIN:VTIMEZONE
TZID:Europe/Madrid
BEGIN:DAYLIGHT
TZOFFSETFROM:+0100
TZOFFSETTO:+0200
TZNAME:CEST
DTSTART:20180325T010000
END:DAYLIGHT
BEGIN:STANDARD
TZOFFSETFROM:+0200
TZOFFSETTO:+0100
TZNAME:CET
DTSTART:20181028T010000
END:STANDARD
BEGIN:DAYLIGHT
TZOFFSETFROM:+0100
TZOFFSETTO:+0200
TZNAME:CEST
DTSTART:20190331T010000
END:DAYLIGHT
BEGIN:STANDARD
TZOFFSETFROM:+0200
TZOFFSETTO:+0100
TZNAME:CET
DTSTART:20191027T010000
END:STANDARD
BEGIN:DAYLIGHT
TZOFFSETFROM:+0100
TZOFFSETTO:+0200
TZNAME:CEST
DTSTART:20200329T010000
END:DAYLIGHT
BEGIN:STANDARD
TZOFFSETFROM:+0200
TZOFFSETTO:+0100
TZNAME:CET
DTSTART:20201025T010000
END:STANDARD
END:VTIMEZONE
BEGIN:VEVENT
DTSTART;TZID=Europe/Madrid:20190207T090000
DTEND;TZID=Europe/Madrid:20190207T170000
DTSTAMP:20260424T144523
CREATED:20181130T130748Z
LAST-MODIFIED:20220909T123936Z
UID:10000059-1549530000-1549558800@golfthecosta.com
SUMMARY:Spence Clarke & Co Weekly League
DESCRIPTION:Weekly League Table for February 2019 \nCategory 1          Category 2\n Winner               Winner\n Runner-Up        Runner-Up\n Third Place       Third place \nIf there is an insufficient number of players to split the categories\nthen prizes will be awarded for 1st\, 2nd and 3rd places and shown on    the table as follows:    Winner  Runner-Up   Third Place \n    The winners of the monthly league prizes are shown as follows:\n    Category 1    Category 2 \n\n\n\n\nPlayer\n07-Feb\n14-Feb\n21-Feb\n28-Feb\nBest 2\nScores\n\n\n\n\nDmitry Mushta\n40\n \n \n \n40\n\n\nPaul McCaughey\n38\n \n \n \n38\n\n\nPhil Loughton\n36\n \n \n \n36\n\n\nSteve Rodgers\n35\n \n \n \n35\n\n\nMark Bruce\n33\n \n \n \n33\n\n\nGary Williams\n33\n \n \n \n33\n\n\nArne Øydegard\n33\n \n \n \n33\n\n\nTony Gardner\n32\n \n \n \n32\n\n\nAndrei Smetckii\n31\n \n \n \n31\n\n\nJohn Roethling\n30\n \n \n \n30\n\n\nSvetlana Kripaytite\n30\n \n \n \n30\n\n\nRoger Jones\n29\n \n \n \n29\n\n\nHans Kränzler\n29\n \n \n \n29\n\n\nElena Mushta\n29\n \n \n \n29\n\n\nTony Collier\n28\n \n \n \n28\n\n\nShuj Datoo\n28\n \n \n \n28\n\n\nSteven Faull\n28\n \n \n \n28\n\n\nRichard Nelms\n28\n \n \n \n28\n\n\nJerry Jaffa\n27\n \n \n \n27\n\n\nWilliam Lewis\n25\n \n \n \n25\n\n\nPhilip Cross\n24\n \n \n \n24\n\n\nEamonn Devine\n24\n \n \n \n24\n\n\nStuart Brothers\n21\n \n \n \n21\n\n\nIan Hollingum\n12\n \n \n \n12\n\n\nAlex Rubailo\n10\n \n \n \n10
URL:https://golfthecosta.com/event/spence-clarke-co-weekly-league-27-2019-02-07/
LOCATION:El Paraiso Golf Club\, Urb. El Paraiso\, Ctra de Cádiz\, km 167\,\, Estepona\, Malaga\, 29680\, Spain
ATTACH;FMTTYPE=image/jpeg:https://golfthecosta.com/wp-content/uploads/2017/12/SpenceClarkeLogo.jpg
ORGANIZER;CN="Golf The Costa":MAILTO:info@www.golfthecosta.com
GEO:36.476586;-5.034811
X-APPLE-STRUCTURED-LOCATION;VALUE=URI;X-ADDRESS=El Paraiso Golf Club Urb. El Paraiso Ctra de Cádiz km 167 Estepona Malaga 29680 Spain;X-APPLE-RADIUS=500;X-TITLE=Urb. El Paraiso\, Ctra de Cádiz\, km 167\,:geo:-5.034811,36.476586
END:VEVENT
BEGIN:VEVENT
DTSTART;TZID=Europe/Madrid:20190214T084000
DTEND;TZID=Europe/Madrid:20190214T170000
DTSTAMP:20260424T144523
CREATED:20181130T133500Z
LAST-MODIFIED:20220909T123924Z
UID:10000061-1550133600-1550163600@golfthecosta.com
SUMMARY:Spence Clarke & Co Weekly League
DESCRIPTION:Weekly League Table for February 2019 \nCategory 1          Category 2\n Winner               Winner\n Runner-Up        Runner-Up\n Third Place       Third place \nIf there is an insufficient number of players to split the categories\nthen prizes will be awarded for 1st\, 2nd and 3rd places and shown on    the table as follows:    Winner  Runner-Up   Third Place \n    The winners of the monthly league prizes are shown as follows:\n    Category 1    Category 2 \n\n\n\n\nPlayer\n07-Feb\n14-Feb\n21-Feb\n28-Feb\nBest 2\nScores\n\n\n\n\nPaul McCaughey\n38\n29\n \n \n67\n\n\nSteve Rodgers\n35\n29\n \n \n64\n\n\nHans Kränzler\n29\n34\n \n \n63\n\n\nAndrei Smetckii\n31\n31\n \n \n62\n\n\nMark Bruce\n33\n26\n \n \n59\n\n\nPhil Loughton\n36\n21\n \n \n57\n\n\nShuj Datoo\n28\n25\n \n \n53\n\n\nSvetlana Kripaytite\n30\n21\n \n \n51\n\n\nRichard Nelms\n28\n23\n \n \n51\n\n\nDmitry Mushta\n40\n \n \n \n40\n\n\nDiarmuid O’Connor\n \n36\n \n \n36\n\n\nChris Dixon\n \n35\n \n \n35\n\n\nStuart Williams\n \n34\n \n \n34\n\n\nGary Williams\n33\n \n \n \n33\n\n\nArne Øydegard\n33\n \n \n \n33\n\n\nTony Gardner\n32\n \n \n \n32\n\n\nGeorge Petch\n \n32\n \n \n32\n\n\nJohn Roethling\n30\n \n \n \n30\n\n\nRoger Jones\n29\n \n \n \n29\n\n\nElena Mushta\n29\n \n \n \n29\n\n\nTony Collier\n28\n \n \n \n28\n\n\nSteven Faull\n28\n \n \n \n28\n\n\nJim Kelly\n \n28\n \n \n28\n\n\nJerry Jaffa\n27\n \n \n \n27\n\n\nWilliam Lewis\n25\n \n \n \n25\n\n\nYuri Buchnev\n \n25\n \n \n25\n\n\nPhilip Cross\n24\n \n \n \n24\n\n\nEamonn Devine\n24\n \n \n \n24\n\n\nStuart Brothers\n21\n \n \n \n21\n\n\nRon Brayson\n \n20\n \n \n20\n\n\nIan Hollingum\n12\n \n \n \n12\n\n\nAlex Rubailo\n10\n \n \n \n10
URL:https://golfthecosta.com/event/spence-clarke-co-weekly-league-28/
LOCATION:Mijas Golf Club\, Avenida Louison Bobet Urb Mijas Golf\,\, Las Lagunas de Mijas\, Malaga\, 29650\, Spain
ATTACH;FMTTYPE=image/jpeg:https://golfthecosta.com/wp-content/uploads/2017/12/SpenceClarkeLogo.jpg
ORGANIZER;CN="Golf The Costa":MAILTO:info@www.golfthecosta.com
GEO:36.55049;-4.66615
X-APPLE-STRUCTURED-LOCATION;VALUE=URI;X-ADDRESS=Mijas Golf Club Avenida Louison Bobet Urb Mijas Golf Las Lagunas de Mijas Malaga 29650 Spain;X-APPLE-RADIUS=500;X-TITLE=Avenida Louison Bobet Urb Mijas Golf\,:geo:-4.66615,36.55049
END:VEVENT
BEGIN:VEVENT
DTSTART;TZID=Europe/Madrid:20190221T090000
DTEND;TZID=Europe/Madrid:20190221T170000
DTSTAMP:20260424T144523
CREATED:20181130T142226Z
LAST-MODIFIED:20220909T123910Z
UID:10000062-1550739600-1550768400@golfthecosta.com
SUMMARY:Spence Clarke & Co Weekly League
DESCRIPTION:Weekly League Table for February 2019 \nCategory 1          Category 2\n Winner               Winner\n Runner-Up        Runner-Up\n Third Place       Third place \nIf there is an insufficient number of players to split the categories\nthen prizes will be awarded for 1st\, 2nd and 3rd places and shown on    the table as follows:    Winner  Runner-Up   Third Place \n    The winners of the monthly league prizes are shown as follows:\n    Category 1    Category 2 \n\n\n\n\nPlayer\n07-Feb\n14-Feb\n21-Feb\n28-Feb\nBest 2\nScores\n\n\n\n\nPaul McCaughey\n38\n29\n37\n \n75\n\n\nAndrei Smetckii\n31\n31\n38\n \n69\n\n\nStuart Williams\n \n34\n35\n \n69\n\n\nPhil Loughton\n36\n21\n32\n \n68\n\n\nChris Dixon\n \n35\n32\n \n67\n\n\nJim Kelly\n \n28\n39\n \n67\n\n\nSteve Rodgers\n35\n29\n28\n \n64\n\n\nGary Williams\n33\n \n31\n \n64\n\n\nHans Kränzler\n29\n34\n \n \n63\n\n\nMark Bruce\n33\n26\n27\n \n60\n\n\nRichard Nelms\n28\n23\n32\n \n60\n\n\nShuj Datoo\n28\n25\n26\n \n54\n\n\nSvetlana Kripaytite\n30\n21\n22\n \n52\n\n\nWilliam Lewis\n25\n \n27\n \n52\n\n\nDmitry Mushta\n40\n \n \n \n40\n\n\nLaurie Passman\n \n \n38\n \n38\n\n\nDiarmuid O’Connor\n \n36\n \n \n36\n\n\nMick Cohen\n \n \n34\n \n34\n\n\nArne Øydegard\n33\n \n \n \n33\n\n\nPeter Jakobsson\n \n \n33\n \n33\n\n\nTony Gardner\n32\n \n \n \n32\n\n\nGeorge Petch\n \n32\n \n \n32\n\n\nGerry Griffin\n \n \n32\n \n32\n\n\nBen Griffin\n \n \n31\n \n31\n\n\nSteve Pagett\n \n \n31\n \n31\n\n\nJohn Roethling\n30\n \n \n \n30\n\n\nRoger Jones\n29\n \n \n \n29\n\n\nElena Mushta\n29\n \n \n \n29\n\n\nJoe Caffrey\n \n \n29\n \n29\n\n\nSue Spence Clarke\n \n \n29\n \n29\n\n\nTony Collier\n28\n \n \n \n28\n\n\nSteven Faull\n28\n \n \n \n28\n\n\nJack Cheevers\n \n \n28\n \n28\n\n\nTijmen Hopman\n \n \n28\n \n28\n\n\nJerry Jaffa\n27\n \n \n \n27\n\n\nSimon Ness\n \n \n27\n \n27\n\n\nMike Christophers\n \n \n27\n \n27\n\n\nTom Haverty\n \n \n27\n \n27\n\n\nFrank Hourican\n \n \n26\n \n26\n\n\nYuri Buchnev\n \n25\n \n \n25\n\n\nPhilip Cross\n24\n \n \n \n24\n\n\nEamonn Devine\n24\n \n \n \n24\n\n\nLuke Sloan\n \n \n24\n \n24\n\n\nAlex Rubailo\n10\n \n13\n \n23\n\n\nStuart Thompson\n \n \n23\n \n23\n\n\nNiq Lauwaert\n \n \n22\n \n22\n\n\nStuart Brothers\n21\n \n \n \n21\n\n\nRon Brayson\n \n20\n \n \n20\n\n\nAlistair Spence Clarke\n \n \n20\n \n20\n\n\nDave Sloan\n \n \n20\n \n20\n\n\nIan Hollingum\n12\n \n \n \n12\n\n\nSergey Nazarov\n \n \n7\n \n7
URL:https://golfthecosta.com/event/spence-clarke-co-weekly-league-29/
LOCATION:El Paraiso Golf Club\, Urb. El Paraiso\, Ctra de Cádiz\, km 167\,\, Estepona\, Malaga\, 29680\, Spain
ATTACH;FMTTYPE=image/jpeg:https://golfthecosta.com/wp-content/uploads/2017/12/SpenceClarkeLogo.jpg
ORGANIZER;CN="Golf The Costa":MAILTO:info@www.golfthecosta.com
GEO:36.476586;-5.034811
X-APPLE-STRUCTURED-LOCATION;VALUE=URI;X-ADDRESS=El Paraiso Golf Club Urb. El Paraiso Ctra de Cádiz km 167 Estepona Malaga 29680 Spain;X-APPLE-RADIUS=500;X-TITLE=Urb. El Paraiso\, Ctra de Cádiz\, km 167\,:geo:-5.034811,36.476586
END:VEVENT
BEGIN:VEVENT
DTSTART;TZID=Europe/Madrid:20190228T090000
DTEND;TZID=Europe/Madrid:20190228T170000
DTSTAMP:20260424T144523
CREATED:20181130T142226Z
LAST-MODIFIED:20220909T123857Z
UID:10000063-1551344400-1551373200@golfthecosta.com
SUMMARY:Spence Clarke & Co Weekly League
DESCRIPTION:Weekly League Table for February 2019 \nCategory 1          Category 2\n Winner               Winner\n Runner-Up        Runner-Up\n Third Place       Third place \nIf there is an insufficient number of players to split the categories\nthen prizes will be awarded for 1st\, 2nd and 3rd places and shown on    the table as follows:    Winner  Runner-Up   Third Place \n    The winners of the monthly league prizes are shown as follows:\n    Category 1    Category 2 \n\n\n\n\nPlayer\n07-Feb\n14-Feb\n21-Feb\n28-Feb\nBest 2\nScores\n\n\n\n\nPaul McCaughey\n38\n29\n37\n23\n75\n\n\nAndrei Smetckii\n31\n31\n38\n36\n74\n\n\nJim Kelly\n \n28\n39\n30\n69\n\n\nStuart Williams\n \n34\n35\n \n69\n\n\nGerry Griffin\n \n \n32\n36\n68\n\n\nPhil Loughton\n36\n21\n32\n31\n68\n\n\nChris Dixon\n \n35\n32\n \n67\n\n\nSteve Pagett\n \n \n31\n35\n66\n\n\nGary Williams\n33\n \n31\n \n64\n\n\nSteve Rodgers\n35\n29\n28\n \n64\n\n\nHans Kränzler\n29\n34\n \n \n63\n\n\nRichard Nelms\n28\n23\n32\n31\n63\n\n\nShuj Datoo\n28\n25\n26\n33\n61\n\n\nMark Bruce\n33\n26\n27\n \n60\n\n\nJoe Caffrey\n \n \n29\n30\n59\n\n\nSteven Faull\n28\n \n \n28\n56\n\n\nTony Collier\n28\n \n \n25\n53\n\n\nSvetlana Kripaytite\n30\n21\n22\n \n52\n\n\nWilliam Lewis\n25\n \n27\n \n52\n\n\nDmitry Mushta\n40\n \n \n \n40\n\n\nLaurie Passman\n \n \n38\n \n38\n\n\nDiarmuid O’Connor\n \n36\n \n \n36\n\n\nBrian Murphy\n \n \n \n34\n34\n\n\nMick Cohen\n \n \n34\n \n34\n\n\nArne Øydegard\n33\n \n \n \n33\n\n\nPeter Jakobsson\n \n \n33\n \n33\n\n\nGeorge Petch\n \n32\n \n \n32\n\n\nTony Gardner\n32\n \n \n \n32\n\n\nBen Griffin\n \n \n31\n \n31\n\n\nJohn Roethling\n30\n \n \n \n30\n\n\nBarry Raw\n \n \n \n29\n29\n\n\nElena Mushta\n29\n \n \n \n29\n\n\nRoger Jones\n29\n \n \n \n29\n\n\nSue Spence Clarke\n \n \n29\n \n29\n\n\nJack Cheevers\n \n \n28\n \n28\n\n\nTijmen Hopman\n \n \n28\n \n28\n\n\nDamien Woods\n \n \n \n27\n27\n\n\nJerry Jaffa\n27\n \n \n \n27\n\n\nMike Christophers\n \n \n27\n \n27\n\n\nSimon Ness\n \n \n27\n \n27\n\n\nTom Haverty\n \n \n27\n \n27\n\n\nFrank Hourican\n \n \n26\n \n26\n\n\nJens Jeske\n \n \n \n26\n26\n\n\nRichard Bruce\n \n \n \n25\n25\n\n\nYuri Buchnev\n \n25\n \n \n25\n\n\nEamonn Devine\n24\n \n \n \n24\n\n\nLuke Sloan\n \n \n24\n \n24\n\n\nMartin Comerford\n \n \n \n24\n24\n\n\nPhilip Cross\n24\n \n \n \n24\n\n\nAlex Rubailo\n10\n \n13\n \n23\n\n\nMartin Guerin\n \n \n \n23\n23\n\n\nStuart Thompson\n \n \n23\n \n23\n\n\nNiq Lauwaert\n \n \n22\n \n22\n\n\nNorman Macrae\n \n \n \n21\n21\n\n\nStuart Brothers\n21\n \n \n \n21\n\n\nAlistair Spence Clarke\n \n \n20\n \n20\n\n\nDave Sloan\n \n \n20\n \n20\n\n\nRon Brayson\n \n20\n \n \n20\n\n\nIan Hollingum\n12\n \n \n \n12\n\n\nSergey Nazarov\n \n \n7\n \n7
URL:https://golfthecosta.com/event/spence-clarke-co-weekly-league-29-2019-02-28/
LOCATION:El Paraiso Golf Club\, Urb. El Paraiso\, Ctra de Cádiz\, km 167\,\, Estepona\, Malaga\, 29680\, Spain
ATTACH;FMTTYPE=image/jpeg:https://golfthecosta.com/wp-content/uploads/2017/12/SpenceClarkeLogo.jpg
ORGANIZER;CN="Golf The Costa":MAILTO:info@www.golfthecosta.com
GEO:36.476586;-5.034811
X-APPLE-STRUCTURED-LOCATION;VALUE=URI;X-ADDRESS=El Paraiso Golf Club Urb. El Paraiso Ctra de Cádiz km 167 Estepona Malaga 29680 Spain;X-APPLE-RADIUS=500;X-TITLE=Urb. El Paraiso\, Ctra de Cádiz\, km 167\,:geo:-5.034811,36.476586
END:VEVENT
END:VCALENDAR