BEGIN:VCALENDAR
VERSION:2.0
PRODID:-// - ECPv6.15.20//NONSGML v1.0//EN
CALSCALE:GREGORIAN
METHOD:PUBLISH
X-ORIGINAL-URL:https://golfthecosta.com
X-WR-CALDESC:Events for 
REFRESH-INTERVAL;VALUE=DURATION:PT1H
X-Robots-Tag:noindex
X-PUBLISHED-TTL:PT1H
BEGIN:VTIMEZONE
TZID:Europe/Madrid
BEGIN:DAYLIGHT
TZOFFSETFROM:+0100
TZOFFSETTO:+0200
TZNAME:CEST
DTSTART:20180325T010000
END:DAYLIGHT
BEGIN:STANDARD
TZOFFSETFROM:+0200
TZOFFSETTO:+0100
TZNAME:CET
DTSTART:20181028T010000
END:STANDARD
BEGIN:DAYLIGHT
TZOFFSETFROM:+0100
TZOFFSETTO:+0200
TZNAME:CEST
DTSTART:20190331T010000
END:DAYLIGHT
BEGIN:STANDARD
TZOFFSETFROM:+0200
TZOFFSETTO:+0100
TZNAME:CET
DTSTART:20191027T010000
END:STANDARD
BEGIN:DAYLIGHT
TZOFFSETFROM:+0100
TZOFFSETTO:+0200
TZNAME:CEST
DTSTART:20200329T010000
END:DAYLIGHT
BEGIN:STANDARD
TZOFFSETFROM:+0200
TZOFFSETTO:+0100
TZNAME:CET
DTSTART:20201025T010000
END:STANDARD
END:VTIMEZONE
BEGIN:VEVENT
DTSTART;TZID=Europe/Madrid:20190502T090000
DTEND;TZID=Europe/Madrid:20190502T170000
DTSTAMP:20260424T100519
CREATED:20181201T140106Z
LAST-MODIFIED:20220909T123514Z
UID:10000072-1556787600-1556816400@golfthecosta.com
SUMMARY:GTC Weekly League and Hog Roast
DESCRIPTION:Weekly League Table for May 2019 \nCategory 1          Category 2\n Winner               Winner\n Runner-Up        Runner-Up\n Third Place       Third place \nIf there is an insufficient number of players to split the categories\nthen prizes will be awarded for 1st\, 2nd and 3rd places and shown on\nthe table as follows:    Winner  Runner-Up   Third Place \n    The winners of the monthly league prizes are shown as follows:\n    Category 1    Category 2 \n\n\n\n\nPlayer\n02-May\n09-May\n16-May\n23-May\n30-May\nBest 2\nScores\n\n\n\n\nRichard Nelms\n38\n \n \n \n \n38\n\n\nStuart Thompson\n37\n \n \n \n \n37\n\n\nIan Morrison\n37\n \n \n \n \n37\n\n\nDmitrii Provotorov\n35\n \n \n \n \n35\n\n\nDavid Giddings\n35\n \n \n \n \n35\n\n\nLaurie Passman\n34\n \n \n \n \n34\n\n\nMark Bruce\n33\n \n \n \n \n33\n\n\nEdd Toni\n33\n \n \n \n \n33\n\n\nMonica Giddings\n33\n \n \n \n \n33\n\n\nPeter Jakobsson\n32\n \n \n \n \n32\n\n\nPaul McCaughey\n32\n \n \n \n \n32\n\n\nJim Kelly\n32\n \n \n \n \n32\n\n\nMichael Houston\n32\n \n \n \n \n32\n\n\nVictor Gurskiy\n32\n \n \n \n \n32\n\n\nDiego Echavarria\n31\n \n \n \n \n31\n\n\nShuj Datoo\n30\n \n \n \n \n30\n\n\nVladimir Koshman\n28\n \n \n \n \n28\n\n\nMartin Guerrin\n28\n \n \n \n \n28\n\n\nAndrew Sale\n28\n \n \n \n \n28\n\n\nRoy Martinez\n28\n \n \n \n \n28\n\n\nPhil Loughton\n27\n \n \n \n \n27\n\n\nSteve Rodgers\n27\n \n \n \n \n27\n\n\nAndrei Smetckii\n27\n \n \n \n \n27\n\n\nBob Carvell\n26\n \n \n \n \n26\n\n\nGren Collings\n26\n \n \n \n \n26\n\n\nBrian Binstock\n25\n \n \n \n \n25\n\n\nJohn Campbell\n22\n \n \n \n \n22\n\n\nBarry Kirk\n22\n \n \n \n \n22\n\n\nJohn Dellow\n22\n \n \n \n \n22\n\n\nDavid Goodwin\n22\n \n \n \n \n22\n\n\nEamonn Devine\n19\n \n \n \n \n19\n\n\nChristine Morrison\n18\n \n \n \n \n18\n\n\nIan Hollingum\n13\n \n \n \n \n13
URL:https://golfthecosta.com/event/spence-clarke-co-weekly-league-31/
LOCATION:El Higueral Golf Club\, Urbanización Capanes Norte\, Ctra. de Benahavís\, Km 3.7\, Benahavis\, Malaga\, 29679\, Spain
ORGANIZER;CN="Golf The Costa":MAILTO:info@www.golfthecosta.com
GEO:36.505497;-5.0232866
X-APPLE-STRUCTURED-LOCATION;VALUE=URI;X-ADDRESS=El Higueral Golf Club Urbanización Capanes Norte Ctra. de Benahavís Km 3.7 Benahavis Malaga 29679 Spain;X-APPLE-RADIUS=500;X-TITLE=Urbanización Capanes Norte\, Ctra. de Benahavís\, Km 3.7:geo:-5.0232866,36.505497
END:VEVENT
BEGIN:VEVENT
DTSTART;TZID=Europe/Madrid:20190509T080000
DTEND;TZID=Europe/Madrid:20190509T170000
DTSTAMP:20260424T100519
CREATED:20181201T140923Z
LAST-MODIFIED:20220909T123504Z
UID:10000074-1557388800-1557421200@golfthecosta.com
SUMMARY:Spence Clarke & Co Weekly League
DESCRIPTION:Weekly League Table for May 2019 \nCategory 1          Category 2\n Winner               Winner\n Runner-Up        Runner-Up\n Third Place       Third place \nIf there is an insufficient number of players to split the categories\nthen prizes will be awarded for 1st\, 2nd and 3rd places and shown on\nthe table as follows:    Winner  Runner-Up   Third Place \n    The winners of the monthly league prizes are shown as follows:\n    Category 1    Category 2 \n\n\n\n\nPlayer\n02-May\n09-May\n16-May\n23-May\n30-May\nBest 2\nScores\n\n\n\n\nDmitrii Provotorov\n35\n40\n \n \n \n75\n\n\nMichael Houston\n32\n38\n \n \n \n70\n\n\nPeter Jakobsson\n32\n38\n \n \n \n70\n\n\nJim Kelly\n32\n36\n \n \n \n68\n\n\nMark Bruce\n33\n33\n \n \n \n66\n\n\nPhil Loughton\n27\n35\n \n \n \n62\n\n\nShuj Datoo\n30\n32\n \n \n \n62\n\n\nStuart Thompson\n37\n24\n \n \n \n61\n\n\nBob Carvell\n26\n34\n \n \n \n60\n\n\nJohn Dellow\n22\n31\n \n \n \n53\n\n\nVladimir Koshman\n28\n24\n \n \n \n52\n\n\nDavid Goodwin\n22\n28\n \n \n \n50\n\n\nRichard Nelms\n38\n \n \n \n \n38\n\n\nIan Morrison\n37\n \n \n \n \n37\n\n\nDavid Giddings\n35\n \n \n \n \n35\n\n\nStephen Melville\n \n35\n \n \n \n35\n\n\nIan Hollingum\n13\n21\n \n \n \n34\n\n\nLaurie Passman\n34\n \n \n \n \n34\n\n\nLeonid Batenkov\n \n34\n \n \n \n34\n\n\nEdd Toni\n33\n \n \n \n \n33\n\n\nMonica Giddings\n33\n \n \n \n \n33\n\n\nNigel Guy\n \n32\n \n \n \n32\n\n\nPaul McCaughey\n32\n \n \n \n \n32\n\n\nVictor Gurskiy\n32\n \n \n \n \n32\n\n\nDiego Echavarria\n31\n \n \n \n \n31\n\n\nYuri Buchnev\n \n31\n \n \n \n31\n\n\nSergey Kuznetsov\n \n30\n \n \n \n30\n\n\nSvetlana Kripaytite\n \n30\n \n \n \n30\n\n\nOlga Pinchukova\n \n29\n \n \n \n29\n\n\nSteve Pagett\n \n29\n \n \n \n29\n\n\nAndrew Sale\n28\n \n \n \n \n28\n\n\nMartin Guerrin\n28\n \n \n \n \n28\n\n\nMark Frankel\n \n28\n \n \n \n28\n\n\nRoy Martinez\n28\n \n \n \n \n28\n\n\nAndrei Smetckii\n27\n \n \n \n \n27\n\n\nArend van der Knapp\n \n27\n \n \n \n27\n\n\nGeorge Petch\n \n27\n \n \n \n27\n\n\nSteve Rodgers\n27\n \n \n \n \n27\n\n\nGren Collings\n26\n \n \n \n \n26\n\n\nBrian Binstock\n25\n \n \n \n \n25\n\n\nGerda van der Knapp\n \n25\n \n \n \n25\n\n\nTony Collier\n \n25\n \n \n \n25\n\n\nBarry Kirk\n22\n \n \n \n \n22\n\n\nJohn Campbell\n22\n \n \n \n \n22\n\n\nJohn Moran\n \n21\n \n \n \n21\n\n\nEamonn Devine\n19\n \n \n \n \n19\n\n\nChristine Morrison\n18\n \n \n \n \n18
URL:https://golfthecosta.com/event/spence-clarke-co-weekly-league-33/
LOCATION:El Paraiso Golf Club\, Urb. El Paraiso\, Ctra de Cádiz\, km 167\,\, Estepona\, Malaga\, 29680\, Spain
ATTACH;FMTTYPE=image/jpeg:https://golfthecosta.com/wp-content/uploads/2017/12/SpenceClarkeLogo.jpg
ORGANIZER;CN="Golf The Costa":MAILTO:info@www.golfthecosta.com
GEO:36.476586;-5.034811
X-APPLE-STRUCTURED-LOCATION;VALUE=URI;X-ADDRESS=El Paraiso Golf Club Urb. El Paraiso Ctra de Cádiz km 167 Estepona Malaga 29680 Spain;X-APPLE-RADIUS=500;X-TITLE=Urb. El Paraiso\, Ctra de Cádiz\, km 167\,:geo:-5.034811,36.476586
END:VEVENT
BEGIN:VEVENT
DTSTART;TZID=Europe/Madrid:20190516T080000
DTEND;TZID=Europe/Madrid:20190516T170000
DTSTAMP:20260424T100519
CREATED:20181201T140923Z
LAST-MODIFIED:20220909T123454Z
UID:10000075-1557993600-1558026000@golfthecosta.com
SUMMARY:Spence Clarke & Co Weekly League
DESCRIPTION:Weekly League Table for May 2019 \nCategory 1          Category 2\n Winner               Winner\n Runner-Up        Runner-Up\n Third Place       Third place \nIf there is an insufficient number of players to split the categories\nthen prizes will be awarded for 1st\, 2nd and 3rd places and shown on\nthe table as follows:    Winner  Runner-Up   Third Place \n    The winners of the monthly league prizes are shown as follows:\n    Category 1    Category 2 \n\n\n\n\nPlayer\n02-May\n09-May\n16-May\n23-May\n30-May\nBest 2\nScores\n\n\n\n\nDmitrii Provotorov\n35\n40\n38\n \n \n78\n\n\nShuj Datoo\n30\n32\n45\n \n \n77\n\n\nLaurie Passman\n34\n \n36\n \n \n70\n\n\nMichael Houston\n32\n38\n \n \n \n70\n\n\nPaul McCaughey\n32\n \n38\n \n \n70\n\n\nPeter Jakobsson\n32\n38\n31\n \n \n70\n\n\nPhil Loughton\n27\n35\n35\n \n \n70\n\n\nSteve Rodgers\n27\n \n42\n \n \n69\n\n\nJim Kelly\n32\n36\n30\n \n \n68\n\n\nMark Bruce\n33\n33\n35\n \n \n68\n\n\nStuart Thompson\n37\n24\n31\n \n \n68\n\n\nRichard Nelms\n38\n \n29\n \n \n67\n\n\nSteve Pagett\n \n29\n35\n \n \n64\n\n\nSergey Kuznetsov\n \n30\n32\n \n \n62\n\n\nBob Carvell\n26\n34\n \n \n \n60\n\n\nDavid Goodwin\n22\n28\n32\n \n \n60\n\n\nEdd Toni\n33\n \n27\n \n \n60\n\n\nJohn Dellow\n22\n31\n27\n \n \n58\n\n\nRoy Martinez\n28\n \n29\n \n \n57\n\n\nVladimir Koshman\n28\n24\n29\n \n \n57\n\n\nOlga Pinchukova\n \n29\n26\n \n \n55\n\n\nSteve Asplet\n \n \n38\n \n \n38\n\n\nIan Morrison\n37\n \n \n \n \n37\n\n\nStuart Williams\n \n \n37\n \n \n37\n\n\nDavid Giddings\n35\n \n \n \n \n35\n\n\nStephen Melville\n \n35\n \n \n \n35\n\n\nJohn Roethling\n \n \n35\n \n \n35\n\n\nIan Hollingum\n13\n21\n \n \n \n34\n\n\nLeonid Batenkov\n \n34\n \n \n \n34\n\n\nDiarmuid O’Connor\n \n \n34\n \n \n34\n\n\nMonica Giddings\n33\n \n \n \n \n33\n\n\nNigel Guy\n \n32\n \n \n \n32\n\n\nVictor Gurskiy\n32\n \n \n \n \n32\n\n\nDiego Echavarria\n31\n \n \n \n \n31\n\n\nYuri Buchnev\n \n31\n \n \n \n31\n\n\nAlasdair MacLean\n \n \n31\n \n \n31\n\n\nSvetlana Kripaytite\n \n30\n \n \n \n30\n\n\nRoiger Jones\n \n \n30\n \n \n30\n\n\nAndrew Sale\n28\n \n \n \n \n28\n\n\nMark Frankel\n \n28\n \n \n \n28\n\n\nMartin Guerrin\n28\n \n \n \n \n28\n\n\nDan Palmer\n \n \n28\n \n \n28\n\n\nRichard Bruce\n \n \n28\n \n \n28\n\n\nAndrei Smetckii\n27\n \n \n \n \n27\n\n\nArend van der Knapp\n \n27\n \n \n \n27\n\n\nGeorge Petch\n \n27\n \n \n \n27\n\n\nGren Collings\n26\n \n \n \n \n26\n\n\nWilliam Lewis\n \n \n26\n \n \n26\n\n\nBrian Binstock\n25\n \n \n \n \n25\n\n\nGerda van der Knapp\n \n25\n \n \n \n25\n\n\nTony Collier\n \n25\n \n \n \n25\n\n\nBarry Kirk\n22\n \n \n \n \n22\n\n\nJohn Campbell\n22\n \n \n \n \n22\n\n\nJohn Moran\n \n21\n \n \n \n21\n\n\nMike Gill\n \n \n21\n \n \n21\n\n\nBrian Dunk\n \n \n21\n \n \n21\n\n\nEamonn Devine\n19\n \n \n \n \n19\n\n\nChristine Morrison\n18\n \n \n \n \n18
URL:https://golfthecosta.com/event/spence-clarke-co-weekly-league-33-2019-05-16/
LOCATION:El Paraiso Golf Club\, Urb. El Paraiso\, Ctra de Cádiz\, km 167\,\, Estepona\, Malaga\, 29680\, Spain
ATTACH;FMTTYPE=image/jpeg:https://golfthecosta.com/wp-content/uploads/2017/12/SpenceClarkeLogo.jpg
ORGANIZER;CN="Golf The Costa":MAILTO:info@www.golfthecosta.com
GEO:36.476586;-5.034811
X-APPLE-STRUCTURED-LOCATION;VALUE=URI;X-ADDRESS=El Paraiso Golf Club Urb. El Paraiso Ctra de Cádiz km 167 Estepona Malaga 29680 Spain;X-APPLE-RADIUS=500;X-TITLE=Urb. El Paraiso\, Ctra de Cádiz\, km 167\,:geo:-5.034811,36.476586
END:VEVENT
BEGIN:VEVENT
DTSTART;TZID=Europe/Madrid:20190523T080000
DTEND;TZID=Europe/Madrid:20190523T170000
DTSTAMP:20260424T100519
CREATED:20181201T141559Z
LAST-MODIFIED:20220909T123443Z
UID:10000076-1558598400-1558630800@golfthecosta.com
SUMMARY:Spence Clarke & Co Weekly League
DESCRIPTION:Weekly League Table for May 2019 \nCategory 1          Category 2\n Winner               Winner\n Runner-Up        Runner-Up\n Third Place       Third place \nIf there is an insufficient number of players to split the categories\nthen prizes will be awarded for 1st\, 2nd and 3rd places and shown on\nthe table as follows:    Winner  Runner-Up   Third Place \n    The winners of the monthly league prizes are shown as follows:\n    Category 1    Category 2 \n\n\n\n\nPlayer\n02-May\n09-May\n16-May\n23-May\n30-May\nBest 2\nScores\n\n\n\n\nDmitrii Provotorov\n35\n40\n38\n19\n \n78\n\n\nShuj Datoo\n30\n32\n45\n22\n \n77\n\n\nLaurie Passman\n34\n \n36\n \n \n70\n\n\nMichael Houston\n32\n38\n \n31\n \n70\n\n\nPaul McCaughey\n32\n \n38\n27\n \n70\n\n\nPeter Jakobsson\n32\n38\n31\n29\n \n70\n\n\nPhil Loughton\n27\n35\n35\n22\n \n70\n\n\nStuart Thompson\n37\n24\n31\n33\n \n70\n\n\nSergey Kuznetsov\n \n30\n32\n38\n \n70\n\n\nSteve Rodgers\n27\n \n42\n \n \n69\n\n\nJim Kelly\n32\n36\n30\n23\n \n68\n\n\nMark Bruce\n33\n33\n35\n24\n \n68\n\n\nRichard Nelms\n38\n \n29\n \n \n67\n\n\nDiarmuid O’Connor\n \n \n34\n33\n \n67\n\n\nSteve Pagett\n \n29\n35\n30\n \n65\n\n\nBob Carvell\n26\n34\n \n \n \n60\n\n\nDavid Goodwin\n22\n28\n32\n19\n \n60\n\n\nEdd Toni\n33\n \n27\n \n \n60\n\n\nAlasdair MacLean\n \n \n31\n29\n \n60\n\n\nJohn Dellow\n22\n31\n27\n \n \n58\n\n\nRoy Martinez\n28\n \n29\n \n \n57\n\n\nVladimir Koshman\n28\n24\n29\n \n \n57\n\n\nOlga Pinchukova\n \n29\n26\n \n \n55\n\n\nRichard Bruce\n \n \n28\n27\n \n55\n\n\nBarry Kirk\n22\n \n \n32\n \n54\n\n\nSvetlana Kripaytite\n \n30\n \n22\n \n52\n\n\nTony Collier\n \n25\n \n27\n \n52\n\n\nWilliam Lewis\n \n \n26\n24\n \n50\n\n\nSteve Asplet\n \n \n38\n \n \n38\n\n\nIan Morrison\n37\n \n \n \n \n37\n\n\nStuart Williams\n \n \n37\n \n \n37\n\n\nDavid Giddings\n35\n \n \n \n \n35\n\n\nStephen Melville\n \n35\n \n \n \n35\n\n\nJohn Roethling\n \n \n35\n \n \n35\n\n\nIan Hollingum\n13\n21\n \n9\n \n34\n\n\nLeonid Batenkov\n \n34\n \n \n \n34\n\n\nMonica Giddings\n33\n \n \n \n \n33\n\n\nKarina Budantseva\n \n \n \n33\n \n33\n\n\nNigel Guy\n \n32\n \n \n \n32\n\n\nVictor Gurskiy\n32\n \n \n \n \n32\n\n\nCharlie Woods\n \n \n \n32\n \n32\n\n\nDiego Echavarria\n31\n \n \n \n \n31\n\n\nYuri Buchnev\n \n31\n \n \n \n31\n\n\nRoiger Jones\n \n \n30\n \n \n30\n\n\nAndrew Sale\n28\n \n \n \n \n28\n\n\nMark Frankel\n \n28\n \n \n \n28\n\n\nMartin Guerrin\n28\n \n \n \n \n28\n\n\nDan Palmer\n \n \n28\n \n \n28\n\n\nAndrei Smetckii\n27\n \n \n \n \n27\n\n\nArend van der Knapp\n \n27\n \n \n \n27\n\n\nGeorge Petch\n \n27\n \n \n \n27\n\n\nJan Olsen\n \n \n \n27\n \n27\n\n\nGren Collings\n26\n \n \n \n \n26\n\n\nBrian Binstock\n25\n \n \n \n \n25\n\n\nGerda van der Knapp\n \n25\n \n \n \n25\n\n\nAlan White\n \n \n \n25\n \n25\n\n\nColin Sparkes\n \n \n \n24\n \n24\n\n\nLorraine Sparkes\n \n \n \n23\n \n23\n\n\nBrian Murphy\n \n \n \n23\n \n23\n\n\nJohn Campbell\n22\n \n \n \n \n22\n\n\nJohn Moran\n \n21\n \n \n \n21\n\n\nMike Gill\n \n \n21\n \n \n21\n\n\nBrian Dunk\n \n \n21\n \n \n21\n\n\nEamonn Devine\n19\n \n \n \n \n19\n\n\nSteven Faull\n \n \n \n19\n \n19\n\n\nChris Dixon\n \n \n \n19\n \n19\n\n\nChristine Morrison\n18\n \n \n \n \n18\n\n\nPhilip Cross\n \n \n \n16\n \n16
URL:https://golfthecosta.com/event/spence-clarke-co-weekly-league-34/
LOCATION:Cabopino Golf Club\, Km. 194-5\, Urb. Artola Baja\, Marbella\, Malaga\, 29604\, Spain
ATTACH;FMTTYPE=image/jpeg:https://golfthecosta.com/wp-content/uploads/2017/12/SpenceClarkeLogo.jpg
ORGANIZER;CN="Golf The Costa":MAILTO:info@www.golfthecosta.com
GEO:36.4943407;-4.7425443
X-APPLE-STRUCTURED-LOCATION;VALUE=URI;X-ADDRESS=Cabopino Golf Club Km. 194-5 Urb. Artola Baja Marbella Malaga 29604 Spain;X-APPLE-RADIUS=500;X-TITLE=Km. 194-5\, Urb. Artola Baja:geo:-4.7425443,36.4943407
END:VEVENT
BEGIN:VEVENT
DTSTART;TZID=Europe/Madrid:20190530T085000
DTEND;TZID=Europe/Madrid:20190530T170000
DTSTAMP:20260424T100519
CREATED:20181201T140646Z
LAST-MODIFIED:20220909T123433Z
UID:10000073-1559206200-1559235600@golfthecosta.com
SUMMARY:Spence Clarke & Co Weekly League
DESCRIPTION:Weekly League Table for May 2019 \nCategory 1          Category 2\n Winner               Winner\n Runner-Up        Runner-Up\n Third Place       Third place \nIf there is an insufficient number of players to split the categories\nthen prizes will be awarded for 1st\, 2nd and 3rd places and shown on\nthe table as follows:    Winner  Runner-Up   Third Place \n    The winners of the monthly league prizes are shown as follows:\n    Category 1    Category 2 \n\n\n\n\nPlayer\n02-May\n09-May\n16-May\n23-May\n30-May\nBest 2\nScores\n\n\n\n\nDmitrii Provotorov\n35\n40\n38\n19\n23\n78\n\n\nShuj Datoo\n30\n32\n45\n22\n32\n77\n\n\nStuart Thompson\n37\n24\n31\n33\n34\n71\n\n\nSteve Rodgers\n27\n \n42\n \n29\n71\n\n\nLaurie Passman\n34\n \n36\n \n \n70\n\n\nMichael Houston\n32\n38\n \n31\n32\n70\n\n\nPaul McCaughey\n32\n \n38\n27\n \n70\n\n\nPeter Jakobsson\n32\n38\n31\n29\n28\n70\n\n\nPhil Loughton\n27\n35\n35\n22\n27\n70\n\n\nSergey Kuznetsov\n \n30\n32\n38\n28\n70\n\n\nJim Kelly\n32\n36\n30\n23\n30\n68\n\n\nMark Bruce\n33\n33\n35\n24\n25\n68\n\n\nRichard Nelms\n38\n \n29\n \n \n67\n\n\nDiarmuid O’Connor\n \n \n34\n33\n \n67\n\n\nSteve Pagett\n \n29\n35\n30\n22\n65\n\n\nSteve Asplet\n \n \n38\n \n27\n65\n\n\nBob Carvell\n26\n34\n \n \n \n60\n\n\nDavid Goodwin\n22\n28\n32\n19\n \n60\n\n\nEdd Toni\n33\n \n27\n \n \n60\n\n\nAlasdair MacLean\n \n \n31\n29\n27\n60\n\n\nStephen Melville\n \n35\n \n \n24\n59\n\n\nJohn Dellow\n22\n31\n27\n \n26\n58\n\n\nRoy Martinez\n28\n \n29\n \n \n57\n\n\nVladimir Koshman\n28\n24\n29\n \n \n57\n\n\nRichard Bruce\n \n \n28\n27\n28\n56\n\n\nOlga Pinchukova\n \n29\n26\n \n \n55\n\n\nBarry Kirk\n22\n \n \n32\n23\n55\n\n\nAlan White\n \n \n \n25\n30\n55\n\n\nBrian Murphy\n \n \n \n23\n32\n55\n\n\nSvetlana Kripaytite\n \n30\n \n22\n \n52\n\n\nTony Collier\n \n25\n \n27\n \n52\n\n\nAndrei Smetckii\n27\n \n \n \n25\n52\n\n\nWilliam Lewis\n \n \n26\n24\n19\n50\n\n\nSteven Faull\n \n \n \n19\n22\n41\n\n\nIan Morrison\n37\n \n \n \n \n37\n\n\nStuart Williams\n \n \n37\n \n \n37\n\n\nDavid Giddings\n35\n \n \n \n \n35\n\n\nJohn Roethling\n \n \n35\n \n \n35\n\n\nIan Hollingum\n13\n21\n \n9\n4\n34\n\n\nLeonid Batenkov\n \n34\n \n \n \n34\n\n\nMonica Giddings\n33\n \n \n \n \n33\n\n\nKarina Budantseva\n \n \n \n33\n \n33\n\n\nNigel Guy\n \n32\n \n \n \n32\n\n\nVictor Gurskiy\n32\n \n \n \n \n32\n\n\nCharlie Woods\n \n \n \n32\n \n32\n\n\nJohn Saville\n \n \n \n \n32\n32\n\n\nDiego Echavarria\n31\n \n \n \n \n31\n\n\nYuri Buchnev\n \n31\n \n \n \n31\n\n\nRoiger Jones\n \n \n30\n \n \n30\n\n\nJoe Caffrey\n \n \n \n \n30\n30\n\n\nColin Gill\n \n \n \n \n30\n30\n\n\nAndrew Sale\n28\n \n \n \n \n28\n\n\nMark Frankel\n \n28\n \n \n \n28\n\n\nMartin Guerrin\n28\n \n \n \n \n28\n\n\nDan Palmer\n \n \n28\n \n \n28\n\n\nRobert Gilbert\n \n \n \n \n28\n28\n\n\nArend van der Knapp\n \n27\n \n \n \n27\n\n\nGeorge Petch\n \n27\n \n \n \n27\n\n\nJan Olsen\n \n \n \n27\n \n27\n\n\nGren Collings\n26\n \n \n \n \n26\n\n\nMike Bowling\n \n \n \n \n26\n26\n\n\nBrian Binstock\n25\n \n \n \n \n25\n\n\nGerda van der Knapp\n \n25\n \n \n \n25\n\n\nColin Sparkes\n \n \n \n24\n \n24\n\n\nBarry Raw\n \n \n \n \n24\n24\n\n\nLorraine Sparkes\n \n \n \n23\n \n23\n\n\nArne Øydegard\n \n \n \n \n23\n23\n\n\nJohn Campbell\n22\n \n \n \n \n22\n\n\nJohn Moran\n \n21\n \n \n \n21\n\n\nMike Gill\n \n \n21\n \n \n21\n\n\nBrian Dunk\n \n \n21\n \n \n21\n\n\nStefan Drakelid\n \n \n \n \n20\n20\n\n\nEamonn Devine\n19\n \n \n \n \n19\n\n\nChris Dixon\n \n \n \n19\n \n19\n\n\nFrank Hourican\n \n \n \n \n19\n19\n\n\nRon Brayson\n \n \n \n \n19\n19\n\n\nChristine Morrison\n18\n \n \n \n \n18\n\n\nPhilip Cross\n \n \n \n16\n \n16\n\n\nTony Smith\n \n \n \n \n14\n14\n\n\nJeremy Ferguson\n \n \n \n \n11\n11
URL:https://golfthecosta.com/event/spence-clarke-co-weekly-league-32/
LOCATION:Mijas Golf Club\, Avenida Louison Bobet Urb Mijas Golf\,\, Las Lagunas de Mijas\, Malaga\, 29650\, Spain
ATTACH;FMTTYPE=image/jpeg:https://golfthecosta.com/wp-content/uploads/2017/12/SpenceClarkeLogo.jpg
ORGANIZER;CN="Golf The Costa":MAILTO:info@www.golfthecosta.com
GEO:36.55049;-4.66615
X-APPLE-STRUCTURED-LOCATION;VALUE=URI;X-ADDRESS=Mijas Golf Club Avenida Louison Bobet Urb Mijas Golf Las Lagunas de Mijas Malaga 29650 Spain;X-APPLE-RADIUS=500;X-TITLE=Avenida Louison Bobet Urb Mijas Golf\,:geo:-4.66615,36.55049
END:VEVENT
END:VCALENDAR