BEGIN:VCALENDAR
VERSION:2.0
PRODID:-// - ECPv6.15.20//NONSGML v1.0//EN
CALSCALE:GREGORIAN
METHOD:PUBLISH
X-ORIGINAL-URL:https://golfthecosta.com
X-WR-CALDESC:Events for 
REFRESH-INTERVAL;VALUE=DURATION:PT1H
X-Robots-Tag:noindex
X-PUBLISHED-TTL:PT1H
BEGIN:VTIMEZONE
TZID:Europe/Madrid
BEGIN:DAYLIGHT
TZOFFSETFROM:+0100
TZOFFSETTO:+0200
TZNAME:CEST
DTSTART:20180325T010000
END:DAYLIGHT
BEGIN:STANDARD
TZOFFSETFROM:+0200
TZOFFSETTO:+0100
TZNAME:CET
DTSTART:20181028T010000
END:STANDARD
BEGIN:DAYLIGHT
TZOFFSETFROM:+0100
TZOFFSETTO:+0200
TZNAME:CEST
DTSTART:20190331T010000
END:DAYLIGHT
BEGIN:STANDARD
TZOFFSETFROM:+0200
TZOFFSETTO:+0100
TZNAME:CET
DTSTART:20191027T010000
END:STANDARD
BEGIN:DAYLIGHT
TZOFFSETFROM:+0100
TZOFFSETTO:+0200
TZNAME:CEST
DTSTART:20200329T010000
END:DAYLIGHT
BEGIN:STANDARD
TZOFFSETFROM:+0200
TZOFFSETTO:+0100
TZNAME:CET
DTSTART:20201025T010000
END:STANDARD
END:VTIMEZONE
BEGIN:VEVENT
DTSTART;TZID=Europe/Madrid:20190606T090000
DTEND;TZID=Europe/Madrid:20190606T170000
DTSTAMP:20260424T084221
CREATED:20181202T104515Z
LAST-MODIFIED:20220909T123420Z
UID:10000077-1559811600-1559840400@golfthecosta.com
SUMMARY:Spence Clarke & Co Weekly League
DESCRIPTION:Weekly League Table for Jun 2019 \nCategory 1          Category 2\n Winner               Winner\n Runner-Up        Runner-Up\n Third Place       Third place \nIf there is an insufficient number of players to split the categories\nthen prizes will be awarded for 1st\, 2nd and 3rd places and shown on\nthe table as follows:    Winner  Runner-Up   Third Place \n    The winners of the monthly league prizes are shown as follows:\n    Category 1    Category 2 \n\n\n\n\nPlayer\n06-Jun\n13-Jun\n20-Jun\n27-Jun\nBest 2\nScores\n\n\n\n\nPeter Jakobsson\n48\n \n \n \n48\n\n\nStephen Melville\n40\n \n \n \n40\n\n\nMark Bruce\n38\n \n \n \n38\n\n\nSvetlana Kripaytite\n38\n \n \n \n38\n\n\nPhil Loughton\n37\n \n \n \n37\n\n\nAndy Eames\n36\n \n \n \n36\n\n\nBrian Binstock\n36\n \n \n \n36\n\n\nTony Gardner\n35\n \n \n \n35\n\n\nRichard Bruce\n34\n \n \n \n34\n\n\nJim Kelly\n33\n \n \n \n33\n\n\nJoe Caffrey\n33\n \n \n \n33\n\n\nKeith Basnett\n32\n \n \n \n32\n\n\nMike Houston\n32\n \n \n \n32\n\n\nNeil Brockie\n32\n \n \n \n32\n\n\nSergey Kuznetsov\n31\n \n \n \n31\n\n\nHoward Collins\n30\n \n \n \n30\n\n\nLewis Harrison\n30\n \n \n \n30\n\n\nShuj Datoo\n30\n \n \n \n30\n\n\nJohn Saville\n30\n \n \n \n30\n\n\nTony Collier\n30\n \n \n \n30\n\n\nAndrei Smetckii\n29\n \n \n \n29\n\n\nNigel Guy\n28\n \n \n \n28\n\n\nBib Grierson\n28\n \n \n \n28\n\n\nKarl Robinson\n28\n \n \n \n28\n\n\nSteve Asplet\n27\n \n \n \n27\n\n\nJohn Dellow\n26\n \n \n \n26\n\n\nNorman Macrae\n25\n \n \n \n25
URL:https://golfthecosta.com/event/spence-clarke-co-weekly-league-35/
LOCATION:El Paraiso Golf Club\, Urb. El Paraiso\, Ctra de Cádiz\, km 167\,\, Estepona\, Malaga\, 29680\, Spain
ATTACH;FMTTYPE=image/jpeg:https://golfthecosta.com/wp-content/uploads/2017/12/SpenceClarkeLogo.jpg
ORGANIZER;CN="Golf The Costa":MAILTO:info@www.golfthecosta.com
GEO:36.476586;-5.034811
X-APPLE-STRUCTURED-LOCATION;VALUE=URI;X-ADDRESS=El Paraiso Golf Club Urb. El Paraiso Ctra de Cádiz km 167 Estepona Malaga 29680 Spain;X-APPLE-RADIUS=500;X-TITLE=Urb. El Paraiso\, Ctra de Cádiz\, km 167\,:geo:-5.034811,36.476586
END:VEVENT
BEGIN:VEVENT
DTSTART;VALUE=DATE:20190608
DTEND;VALUE=DATE:20190609
DTSTAMP:20260424T084221
CREATED:20190206T125051Z
LAST-MODIFIED:20220909T123408Z
UID:10000106-1559952000-1560038399@golfthecosta.com
SUMMARY:Spence Clarke & Co Annual Charity Event
DESCRIPTION:This is the 11th annual charity golf event supported by\nSpence Clarke & Co \nThanks to your generosity we have raised 7\,257€\nto be shared between\nMarbella Alzheimers Association\nand\nThe Alzheimers and Dementia Support International \nRESULTS  \n\n\n\n\nPosition\nTeam\nGross\nScore\nTeam\nHcp\nNett\nScore\n\n\n\n\n1st\nJohn Balague\nRob Clarke\nCliff Harvey\nSteve Pagett\n65\n2.2\n62.8\n\n\n2nd\nJames Barrett\nRichard Bruce\nGrant Evans\nMichael Houston\n65\n2.0\n63.0\n\n\n3rd\nIngrid Rolfsson\nGöran Rolfsson\nAlan White\n67\n2.5\n64.5\n\n\n4th\nMark Bruce\nShuj Datoo\nNiq Lauwaert\nSteve Roidgers\n70\n4.7\n65.3\n\n\n5th\nTatiana Solod\nDeimante Jasilioniene\nirinia Kulikova\nJohn Roethling\n70\n4.5\n65.5\n\n\n6th\nHarry McCraken\nSandra Davies\nBarbara von Boxtel\nBent Longerup Jensen\n71\n3.7\n67.3\n\n\n7th\nVladimir Borisov\nElena Mushta\nOlga Pinchukova\nirina Nikitina\n73\n5.6\n67.4\n\n\n8th\nFrancisco Galán\nManuel Bautista\nAntonio Nuñez\nOscar Eguren\n74\n4.8\n69.2\n\n\n9th\nMike Egan\nTony Minta\nJack Butler\nTony Dean\n74\n4.6\n69.4\n\n\n10th\nPhilip Marsh\nPamela Lake\nMike Barr\nMary Caswell\n76\n6.0\n70.0\n\n\n11th\nSusan Spence Clarke\nAlistair Spence Clarke\nAvi Murphy\nPatrick Murphy\n75\n4.9\n70.1\n\n\n12th\nMichaela Hanel\nMorislav Hanel\nWencke Bergwell\nPer Bergwell\n76\n5.1\n70.9\n\n\n13th\nJim Kelly\nJohn Dellow\nWilliam James\n76\n5.0\n71.0\n\n\n14th\nMiguel Angel Blanca Prieto\nAna Garcia\nJoey Imossi\nFrank De Ruiter\n78\n5.8\n72.2\n\n\n15th\nJohn Watts\nDiane Lavender\nRoy Lawton\nPatricia Lawton\n78\n4.9\n73.1\n\n\n16th\nJavier Osorio\nJoaquin Bautista\nAntonio Cortés Sánchez\nhelio Carmona\n79\n5.3\n73.7\n\n\n17th\nHans Jurgen Hartmann\nClaudia Hartman\nMargit Brenk\nRalph Brenk\n78\n4.7\n73.3\n\n\n18th\nCampbell Ferguson\nJohn Rayner\nWilliam Lewis\n81\n4.3\n76.7
URL:https://golfthecosta.com/event/spence-clarke-co-annual-charity-event-2/
LOCATION:El Paraiso Golf Club\, Urb. El Paraiso\, Ctra de Cádiz\, km 167\,\, Estepona\, Malaga\, 29680\, Spain
ATTACH;FMTTYPE=image/jpeg:https://golfthecosta.com/wp-content/uploads/2017/12/SpenceClarkeLogo.jpg
ORGANIZER;CN="Golf The Costa":MAILTO:info@www.golfthecosta.com
GEO:36.476586;-5.034811
X-APPLE-STRUCTURED-LOCATION;VALUE=URI;X-ADDRESS=El Paraiso Golf Club Urb. El Paraiso Ctra de Cádiz km 167 Estepona Malaga 29680 Spain;X-APPLE-RADIUS=500;X-TITLE=Urb. El Paraiso\, Ctra de Cádiz\, km 167\,:geo:-5.034811,36.476586
END:VEVENT
BEGIN:VEVENT
DTSTART;TZID=Europe/Madrid:20190613T090000
DTEND;TZID=Europe/Madrid:20190613T170000
DTSTAMP:20260424T084221
CREATED:20181202T104515Z
LAST-MODIFIED:20220909T123354Z
UID:10000078-1560416400-1560445200@golfthecosta.com
SUMMARY:Spence Clarke & Co Weekly League
DESCRIPTION:Weekly League Table for Jun 2019 \nCategory 1          Category 2\n Winner               Winner\n Runner-Up        Runner-Up\n Third Place       Third place \nIf there is an insufficient number of players to split the categories\nthen prizes will be awarded for 1st\, 2nd and 3rd places and shown on\nthe table as follows:    Winner  Runner-Up   Third Place \n    The winners of the monthly league prizes are shown as follows:\n    Category 1    Category 2 \n\n\n\n\nPlayer\n06-Jun\n13-Jun\n20-Jun\n27-Jun\nBest 2\nScores\n\n\n\n\nSvetlana Kripaytite\n38\n38\n \n \n76\n\n\nMark Bruce\n38\n36\n \n \n74\n\n\nPeter Jakobsson\n48\n24\n \n \n72\n\n\nBrian Binstock\n36\n32\n \n \n68\n\n\nNeil Brockie\n32\n34\n \n \n66\n\n\nSergey Kuznetsov\n31\n33\n \n \n64\n\n\nTony Gardner\n35\n29\n \n \n64\n\n\nAndrei Smetckii\n29\n34\n \n \n63\n\n\nJohn Dellow\n26\n35\n \n \n61\n\n\nTony Collier\n30\n29\n \n \n59\n\n\nBib Grierson\n28\n30\n \n \n58\n\n\nShuj Datoo\n30\n28\n \n \n58\n\n\nHoward Collins\n30\n24\n \n \n54\n\n\nPoul Nielsen\n \n41\n \n \n41\n\n\nStephen Melville\n40\n \n \n \n40\n\n\nArne Øydegard\n \n38\n \n \n38\n\n\nPhil Loughton\n37\n \n \n \n37\n\n\nJohn Moran\n \n37\n \n \n37\n\n\nReinhard Friedrich\n \n37\n \n \n37\n\n\nSteve Rodgers\n \n37\n \n \n37\n\n\nAndy Eames\n36\n \n \n \n36\n\n\nLaurie Passman\n \n36\n \n \n36\n\n\nScott Graham\n \n36\n \n \n36\n\n\nAlan White\n \n35\n \n \n35\n\n\nDamien Woods\n \n35\n \n \n35\n\n\nWilliam Lewis\n \n35\n \n \n35\n\n\nRichard Bruce\n34\n \n \n \n34\n\n\nJim Kelly\n33\n \n \n \n33\n\n\nJoe Caffrey\n33\n \n \n \n33\n\n\nKeith Basnett\n32\n \n \n \n32\n\n\nMike Houston\n32\n \n \n \n32\n\n\nSteve Pagett\n \n31\n \n \n31\n\n\nStuart Thompson\n \n31\n \n \n31\n\n\nYuri Buchnev\n \n31\n \n \n31\n\n\nJohn Saville\n30\n \n \n \n30\n\n\nLewis Harrison\n30\n \n \n \n30\n\n\nMike Christophers\n \n30\n \n \n30\n\n\nNigel Rzemieniecki\n \n30\n \n \n30\n\n\nKarl Robinson\n28\n \n \n \n28\n\n\nNigel Guy\n28\n \n \n \n28\n\n\nZahid Datoo\n \n28\n \n \n28\n\n\nSteve Asplet\n27\n \n \n \n27\n\n\nNorman Macrae\n25\n \n \n \n25\n\n\nGeoff Priestner\n \n22\n \n \n22\n\n\nRichard Nelms\n \n17\n \n \n17
URL:https://golfthecosta.com/event/spence-clarke-co-weekly-league-35-2019-06-13/
LOCATION:El Paraiso Golf Club\, Urb. El Paraiso\, Ctra de Cádiz\, km 167\,\, Estepona\, Malaga\, 29680\, Spain
ATTACH;FMTTYPE=image/jpeg:https://golfthecosta.com/wp-content/uploads/2017/12/SpenceClarkeLogo.jpg
ORGANIZER;CN="Golf The Costa":MAILTO:info@www.golfthecosta.com
GEO:36.476586;-5.034811
X-APPLE-STRUCTURED-LOCATION;VALUE=URI;X-ADDRESS=El Paraiso Golf Club Urb. El Paraiso Ctra de Cádiz km 167 Estepona Malaga 29680 Spain;X-APPLE-RADIUS=500;X-TITLE=Urb. El Paraiso\, Ctra de Cádiz\, km 167\,:geo:-5.034811,36.476586
END:VEVENT
BEGIN:VEVENT
DTSTART;TZID=Europe/Madrid:20190620T090000
DTEND;TZID=Europe/Madrid:20190620T170000
DTSTAMP:20260424T084221
CREATED:20181202T104515Z
LAST-MODIFIED:20220909T123342Z
UID:10000079-1561021200-1561050000@golfthecosta.com
SUMMARY:Spence Clarke & Co Weekly League
DESCRIPTION:Weekly League Table for Jun 2019 \nCategory 1          Category 2\n Winner               Winner\n Runner-Up        Runner-Up\n Third Place       Third place \nIf there is an insufficient number of players to split the categories\nthen prizes will be awarded for 1st\, 2nd and 3rd places and shown on\nthe table as follows:    Winner  Runner-Up   Third Place \n    The winners of the monthly league prizes are shown as follows:\n    Category 1    Category 2 \n\n\n\n\nPlayer\n06-Jun\n13-Jun\n20-Jun\n27-Jun\nBest 2\nScores\n\n\n\n\nLaurie Passman\n \n36\n44\n \n80\n\n\nJohn Dellow\n26\n35\n42\n \n77\n\n\nMark Bruce\n38\n36\n38\n \n76\n\n\nSvetlana Kripaytite\n38\n38\n33\n \n76\n\n\nPhil Loughton\n37\n \n38\n \n75\n\n\nPeter Jakobsson\n48\n24\n26\n \n74\n\n\nScott Grahame\n \n36\n37\n \n73\n\n\nTony Gardner\n35\n29\n37\n \n72\n\n\nNeil Brockie\n32\n34\n37\n \n71\n\n\nStephen Melville\n40\n \n30\n \n70\n\n\nJohn Moran\n \n37\n32\n \n69\n\n\nAndrei Smetckii\n29\n34\n34\n \n68\n\n\nBrian Binstock\n36\n32\n \n \n68\n\n\nSteve Pagett\n \n31\n37\n \n68\n\n\nYuri Buchnev\n \n31\n37\n \n68\n\n\nMike Houston\n32\n \n35\n \n67\n\n\nSteve Asplet\n27\n \n40\n \n67\n\n\nSteve Rodgers\n \n37\n29\n \n66\n\n\nStuart Thompson\n \n31\n35\n \n66\n\n\nTony Collier\n30\n29\n36\n \n66\n\n\nHoward Collins\n30\n24\n35\n \n65\n\n\nSergey Kuznetsov\n31\n33\n \n \n64\n\n\nShuj Datoo\n30\n28\n32\n \n62\n\n\nBib Grierson\n28\n30\n \n \n58\n\n\nRichard Nelms\n \n17\n36\n \n53\n\n\nPoul Nielsen\n \n41\n \n \n41\n\n\nArne Øydegard\n \n38\n \n \n38\n\n\nReinhard Friedrich\n \n37\n \n \n37\n\n\nPaul McCaughey\n \n \n37\n \n37\n\n\nAndy Eames\n36\n \n \n \n36\n\n\nAlan White\n \n35\n \n \n35\n\n\nDamien Woods\n \n35\n \n \n35\n\n\nWilliam Lewis\n \n35\n \n \n35\n\n\nLuke Sloan\n \n \n35\n \n35\n\n\nStuart Williams\n \n \n35\n \n35\n\n\nRichard Bruce\n34\n \n \n \n34\n\n\nJim Kelly\n33\n \n \n \n33\n\n\nJoe Caffrey\n33\n \n \n \n33\n\n\nKeith Basnett\n32\n \n \n \n32\n\n\nAlan Oslington\n \n \n32\n \n32\n\n\nLeslie Boswell\n \n \n31\n \n31\n\n\nDavid Sloan\n \n \n31\n \n31\n\n\nJohn Saville\n30\n \n \n \n30\n\n\nLewis Harrison\n30\n \n \n \n30\n\n\nMike Christophers\n \n30\n \n \n30\n\n\nNigel Rzemieniecki\n \n30\n \n \n30\n\n\nBarry Kirk\n \n \n30\n \n30\n\n\nKarl Robinson\n28\n \n \n \n28\n\n\nNigel Guy\n28\n \n \n \n28\n\n\nZahid Datoo\n \n28\n \n \n28\n\n\nJames Liddell\n \n \n28\n \n28\n\n\nNorman Macrae\n25\n \n \n \n25\n\n\nDes McGhee\n \n \n25\n \n25\n\n\nGeoff Priestner\n \n22\n \n \n22
URL:https://golfthecosta.com/event/spence-clarke-co-weekly-league-35-2019-06-20/
LOCATION:El Paraiso Golf Club\, Urb. El Paraiso\, Ctra de Cádiz\, km 167\,\, Estepona\, Malaga\, 29680\, Spain
ATTACH;FMTTYPE=image/jpeg:https://golfthecosta.com/wp-content/uploads/2017/12/SpenceClarkeLogo.jpg
ORGANIZER;CN="Golf The Costa":MAILTO:info@www.golfthecosta.com
GEO:36.476586;-5.034811
X-APPLE-STRUCTURED-LOCATION;VALUE=URI;X-ADDRESS=El Paraiso Golf Club Urb. El Paraiso Ctra de Cádiz km 167 Estepona Malaga 29680 Spain;X-APPLE-RADIUS=500;X-TITLE=Urb. El Paraiso\, Ctra de Cádiz\, km 167\,:geo:-5.034811,36.476586
END:VEVENT
BEGIN:VEVENT
DTSTART;TZID=Europe/Madrid:20190627T100000
DTEND;TZID=Europe/Madrid:20190627T170000
DTSTAMP:20260424T084221
CREATED:20181205T093651Z
LAST-MODIFIED:20220909T123332Z
UID:10000102-1561629600-1561654800@golfthecosta.com
SUMMARY:Spence Clarke & Co Weekly League
DESCRIPTION:Weekly League Table for Jun 2019 \nCategory 1          Category 2\n Winner               Winner\n Runner-Up        Runner-Up\n Third Place       Third place \nIf there is an insufficient number of players to split the categories\nthen prizes will be awarded for 1st\, 2nd and 3rd places and shown on\nthe table as follows:    Winner  Runner-Up   Third Place \n    The winners of the monthly league prizes are shown as follows:\n    Category 1    Category 2 \n\n\n\n\nPlayer\n06-Jun\n13-Jun\n20-Jun\n27-Jun\nBest 2\nScores\n\n\n\n\nPeter Jakobsson\n48\n24\n26\n36\n84\n\n\nLaurie Passman\n \n36\n44\n \n80\n\n\nJohn Dellow\n26\n35\n42\n38\n80\n\n\nMark Bruce\n38\n36\n38\n39\n77\n\n\nDamien Woods\n \n35\n \n42\n77\n\n\nSvetlana Kripaytite\n38\n38\n33\n27\n76\n\n\nPhil Loughton\n37\n \n38\n24\n75\n\n\nYuri Buchnev\n \n31\n37\n38\n75\n\n\nHoward Collins\n30\n24\n35\n40\n75\n\n\nSteve Pagett\n \n31\n37\n37\n74\n\n\nScott Grahame\n \n36\n37\n \n73\n\n\nTony Gardner\n35\n29\n37\n \n72\n\n\nTony Collier\n30\n29\n36\n36\n72\n\n\nNeil Brockie\n32\n34\n37\n23\n71\n\n\nArne Øydegard\n \n38\n \n33\n71\n\n\nStephen Melville\n40\n \n30\n \n70\n\n\nRichard Nelms\n \n17\n36\n34\n70\n\n\nJohn Moran\n \n37\n32\n \n69\n\n\nAndrei Smetckii\n29\n34\n34\n35\n69\n\n\nBrian Binstock\n36\n32\n \n \n68\n\n\nMike Houston\n32\n \n35\n31\n67\n\n\nSteve Asplet\n27\n \n40\n \n67\n\n\nSteve Rodgers\n \n37\n29\n \n66\n\n\nStuart Thompson\n \n31\n35\n \n66\n\n\nPaul McCaughey\n \n \n37\n37\n74\n\n\nSergey Kuznetsov\n31\n33\n \n \n64\n\n\nShuj Datoo\n30\n28\n32\n29\n62\n\n\nBib Grierson\n28\n30\n \n \n58\n\n\nBarry Kirk\n \n \n30\n28\n58\n\n\nNorman Macrae\n25\n \n \n30\n55\n\n\nDes McGhee\n \n \n25\n27\n52\n\n\nPoul Nielsen\n \n41\n \n \n41\n\n\nReinhard Friedrich\n \n37\n \n \n37\n\n\nRon Brayson\n \n \n \n37\n37\n\n\nAndy Eames\n36\n \n \n \n36\n\n\nJens Jeske\n \n \n \n36\n36\n\n\nAlan White\n \n35\n \n \n35\n\n\nWilliam Lewis\n \n35\n \n \n35\n\n\nLuke Sloan\n \n \n35\n \n35\n\n\nStuart Williams\n \n \n35\n \n35\n\n\nRichard Bruce\n34\n \n \n \n34\n\n\nJim Kelly\n33\n \n \n \n33\n\n\nJoe Caffrey\n33\n \n \n \n33\n\n\nArend van der Knaap\n \n \n \n33\n33\n\n\nKeith Basnett\n32\n \n \n \n32\n\n\nAlan Oslington\n \n \n32\n \n32\n\n\nPaul Blackburn\n \n \n \n32\n32\n\n\nLeslie Boswell\n \n \n31\n \n31\n\n\nDavid Sloan\n \n \n31\n \n31\n\n\nJohn Saville\n30\n \n \n \n30\n\n\nLewis Harrison\n30\n \n \n \n30\n\n\nMike Christophers\n \n30\n \n \n30\n\n\nNigel Rzemieniecki\n \n30\n \n \n30\n\n\nLes Weaver\n \n \n \n30\n30\n\n\nGrant Evans\n \n \n \n30\n30\n\n\nKarl Robinson\n28\n \n \n \n28\n\n\nNigel Guy\n28\n \n \n \n28\n\n\nZahid Datoo\n \n28\n \n \n28\n\n\nJames Liddell\n \n \n28\n \n28\n\n\nGerda van der Knaap\n \n \n \n25\n25\n\n\nGeoff Priestner\n \n22\n \n \n22\n\n\nTony Smith\n \n \n \n19\n19\n\n\nRoy Martinez\n \n \n \n16\n16
URL:https://golfthecosta.com/event/spence-clarke-co-weekly-league-41/
LOCATION:Santana Golf Club\, Address Postal Address Santana Golf Carretera La Cala-Entrerríos\, s/n "Valle del Golf de Mijas"\, Mijas Costa\, Malaga\, 29649\, Spain
ATTACH;FMTTYPE=image/jpeg:https://golfthecosta.com/wp-content/uploads/2017/12/SpenceClarkeLogo.jpg
ORGANIZER;CN="Golf The Costa":MAILTO:info@www.golfthecosta.com
GEO:36.545168;-4.693061
X-APPLE-STRUCTURED-LOCATION;VALUE=URI;X-ADDRESS=Santana Golf Club Address Postal Address Santana Golf Carretera La Cala-Entrerríos s/n "Valle del Golf de Mijas" Mijas Costa Malaga 29649 Spain;X-APPLE-RADIUS=500;X-TITLE=Address Postal Address Santana Golf Carretera La Cala-Entrerríos\, s/n "Valle del Golf de Mijas":geo:-4.693061,36.545168
END:VEVENT
END:VCALENDAR