BEGIN:VCALENDAR
VERSION:2.0
PRODID:-// - ECPv6.15.20//NONSGML v1.0//EN
CALSCALE:GREGORIAN
METHOD:PUBLISH
X-ORIGINAL-URL:https://golfthecosta.com
X-WR-CALDESC:Events for 
REFRESH-INTERVAL;VALUE=DURATION:PT1H
X-Robots-Tag:noindex
X-PUBLISHED-TTL:PT1H
BEGIN:VTIMEZONE
TZID:Europe/Madrid
BEGIN:DAYLIGHT
TZOFFSETFROM:+0100
TZOFFSETTO:+0200
TZNAME:CEST
DTSTART:20180325T010000
END:DAYLIGHT
BEGIN:STANDARD
TZOFFSETFROM:+0200
TZOFFSETTO:+0100
TZNAME:CET
DTSTART:20181028T010000
END:STANDARD
BEGIN:DAYLIGHT
TZOFFSETFROM:+0100
TZOFFSETTO:+0200
TZNAME:CEST
DTSTART:20190331T010000
END:DAYLIGHT
BEGIN:STANDARD
TZOFFSETFROM:+0200
TZOFFSETTO:+0100
TZNAME:CET
DTSTART:20191027T010000
END:STANDARD
BEGIN:DAYLIGHT
TZOFFSETFROM:+0100
TZOFFSETTO:+0200
TZNAME:CEST
DTSTART:20200329T010000
END:DAYLIGHT
BEGIN:STANDARD
TZOFFSETFROM:+0200
TZOFFSETTO:+0100
TZNAME:CET
DTSTART:20201025T010000
END:STANDARD
END:VTIMEZONE
BEGIN:VEVENT
DTSTART;TZID=Europe/Madrid:20190801T090000
DTEND;TZID=Europe/Madrid:20190801T170000
DTSTAMP:20260424T054621
CREATED:20181202T104515Z
LAST-MODIFIED:20220909T123220Z
UID:10000084-1564650000-1564678800@golfthecosta.com
SUMMARY:Spence Clarke & Co Weekly League
DESCRIPTION:Weekly League Table for August 2019 \nCategory 1          Category 2\n Winner               Winner\n Runner-Up        Runner-Up\n Third Place       Third place \nIf there is an insufficient number of players to split the categories\nthen prizes will be awarded for 1st\, 2nd and 3rd places and shown on\nthe table as follows:    Winner  Runner-Up   Third Place \n    The winners of the monthly league prizes are shown as follows:\n    Category 1    Category 2 \n\n\n\n\nPlayer\n01-Aug\n08-Aug\n15-Aug\n22-Aug\n29-Aug\nBest 2\nScores\n\n\n\n\nHoward Collins\n38\n \n \n \n \n38\n\n\nTony Collier\n38\n \n \n \n \n38\n\n\nMichael Houston\n37\n \n \n \n \n37\n\n\nSteven Faull\n36\n \n \n \n \n36\n\n\nRoland Bourgeois\n36\n \n \n \n \n36\n\n\nStephen Ashurst\n36\n \n \n \n \n36\n\n\nLaurie Passman\n35\n \n \n \n \n35\n\n\nRichard Nelms\n35\n \n \n \n \n35\n\n\nPhilip Cross\n35\n \n \n \n \n35\n\n\nJohn Moran\n35\n \n \n \n \n35\n\n\nPeter Jakobsson\n34\n \n \n \n \n34\n\n\nAllan Kong\n33\n \n \n \n \n33\n\n\nMenno Bakker\n33\n \n \n \n \n33\n\n\nBrian Murphy\n32\n \n \n \n \n32\n\n\nPaul McCaughey\n32\n \n \n \n \n32\n\n\nSteve Asplet\n31\n \n \n \n \n31\n\n\nEllen Bakker\n30\n \n \n \n \n30\n\n\nCoen Bakker\n29\n \n \n \n \n29\n\n\nStuart Thompson\n28\n \n \n \n \n28\n\n\nShuj Datoo\n28\n \n \n \n \n28\n\n\nJohn Dellow\n28\n \n \n \n \n28\n\n\nAndrei Smetckii\n27\n \n \n \n \n27\n\n\nSergey Kuznetsov\n26\n \n \n \n \n26\n\n\nVladimir Koshman\n25\n \n \n \n \n25
URL:https://golfthecosta.com/event/spence-clarke-co-weekly-league-35-2019-08-01/
LOCATION:El Paraiso Golf Club\, Urb. El Paraiso\, Ctra de Cádiz\, km 167\,\, Estepona\, Malaga\, 29680\, Spain
ATTACH;FMTTYPE=image/jpeg:https://golfthecosta.com/wp-content/uploads/2017/12/SpenceClarkeLogo.jpg
ORGANIZER;CN="Golf The Costa":MAILTO:info@www.golfthecosta.com
GEO:36.476586;-5.034811
X-APPLE-STRUCTURED-LOCATION;VALUE=URI;X-ADDRESS=El Paraiso Golf Club Urb. El Paraiso Ctra de Cádiz km 167 Estepona Malaga 29680 Spain;X-APPLE-RADIUS=500;X-TITLE=Urb. El Paraiso\, Ctra de Cádiz\, km 167\,:geo:-5.034811,36.476586
END:VEVENT
BEGIN:VEVENT
DTSTART;TZID=Europe/Madrid:20190808T084000
DTEND;TZID=Europe/Madrid:20190808T170000
DTSTAMP:20260424T054621
CREATED:20181202T104515Z
LAST-MODIFIED:20220909T123210Z
UID:10000085-1565253600-1565283600@golfthecosta.com
SUMMARY:Spence Clarke & Co Weekly League
DESCRIPTION:Weekly League Table for August 2019 \nCategory 1          Category 2\n Winner               Winner\n Runner-Up        Runner-Up\n Third Place       Third place \nIf there is an insufficient number of players to split the categories\nthen prizes will be awarded for 1st\, 2nd and 3rd places and shown on\nthe table as follows:    Winner  Runner-Up   Third Place \n    The winners of the monthly league prizes are shown as follows:\n    Category 1    Category 2 \n\n\n\n\nPlayer\n01-Aug\n08-Aug\n15-Aug\n22-Aug\n29-Aug\nBest 2\nScores\n\n\n\n\nLaurie Passman\n35\n40\n \n \n \n75\n\n\nHoward Collins\n38\n36\n \n \n \n74\n\n\nStephen Ashurst\n36\n34\n \n \n \n70\n\n\nMichael Houston\n37\n32\n \n \n \n69\n\n\nJohn Moran\n35\n34\n \n \n \n69\n\n\nAndrei Smetckii\n27\n32\n \n \n \n59\n\n\nShuj Datoo\n28\n29\n \n \n \n57\n\n\nNiq Lauwaert\n \n41\n \n \n \n41\n\n\nThomas Hackl\n \n40\n \n \n \n40\n\n\nTony Collier\n38\n \n \n \n \n38\n\n\nSteven Faull\n36\n \n \n \n \n36\n\n\nRoland Bourgeois\n36\n \n \n \n \n36\n\n\nRichard Nelms\n35\n \n \n \n \n35\n\n\nPhilip Cross\n35\n \n \n \n \n35\n\n\nYuri Buchnev\n \n35\n \n \n \n35\n\n\nPeter Jakobsson\n34\n \n \n \n \n34\n\n\nBarry Kirk\n \n34\n \n \n \n34\n\n\nStuart Williams\n \n34\n \n \n \n34\n\n\nReinhard Friedrich\n \n34\n \n \n \n34\n\n\nAllan Kong\n33\n \n \n \n \n33\n\n\nMenno Bakker\n33\n \n \n \n \n33\n\n\nGeorge Petch\n \n33\n \n \n \n33\n\n\nBrian Murphy\n32\n \n \n \n \n32\n\n\nPaul McCaughey\n32\n \n \n \n \n32\n\n\nMark Bruce\n \n32\n \n \n \n32\n\n\nSteve Asplet\n31\n \n \n \n \n31\n\n\nSvetlana Kripaytite\n \n31\n \n \n \n31\n\n\nEllen Bakker\n30\n \n \n \n \n30\n\n\nCoen Bakker\n29\n \n \n \n \n29\n\n\nPaul Blackburn\n \n29\n \n \n \n29\n\n\nStuart Thompson\n28\n \n \n \n \n28\n\n\nJohn Dellow\n28\n \n \n \n \n28\n\n\nSergey Kuznetsov\n26\n \n \n \n \n26\n\n\nVladimir Koshman\n25\n \n \n \n \n25\n\n\nYurii Zykov\n \n25\n \n \n \n25\n\n\nYurii Kopachev\n \n23\n \n \n \n23
URL:https://golfthecosta.com/event/spence-clarke-co-weekly-league-35-2019-08-08/
LOCATION:Santana Golf Club\, Address Postal Address Santana Golf Carretera La Cala-Entrerríos\, s/n "Valle del Golf de Mijas"\, Mijas Costa\, Malaga\, 29649\, Spain
ATTACH;FMTTYPE=image/jpeg:https://golfthecosta.com/wp-content/uploads/2017/12/SpenceClarkeLogo.jpg
ORGANIZER;CN="Golf The Costa":MAILTO:info@www.golfthecosta.com
GEO:36.545168;-4.693061
X-APPLE-STRUCTURED-LOCATION;VALUE=URI;X-ADDRESS=Santana Golf Club Address Postal Address Santana Golf Carretera La Cala-Entrerríos s/n "Valle del Golf de Mijas" Mijas Costa Malaga 29649 Spain;X-APPLE-RADIUS=500;X-TITLE=Address Postal Address Santana Golf Carretera La Cala-Entrerríos\, s/n "Valle del Golf de Mijas":geo:-4.693061,36.545168
END:VEVENT
BEGIN:VEVENT
DTSTART;TZID=Europe/Madrid:20190815T090000
DTEND;TZID=Europe/Madrid:20190815T170000
DTSTAMP:20260424T054621
CREATED:20181202T104515Z
LAST-MODIFIED:20220909T123156Z
UID:10000086-1565859600-1565888400@golfthecosta.com
SUMMARY:Spence Clarke & Co Weekly League
DESCRIPTION:Weekly League Table for August 2019 \nCategory 1          Category 2\n Winner               Winner\n Runner-Up        Runner-Up\n Third Place       Third place \nIf there is an insufficient number of players to split the categories\nthen prizes will be awarded for 1st\, 2nd and 3rd places and shown on\nthe table as follows:    Winner  Runner-Up   Third Place \n    The winners of the monthly league prizes are shown as follows:\n    Category 1    Category 2 \n\n\n\n\nPlayer\n01-Aug\n08-Aug\n15-Aug\n22-Aug\n29-Aug\nBest 2\nScores\n\n\n\n\nLaurie Passman\n35\n40\n35\n \n \n75\n\n\nHoward Collins\n38\n36\n \n \n \n74\n\n\nStephen Ashurst\n36\n34\n \n \n \n70\n\n\nTony Collier\n38\n \n32\n \n \n70\n\n\nStuart Williams\n \n34\n36\n \n \n70\n\n\nMichael Houston\n37\n32\n \n \n \n69\n\n\nJohn Moran\n35\n34\n \n \n \n69\n\n\nGeorge Petch\n \n33\n36\n \n \n69\n\n\nAllan Kong\n33\n \n35\n \n \n68\n\n\nPaul McCaughey\n32\n \n33\n \n \n65\n\n\nMark Bruce\n \n32\n33\n \n \n65\n\n\nRichard Nelms\n35\n \n28\n \n \n63\n\n\nShuj Datoo\n28\n29\n33\n \n \n62\n\n\nAndrei Smetckii\n27\n32\n \n \n \n59\n\n\nNiq Lauwaert\n \n41\n \n \n \n41\n\n\nThomas Hackl\n \n40\n \n \n \n40\n\n\nSteven Faull\n36\n \n \n \n \n36\n\n\nRoland Bourgeois\n36\n \n \n \n \n36\n\n\nPhilip Cross\n35\n \n \n \n \n35\n\n\nYuri Buchnev\n \n35\n \n \n \n35\n\n\nAdam Melville\n \n \n35\n \n \n35\n\n\nPeter Jakobsson\n34\n \n \n \n \n34\n\n\nBarry Kirk\n \n34\n \n \n \n34\n\n\nReinhard Friedrich\n \n34\n \n \n \n34\n\n\nMenno Bakker\n33\n \n \n \n \n33\n\n\nBrian Murphy\n32\n \n \n \n \n32\n\n\nTony Gardner\n \n \n32\n \n \n32\n\n\nSteve Asplet\n31\n \n \n \n \n31\n\n\nSvetlana Kripaytite\n \n31\n \n \n \n31\n\n\nEllen Bakker\n30\n \n \n \n \n30\n\n\nPeter Jones\n \n \n30\n \n \n30\n\n\nAndy Harris\n \n \n30\n \n \n30\n\n\nCoen Bakker\n29\n \n \n \n \n29\n\n\nPaul Blackburn\n \n29\n \n \n \n29\n\n\nStuart Thompson\n28\n \n \n \n \n28\n\n\nJohn Dellow\n28\n \n \n \n \n28\n\n\nSergey Kuznetsov\n26\n \n \n \n \n26\n\n\nVladimir Koshman\n25\n \n \n \n \n25\n\n\nYurii Zykov\n \n25\n \n \n \n25\n\n\nYurii Kopachev\n \n23\n \n \n \n23
URL:https://golfthecosta.com/event/spence-clarke-co-weekly-league-35-2019-08-15/
LOCATION:El Paraiso Golf Club\, Urb. El Paraiso\, Ctra de Cádiz\, km 167\,\, Estepona\, Malaga\, 29680\, Spain
ATTACH;FMTTYPE=image/jpeg:https://golfthecosta.com/wp-content/uploads/2017/12/SpenceClarkeLogo.jpg
ORGANIZER;CN="Golf The Costa":MAILTO:info@www.golfthecosta.com
GEO:36.476586;-5.034811
X-APPLE-STRUCTURED-LOCATION;VALUE=URI;X-ADDRESS=El Paraiso Golf Club Urb. El Paraiso Ctra de Cádiz km 167 Estepona Malaga 29680 Spain;X-APPLE-RADIUS=500;X-TITLE=Urb. El Paraiso\, Ctra de Cádiz\, km 167\,:geo:-5.034811,36.476586
END:VEVENT
BEGIN:VEVENT
DTSTART;TZID=Europe/Madrid:20190822T090000
DTEND;TZID=Europe/Madrid:20190822T170000
DTSTAMP:20260424T054621
CREATED:20181202T104515Z
LAST-MODIFIED:20220909T123143Z
UID:10000087-1566464400-1566493200@golfthecosta.com
SUMMARY:Spence Clarke & Co Weekly League
DESCRIPTION:Weekly League Table for August 2019 \nCategory 1          Category 2\n Winner               Winner\n Runner-Up        Runner-Up\n Third Place       Third place \nIf there is an insufficient number of players to split the categories\nthen prizes will be awarded for 1st\, 2nd and 3rd places and shown on\nthe table as follows:    Winner  Runner-Up   Third Place \n    The winners of the monthly league prizes are shown as follows:\n    Category 1    Category 2 \n\n\n\n\nPlayer\n01-Aug\n08-Aug\n15-Aug\n22-Aug\n29-Aug\nBest 2\nScores\n\n\n\n\nStephen Ashurst\n36\n34\n \n43\n \n79\n\n\nLaurie Passman\n35\n40\n35\n34\n \n75\n\n\nShuj Datoo\n28\n29\n33\n42\n \n75\n\n\nTony Gardner\n \n \n32\n43\n \n75\n\n\nHoward Collins\n38\n36\n \n \n \n74\n\n\nBarry Kirk\n \n34\n \n38\n \n72\n\n\nAllan Kong\n33\n \n35\n35\n \n70\n\n\nStuart Williams\n \n34\n36\n34\n \n70\n\n\nTony Collier\n38\n \n32\n30\n \n70\n\n\nGeorge Petch\n \n33\n36\n \n \n69\n\n\nJohn Moran\n35\n34\n \n30\n \n69\n\n\nMichael Houston\n37\n32\n \n \n \n69\n\n\nYuri Buchnev\n \n35\n \n32\n \n67\n\n\nMark Bruce\n \n32\n33\n25\n \n65\n\n\nPaul McCaughey\n32\n \n33\n30\n \n65\n\n\nRichard Nelms\n35\n \n28\n28\n \n63\n\n\nPeter Jakobsson\n34\n \n \n28\n \n62\n\n\nPhilip Cross\n35\n \n \n27\n \n62\n\n\nAndrei Smetckii\n27\n32\n \n \n \n59\n\n\nSteve Asplet\n31\n \n \n28\n \n59\n\n\nStuart Thompson\n28\n \n \n30\n \n58\n\n\nAndy Harris\n \n \n30\n26\n \n56\n\n\nJan Olsen\n \n \n \n42\n \n42\n\n\nNiq Lauwaert\n \n41\n \n \n \n41\n\n\nRomi Lewis\n \n \n \n40\n \n40\n\n\nThomas Hackl\n \n40\n \n \n \n40\n\n\nCraig Currie\n \n \n \n38\n \n38\n\n\nDave Lewis\n \n \n \n37\n \n37\n\n\nWarren Grooms\n \n \n \n37\n \n37\n\n\nDes McGhee\n \n \n \n36\n \n36\n\n\nJoe Caffrey\n \n \n \n36\n \n36\n\n\nRoland Bourgeois\n36\n \n \n \n \n36\n\n\nSteven Faull\n36\n \n \n \n \n36\n\n\nAdam Melville\n \n \n35\n \n \n35\n\n\nReinhard Friedrich\n \n34\n \n \n \n34\n\n\nDarrell Breeze\n \n \n \n33\n \n33\n\n\nMenno Bakker\n33\n \n \n \n \n33\n\n\nBrian Murphy\n32\n \n \n \n \n32\n\n\nBarry Raw\n \n \n \n31\n \n31\n\n\nPhil Loughton\n \n \n \n31\n \n31\n\n\nRichard Bruce\n \n \n \n31\n \n31\n\n\nSvetlana Kripaytite\n \n31\n \n \n \n31\n\n\nEllen Bakker\n30\n \n \n \n \n30\n\n\nPeter Jones\n \n \n30\n \n \n30\n\n\nCoen Bakker\n29\n \n \n \n \n29\n\n\nPaul Blackburn\n \n29\n \n \n \n29\n\n\nRichard Noble\n \n \n \n29\n \n29\n\n\nJohn Dellow\n28\n \n \n \n \n28\n\n\nSergey Kuznetsov\n26\n \n \n \n \n26\n\n\nVladimir Koshman\n25\n \n \n \n \n25\n\n\nYurii Zykov\n \n25\n \n \n \n25\n\n\nYurii Kopachev\n \n23\n \n \n \n23
URL:https://golfthecosta.com/event/spence-clarke-co-weekly-league-35-2019-08-22/
LOCATION:El Paraiso Golf Club\, Urb. El Paraiso\, Ctra de Cádiz\, km 167\,\, Estepona\, Malaga\, 29680\, Spain
ATTACH;FMTTYPE=image/jpeg:https://golfthecosta.com/wp-content/uploads/2017/12/SpenceClarkeLogo.jpg
ORGANIZER;CN="Golf The Costa":MAILTO:info@www.golfthecosta.com
GEO:36.476586;-5.034811
X-APPLE-STRUCTURED-LOCATION;VALUE=URI;X-ADDRESS=El Paraiso Golf Club Urb. El Paraiso Ctra de Cádiz km 167 Estepona Malaga 29680 Spain;X-APPLE-RADIUS=500;X-TITLE=Urb. El Paraiso\, Ctra de Cádiz\, km 167\,:geo:-5.034811,36.476586
END:VEVENT
BEGIN:VEVENT
DTSTART;TZID=Europe/Madrid:20190829T090000
DTEND;TZID=Europe/Madrid:20190829T170000
DTSTAMP:20260424T054621
CREATED:20181202T104515Z
LAST-MODIFIED:20220909T122922Z
UID:10000088-1567069200-1567098000@golfthecosta.com
SUMMARY:Spence Clarke & Co Weekly League
DESCRIPTION:Weekly League Table for August 2019 \nCategory 1          Category 2\n Winner               Winner\n Runner-Up        Runner-Up\n Third Place       Third place \nIf there is an insufficient number of players to split the categories\nthen prizes will be awarded for 1st\, 2nd and 3rd places and shown on\nthe table as follows:    Winner  Runner-Up   Third Place \n    The winners of the monthly league prizes are shown as follows:\n    Category 1    Category 2 \n\n\n\n\nPlayer\n01-Aug\n08-Aug\n15-Aug\n22-Aug\n29-Aug\nBest 2\nScores\n\n\n\n\nStephen Ashurst\n36\n34\n \n43\n33\n79\n\n\nTony Collier\n38\n \n32\n30\n41\n79\n\n\nJoe Caffrey\n \n \n \n36\n42\n78\n\n\nLaurie Passman\n35\n40\n35\n34\n \n75\n\n\nShuj Datoo\n28\n29\n33\n42\n28\n75\n\n\nTony Gardner\n \n \n32\n43\n \n75\n\n\nHoward Collins\n38\n36\n \n \n \n74\n\n\nStuart Williams\n \n34\n36\n34\n38\n74\n\n\nMichael Houston\n37\n32\n \n \n36\n73\n\n\nBarry Kirk\n \n34\n \n38\n \n72\n\n\nJohn Moran\n35\n34\n \n30\n37\n72\n\n\nPaul McCaughey\n32\n \n33\n30\n39\n72\n\n\nPeter Jakobsson\n34\n \n \n28\n37\n71\n\n\nAllan Kong\n33\n \n35\n35\n31\n70\n\n\nDes McGhee\n \n \n \n36\n33\n69\n\n\nGeorge Petch\n \n33\n36\n \n \n69\n\n\nJan Olsen\n \n \n \n42\n26\n68\n\n\nMenno Bakker\n33\n \n \n \n35\n68\n\n\nYuri Buchnev\n \n35\n \n32\n33\n68\n\n\nPhil Loughton\n \n \n \n31\n36\n67\n\n\nBarry Raw\n \n \n \n31\n35\n66\n\n\nMark Bruce\n \n32\n33\n25\n28\n65\n\n\nPhilip Cross\n35\n \n \n27\n29\n64\n\n\nRichard Nelms\n35\n \n28\n28\n29\n64\n\n\nAndrei Smetckii\n27\n32\n \n \n31\n63\n\n\nRichard Noble\n \n \n \n29\n34\n63\n\n\nStuart Thompson\n28\n \n \n30\n33\n63\n\n\nSteve Asplet\n31\n \n \n28\n31\n62\n\n\nEllen Bakker\n30\n \n \n \n31\n61\n\n\nSvetlana Kripaytite\n \n31\n \n \n29\n60\n\n\nAndy Harris\n \n \n30\n26\n \n56\n\n\nVladimir Koshman\n25\n \n \n \n27\n52\n\n\nNiq Lauwaert\n \n41\n \n \n \n41\n\n\nRomi Lewis\n \n \n \n40\n \n40\n\n\nThomas Hackl\n \n40\n \n \n \n40\n\n\nCraig Currie\n \n \n \n38\n \n38\n\n\nDave Lewis\n \n \n \n37\n \n37\n\n\nWarren Grooms\n \n \n \n37\n \n37\n\n\nRon Brayson\n \n \n \n \n37\n37\n\n\nRoland Bourgeois\n36\n \n \n \n \n36\n\n\nSteven Faull\n36\n \n \n \n \n36\n\n\nAdam Melville\n \n \n35\n \n \n35\n\n\nRonan O’Reilly\n \n \n \n \n35\n35\n\n\nReinhard Friedrich\n \n34\n \n \n \n34\n\n\nJens Jeske\n \n \n \n \n34\n34\n\n\nDarrell Breeze\n \n \n \n33\n \n33\n\n\nBrian Murphy\n32\n \n \n \n \n32\n\n\nRichard Bruce\n \n \n \n31\n \n31\n\n\nMike Christophers\n \n \n \n \n31\n31\n\n\nPeter Jones\n \n \n30\n \n \n30\n\n\nJohn Roethling\n \n \n \n \n30\n30\n\n\nStephen Melville\n \n \n \n \n30\n30\n\n\nCoen Bakker\n29\n \n \n \n \n29\n\n\nPaul Blackburn\n \n29\n \n \n \n29\n\n\nHenn Ruubel\n \n \n \n \n29\n29\n\n\nJohn Dellow\n28\n \n \n \n \n28\n\n\nDale Griffiths\n \n \n \n \n27\n27\n\n\nSergey Kuznetsov\n26\n \n \n \n \n26\n\n\nYurii Zykov\n \n25\n \n \n \n25\n\n\nYurii Kopachev\n \n23\n \n \n \n23\n\n\nJohn Nika\n \n \n \n \n19\n19
URL:https://golfthecosta.com/event/spence-clarke-co-weekly-league-35-2019-08-29/
LOCATION:El Paraiso Golf Club\, Urb. El Paraiso\, Ctra de Cádiz\, km 167\,\, Estepona\, Malaga\, 29680\, Spain
ATTACH;FMTTYPE=image/jpeg:https://golfthecosta.com/wp-content/uploads/2017/12/SpenceClarkeLogo.jpg
ORGANIZER;CN="Golf The Costa":MAILTO:info@www.golfthecosta.com
GEO:36.476586;-5.034811
X-APPLE-STRUCTURED-LOCATION;VALUE=URI;X-ADDRESS=El Paraiso Golf Club Urb. El Paraiso Ctra de Cádiz km 167 Estepona Malaga 29680 Spain;X-APPLE-RADIUS=500;X-TITLE=Urb. El Paraiso\, Ctra de Cádiz\, km 167\,:geo:-5.034811,36.476586
END:VEVENT
END:VCALENDAR