BEGIN:VCALENDAR
VERSION:2.0
PRODID:-// - ECPv6.15.20//NONSGML v1.0//EN
CALSCALE:GREGORIAN
METHOD:PUBLISH
X-ORIGINAL-URL:https://golfthecosta.com
X-WR-CALDESC:Events for 
REFRESH-INTERVAL;VALUE=DURATION:PT1H
X-Robots-Tag:noindex
X-PUBLISHED-TTL:PT1H
BEGIN:VTIMEZONE
TZID:Europe/Madrid
BEGIN:DAYLIGHT
TZOFFSETFROM:+0100
TZOFFSETTO:+0200
TZNAME:CEST
DTSTART:20180325T010000
END:DAYLIGHT
BEGIN:STANDARD
TZOFFSETFROM:+0200
TZOFFSETTO:+0100
TZNAME:CET
DTSTART:20181028T010000
END:STANDARD
BEGIN:DAYLIGHT
TZOFFSETFROM:+0100
TZOFFSETTO:+0200
TZNAME:CEST
DTSTART:20190331T010000
END:DAYLIGHT
BEGIN:STANDARD
TZOFFSETFROM:+0200
TZOFFSETTO:+0100
TZNAME:CET
DTSTART:20191027T010000
END:STANDARD
BEGIN:DAYLIGHT
TZOFFSETFROM:+0100
TZOFFSETTO:+0200
TZNAME:CEST
DTSTART:20200329T010000
END:DAYLIGHT
BEGIN:STANDARD
TZOFFSETFROM:+0200
TZOFFSETTO:+0100
TZNAME:CET
DTSTART:20201025T010000
END:STANDARD
END:VTIMEZONE
BEGIN:VEVENT
DTSTART;TZID=Europe/Madrid:20191003T090000
DTEND;TZID=Europe/Madrid:20191003T170000
DTSTAMP:20260424T030529
CREATED:20181202T123403Z
LAST-MODIFIED:20220909T122820Z
UID:10000091-1570093200-1570122000@golfthecosta.com
SUMMARY:Spence Clarke & Co Weekly League
DESCRIPTION:Weekly League Table for October 2019 \nCategory 1          Category 2\n Winner               Winner\n Runner-Up        Runner-Up\n Third Place       Third place \nIf there is an insufficient number of players to split the categories\nthen prizes will be awarded for 1st\, 2nd and 3rd places and shown on\nthe table as follows:    Winner  Runner-Up   Third Place \n    The winners of the monthly league prizes are shown as follows:\n    Category 1    Category 2 \n\n\n\n\nPlayer\n03-Oct\n10-Oct\n17-Oct\n24-Oct\n31-Oct\nBest 2\nScores\n\n\n\n\nDenis Flyn\n38\n \n \n \n \n38\n\n\nBrian Murphy\n37\n \n \n \n \n37\n\n\nSteve Rodgers\n36\n \n \n \n \n36\n\n\nTony Collier\n36\n \n \n \n \n36\n\n\nRichard Bruce\n36\n \n \n \n \n36\n\n\nJames Liddell\n36\n \n \n \n \n36\n\n\nStuart Williams\n36\n \n \n \n \n36\n\n\nPhil Loughton\n35\n \n \n \n \n35\n\n\nDiarmuid O’Connor\n35\n \n \n \n \n35\n\n\nMike Houston\n35\n \n \n \n \n35\n\n\nGerry Griffin\n34\n \n \n \n \n34\n\n\nStephen Melville\n34\n \n \n \n \n34\n\n\nRon Brayson\n33\n \n \n \n \n33\n\n\nPaul Blackburn\n33\n \n \n \n \n33\n\n\nDamien Woods\n33\n \n \n \n \n33\n\n\nJim O’Shea\n31\n \n \n \n \n31\n\n\nStephen Katz\n31\n \n \n \n \n31\n\n\nStuart Thompson\n30\n \n \n \n \n30\n\n\nRoy Martinez\n29\n \n \n \n \n29\n\n\nJohn Campbell\n29\n \n \n \n \n29\n\n\nAndrei Smetckii\n28\n \n \n \n \n28\n\n\nPeter Jakobsson\n28\n \n \n \n \n28\n\n\nRoger Jones\n28\n \n \n \n \n28\n\n\nGerda van der Knaap\n28\n \n \n \n \n28\n\n\nNiq Lauwaert\n28\n \n \n \n \n28\n\n\nMichael Ryan\n28\n \n \n \n \n28\n\n\nYuri Buchnev\n27\n \n \n \n \n27\n\n\nShuj Datoo\n27\n \n \n \n \n27\n\n\nMark Bruce\n26\n \n \n \n \n26\n\n\nLaura Nectura\n26\n \n \n \n \n26\n\n\nDmitrii Provitorov\n26\n \n \n \n \n26\n\n\nBarry Kirk\n24\n \n \n \n \n24\n\n\nSergey Kuznetsov\n24\n \n \n \n \n24\n\n\nArend van der Knaap\n22\n \n \n \n \n22\n\n\nMartin Shore\n19\n \n \n \n \n19\n\n\nVladimir Koshman\n18\n \n \n \n \n18\n\n\nPeter Gorman\n13\n \n \n \n \n13
URL:https://golfthecosta.com/event/spence-clarke-co-weekly-league-38/
LOCATION:El Paraiso Golf Club\, Urb. El Paraiso\, Ctra de Cádiz\, km 167\,\, Estepona\, Malaga\, 29680\, Spain
ATTACH;FMTTYPE=image/jpeg:https://golfthecosta.com/wp-content/uploads/2017/12/SpenceClarkeLogo.jpg
ORGANIZER;CN="Golf The Costa":MAILTO:info@www.golfthecosta.com
GEO:36.476586;-5.034811
X-APPLE-STRUCTURED-LOCATION;VALUE=URI;X-ADDRESS=El Paraiso Golf Club Urb. El Paraiso Ctra de Cádiz km 167 Estepona Malaga 29680 Spain;X-APPLE-RADIUS=500;X-TITLE=Urb. El Paraiso\, Ctra de Cádiz\, km 167\,:geo:-5.034811,36.476586
END:VEVENT
BEGIN:VEVENT
DTSTART;TZID=Europe/Madrid:20191010T090000
DTEND;TZID=Europe/Madrid:20191010T170000
DTSTAMP:20260424T030529
CREATED:20181202T123403Z
LAST-MODIFIED:20220909T122808Z
UID:10000092-1570698000-1570726800@golfthecosta.com
SUMMARY:Spence Clarke & Co Weekly League
DESCRIPTION:Weekly League Table for October 2019 \nCategory 1          Category 2\n Winner               Winner\n Runner-Up        Runner-Up\n Third Place       Third place \nIf there is an insufficient number of players to split the categories\nthen prizes will be awarded for 1st\, 2nd and 3rd places and shown on\nthe table as follows:    Winner  Runner-Up   Third Place \n    The winners of the monthly league prizes are shown as follows:\n    Category 1    Category 2 \n\n\n\n\nPlayer\n03-Oct\n10-Oct\n17-Oct\n24-Oct\n31-Oct\nBest 2\nScores\n\n\n\n\nSteve Rodgers\n36\n34\n \n \n \n70\n\n\nDiarmuid O’Connor\n35\n34\n \n \n \n69\n\n\nGerry Griffin\n34\n35\n \n \n \n69\n\n\nMike Houston\n35\n34\n \n \n \n69\n\n\nBrian Murphy\n37\n30\n \n \n \n67\n\n\nDmitrii Provotorov\n26\n39\n \n \n \n65\n\n\nPhil Loughton\n35\n28\n \n \n \n63\n\n\nRoger Jones\n28\n34\n \n \n \n62\n\n\nAndrei Smetckii\n28\n32\n \n \n \n60\n\n\nYuri Buchnev\n27\n32\n \n \n \n59\n\n\nStuart Thompson\n30\n28\n \n \n \n58\n\n\nSergey Kuznetsov\n24\n32\n \n \n \n56\n\n\nMark Bruce\n26\n25\n \n \n \n51\n\n\nShuj Datoo\n27\n23\n \n \n \n50\n\n\nRadik Yamilov\n \n41\n \n \n \n41\n\n\nPeter McDermott\n \n39\n \n \n \n39\n\n\nDenis Flyn\n38\n \n \n \n \n38\n\n\nVladimir Koshman\n18\n20\n \n \n \n38\n\n\nAaron Ecker\n \n37\n \n \n \n37\n\n\nJames Liddell\n36\n \n \n \n \n36\n\n\nRichard Bruce\n36\n \n \n \n \n36\n\n\nStuart Williams\n36\n \n \n \n \n36\n\n\nTony Collier\n36\n \n \n \n \n36\n\n\nJohn Roethling\n \n36\n \n \n \n36\n\n\nVladimir Borisov\n \n35\n \n \n \n35\n\n\nStephen Melville\n34\n \n \n \n \n34\n\n\nDamien Woods\n33\n \n \n \n \n33\n\n\nPaul Blackburn\n33\n \n \n \n \n33\n\n\nRon Brayson\n33\n \n \n \n \n33\n\n\nKsenia Yamilova\n \n33\n \n \n \n33\n\n\nAndrei Udovicheko\n \n32\n \n \n \n32\n\n\nNigel Guy\n \n32\n \n \n \n32\n\n\nJim O’Shea\n31\n \n \n \n \n31\n\n\nStephen Katz\n31\n \n \n \n \n31\n\n\nJim Kelly\n \n31\n \n \n \n31\n\n\nLaurie Passman\n \n31\n \n \n \n31\n\n\nThomas Hackl\n \n31\n \n \n \n31\n\n\nDavid Goodwin\n \n30\n \n \n \n30\n\n\nJohn Campbell\n29\n \n \n \n \n29\n\n\nRoy Martinez\n29\n \n \n \n \n29\n\n\nPaul Crompton\n \n29\n \n \n \n29\n\n\nGerda van der Knaap\n28\n \n \n \n \n28\n\n\nMichael Ryan\n28\n \n \n \n \n28\n\n\nNiq Lauwaert\n28\n \n \n \n \n28\n\n\nPeter Jakobsson\n28\n \n \n \n \n28\n\n\nAlexey Rubaylo\n \n28\n \n \n \n28\n\n\nSvetlana Kripaytite\n \n28\n \n \n \n28\n\n\nLaura Nectura\n26\n \n \n \n \n26\n\n\nMike Gill\n \n26\n \n \n \n26\n\n\nBarry Kirk\n24\n \n \n \n \n24\n\n\nJoe Caffrey\n \n24\n \n \n \n24\n\n\nEamonn Devine\n \n23\n \n \n \n23\n\n\nArend van der Knaap\n22\n \n \n \n \n22\n\n\nMartin Shore\n19\n \n \n \n \n19\n\n\nSven Ecker\n \n17\n \n \n \n17\n\n\nPeter Gorman\n13\n \n \n \n \n13\n\n\nIan Hollingum\n \n11\n \n \n \n11
URL:https://golfthecosta.com/event/spence-clarke-co-weekly-league-38-2019-10-10/
LOCATION:El Paraiso Golf Club\, Urb. El Paraiso\, Ctra de Cádiz\, km 167\,\, Estepona\, Malaga\, 29680\, Spain
ATTACH;FMTTYPE=image/jpeg:https://golfthecosta.com/wp-content/uploads/2017/12/SpenceClarkeLogo.jpg
ORGANIZER;CN="Golf The Costa":MAILTO:info@www.golfthecosta.com
GEO:36.476586;-5.034811
X-APPLE-STRUCTURED-LOCATION;VALUE=URI;X-ADDRESS=El Paraiso Golf Club Urb. El Paraiso Ctra de Cádiz km 167 Estepona Malaga 29680 Spain;X-APPLE-RADIUS=500;X-TITLE=Urb. El Paraiso\, Ctra de Cádiz\, km 167\,:geo:-5.034811,36.476586
END:VEVENT
BEGIN:VEVENT
DTSTART;TZID=Europe/Madrid:20191017T090000
DTEND;TZID=Europe/Madrid:20191017T170000
DTSTAMP:20260424T030529
CREATED:20181202T123403Z
LAST-MODIFIED:20220909T122754Z
UID:10000093-1571302800-1571331600@golfthecosta.com
SUMMARY:Spence Clarke & Co Weekly League
DESCRIPTION:Weekly League Table for October 2019 \nCategory 1          Category 2\n Winner               Winner\n Runner-Up        Runner-Up\n Third Place       Third place \nIf there is an insufficient number of players to split the categories\nthen prizes will be awarded for 1st\, 2nd and 3rd places and shown on\nthe table as follows:    Winner  Runner-Up   Third Place \n    The winners of the monthly league prizes are shown as follows:\n    Category 1    Category 2 \n\n\n\n\nPlayer\n03-Oct\n10-Oct\n17-Oct\n24-Oct\n31-Oct\nBest 2\nScores\n\n\n\n\nMike Houston\n35\n34\n38\n \n \n73\n\n\nSteve Rodgers\n36\n34\n31\n \n \n70\n\n\nDiarmuid O’Connor\n35\n34\n \n \n \n69\n\n\nGerry Griffin\n34\n35\n31\n \n \n69\n\n\nTony Collier\n36\n \n33\n \n \n69\n\n\nBrian Murphy\n37\n30\n \n \n \n67\n\n\nPeter Jakobsson\n28\n \n39\n \n \n67\n\n\nDmitrii Provotorov\n26\n39\n23\n \n \n65\n\n\nPhil Loughton\n35\n28\n28\n \n \n63\n\n\nSergey Kuznetsov\n24\n32\n31\n \n \n63\n\n\nRoger Jones\n28\n34\n \n \n \n62\n\n\nAndrei Smetckii\n28\n32\n29\n \n \n61\n\n\nPeter McDermott\n \n39\n22\n \n \n61\n\n\nDavid Goodwin\n \n30\n30\n \n \n60\n\n\nYuri Buchnev\n27\n32\n \n \n \n59\n\n\nStuart Thompson\n30\n28\n \n \n \n58\n\n\nSvetlana Kripaytite\n \n28\n30\n \n \n58\n\n\nBarry Kirk\n24\n \n32\n \n \n56\n\n\nShuj Datoo\n27\n23\n29\n \n \n56\n\n\nMark Bruce\n26\n25\n29\n \n \n55\n\n\nRadik Yamilov\n \n41\n \n \n \n41\n\n\nDenis Flyn\n38\n \n \n \n \n38\n\n\nVladimir Koshman\n18\n20\n18\n \n \n38\n\n\nAaron Ecker\n \n37\n \n \n \n37\n\n\nDarren Woods\n \n \n37\n \n \n37\n\n\nJames Liddell\n36\n \n \n \n \n36\n\n\nJohn Roethling\n \n36\n \n \n \n36\n\n\nRichard Bruce\n36\n \n \n \n \n36\n\n\nStuart Williams\n36\n \n \n \n \n36\n\n\nVladimir Borisov\n \n35\n \n \n \n35\n\n\nNeil Crichton\n \n \n35\n \n \n35\n\n\nStephen Melville\n34\n \n \n \n \n34\n\n\nDamien Woods\n33\n \n \n \n \n33\n\n\nKsenia Yamilova\n \n33\n \n \n \n33\n\n\nPaul Blackburn\n33\n \n \n \n \n33\n\n\nRon Brayson\n33\n \n \n \n \n33\n\n\nAllan Kong\n \n \n33\n \n \n33\n\n\nAndrei Udovicheko\n \n32\n \n \n \n32\n\n\nNigel Guy\n \n32\n \n \n \n32\n\n\nMonica Giddings\n \n \n32\n \n \n32\n\n\nJim Kelly\n \n31\n \n \n \n31\n\n\nJim O’Shea\n31\n \n \n \n \n31\n\n\nLaurie Passman\n \n31\n \n \n \n31\n\n\nStephen Katz\n31\n \n \n \n \n31\n\n\nThomas Hackl\n \n31\n \n \n \n31\n\n\nPeter Jones\n \n \n31\n \n \n31\n\n\nDavid Giddings\n \n \n31\n \n \n31\n\n\nSteve Asplet\n \n \n31\n \n \n31\n\n\nMichael Barnwell\n \n \n30\n \n \n30\n\n\nJohn Campbell\n29\n \n \n \n \n29\n\n\nPaul Crompton\n \n29\n \n \n \n29\n\n\nRoy Martinez\n29\n \n \n \n \n29\n\n\nBrian Dunk\n \n \n29\n \n \n29\n\n\nRobert Gilbert\n \n \n29\n \n \n29\n\n\nAlexey Rubaylo\n \n28\n \n \n \n28\n\n\nGerda van der Knaap\n28\n \n \n \n \n28\n\n\nMichael Ryan\n28\n \n \n \n \n28\n\n\nNiq Lauwaert\n28\n \n \n \n \n28\n\n\nBernhard Lipinski\n \n \n28\n \n \n28\n\n\nLaura Nectura\n26\n \n \n \n \n26\n\n\nMike Gill\n \n26\n \n \n \n26\n\n\nArne Øydegard\n \n \n25\n \n \n25\n\n\nRichard Nelms\n \n \n25\n \n \n25\n\n\nJoe Caffrey\n \n24\n \n \n \n24\n\n\nEamonn Devine\n \n23\n \n \n \n23\n\n\nArend van der Knaap\n22\n \n \n \n \n22\n\n\nSteve Pagett\n \n \n22\n \n \n22\n\n\nMartin Shore\n19\n \n \n \n \n19\n\n\nSven Ecker\n \n17\n \n \n \n17\n\n\nJohn Gowlett\n \n \n16\n \n \n16\n\n\nPeter Gorman\n13\n \n \n \n \n13\n\n\nIan Hollingum\n \n11\n \n \n \n11
URL:https://golfthecosta.com/event/spence-clarke-co-weekly-league-38-2019-10-17/
LOCATION:El Paraiso Golf Club\, Urb. El Paraiso\, Ctra de Cádiz\, km 167\,\, Estepona\, Malaga\, 29680\, Spain
ATTACH;FMTTYPE=image/jpeg:https://golfthecosta.com/wp-content/uploads/2017/12/SpenceClarkeLogo.jpg
ORGANIZER;CN="Golf The Costa":MAILTO:info@www.golfthecosta.com
GEO:36.476586;-5.034811
X-APPLE-STRUCTURED-LOCATION;VALUE=URI;X-ADDRESS=El Paraiso Golf Club Urb. El Paraiso Ctra de Cádiz km 167 Estepona Malaga 29680 Spain;X-APPLE-RADIUS=500;X-TITLE=Urb. El Paraiso\, Ctra de Cádiz\, km 167\,:geo:-5.034811,36.476586
END:VEVENT
BEGIN:VEVENT
DTSTART;TZID=Europe/Madrid:20191024T090000
DTEND;TZID=Europe/Madrid:20191024T170000
DTSTAMP:20260424T030529
CREATED:20181202T123403Z
LAST-MODIFIED:20220909T122740Z
UID:10000094-1571907600-1571936400@golfthecosta.com
SUMMARY:Spence Clarke & Co Weekly League
DESCRIPTION:Weekly League Table for October 2019 \nCategory 1          Category 2\n Winner               Winner\n Runner-Up        Runner-Up\n Third Place       Third place \nIf there is an insufficient number of players to split the categories\nthen prizes will be awarded for 1st\, 2nd and 3rd places and shown on\nthe table as follows:    Winner  Runner-Up   Third Place \n    The winners of the monthly league prizes are shown as follows:\n    Category 1    Category 2 \n\n\n\n\nPlayer\n03-Oct\n10-Oct\n17-Oct\n24-Oct\n31-Oct\nBest 2\nScores\n\n\n\n\nBarry Kirk\n24\n \n32\n41\n \n73\n\n\nMike Houston\n35\n34\n38\n \n \n73\n\n\nSteve Rodgers\n36\n34\n31\n25\n \n70\n\n\nDiarmuid O’Connor\n35\n34\n \n \n \n69\n\n\nGerry Griffin\n34\n35\n31\n29\n \n69\n\n\nTony Collier\n36\n \n33\n \n \n69\n\n\nBrian Murphy\n37\n30\n \n27\n \n67\n\n\nPeter Jakobsson\n28\n \n39\n \n \n67\n\n\nDmitrii Provotorov\n26\n39\n23\n \n \n65\n\n\nDavid Giddings\n \n \n31\n32\n \n63\n\n\nPhil Loughton\n35\n28\n28\n \n \n63\n\n\nSergey Kuznetsov\n24\n32\n31\n \n \n63\n\n\nRoger Jones\n28\n34\n \n \n \n62\n\n\nStephen Melville\n34\n \n \n28\n \n62\n\n\nAndrei Smetckii\n28\n32\n29\n \n \n61\n\n\nMonica Giddings\n \n \n32\n29\n \n61\n\n\nPeter McDermott\n \n39\n22\n \n \n61\n\n\nDavid Goodwin\n \n30\n30\n \n \n60\n\n\nYuri Buchnev\n27\n32\n \n \n \n59\n\n\nStuart Thompson\n30\n28\n \n \n \n58\n\n\nSvetlana Kripaytite\n \n28\n30\n \n \n58\n\n\nRichard Bruce\n36\n \n \n21\n \n57\n\n\nMark Bruce\n26\n25\n29\n27\n \n56\n\n\nShuj Datoo\n27\n23\n29\n26\n \n56\n\n\nSteve Pagett\n \n \n22\n33\n \n55\n\n\nArne Øydegard\n \n \n25\n29\n \n54\n\n\nRadik Yamilov\n \n41\n \n \n \n41\n\n\nDenis Flyn\n38\n \n \n \n \n38\n\n\nVladimir Koshman\n18\n20\n18\n \n \n38\n\n\nAaron Ecker\n \n37\n \n \n \n37\n\n\nDarren Woods\n \n \n37\n \n \n37\n\n\nJames Liddell\n36\n \n \n \n \n36\n\n\nJohn Roethling\n \n36\n \n \n \n36\n\n\nStuart Williams\n36\n \n \n \n \n36\n\n\nNeil Crichton\n \n \n35\n \n \n35\n\n\nVladimir Borisov\n \n35\n \n \n \n35\n\n\nMichael McGhee\n \n \n \n35\n \n35\n\n\nMenno Bakker\n \n \n \n34\n \n34\n\n\nAllan Kong\n \n \n33\n \n \n33\n\n\nDamien Woods\n33\n \n \n \n \n33\n\n\nKsenia Yamilova\n \n33\n \n \n \n33\n\n\nPaul Blackburn\n33\n \n \n \n \n33\n\n\nRon Brayson\n33\n \n \n \n \n33\n\n\nGeorge Petch\n \n \n \n33\n \n33\n\n\nPaul McGhee\n \n \n \n33\n \n33\n\n\nAndrei Udovicheko\n \n32\n \n \n \n32\n\n\nNigel Guy\n \n32\n \n \n \n32\n\n\nJim Kelly\n \n31\n \n \n \n31\n\n\nJim O’Shea\n31\n \n \n \n \n31\n\n\nLaurie Passman\n \n31\n \n \n \n31\n\n\nPeter Jones\n \n \n31\n \n \n31\n\n\nStephen Katz\n31\n \n \n \n \n31\n\n\nSteve Asplet\n \n \n31\n \n \n31\n\n\nThomas Hackl\n \n31\n \n \n \n31\n\n\nDes McGhee\n \n \n \n31\n \n31\n\n\nMichael Barnwell\n \n \n30\n \n \n30\n\n\nBrian Dunk\n \n \n29\n \n \n29\n\n\nJohn Campbell\n29\n \n \n \n \n29\n\n\nPaul Crompton\n \n29\n \n \n \n29\n\n\nRobert Gilbert\n \n \n29\n \n \n29\n\n\nRoy Martinez\n29\n \n \n \n \n29\n\n\nAlexey Rubaylo\n \n28\n \n \n \n28\n\n\nBernhard Lipinski\n \n \n28\n \n \n28\n\n\nGerda van der Knaap\n28\n \n \n \n \n28\n\n\nMichael Ryan\n28\n \n \n \n \n28\n\n\nNiq Lauwaert\n28\n \n \n \n \n28\n\n\nEllen Bakker\n \n \n \n28\n \n28\n\n\nLaura Nectura\n26\n \n \n \n \n26\n\n\nMike Gill\n \n26\n \n \n \n26\n\n\nRichard Nelms\n \n \n25\n \n \n25\n\n\nJoe Caffrey\n \n24\n \n \n \n24\n\n\nEamonn Devine\n \n23\n \n \n \n23\n\n\nArend van der Knaap\n22\n \n \n \n \n22\n\n\nMartin Shore\n19\n \n \n \n \n19\n\n\nSven Ecker\n \n17\n \n \n \n17\n\n\nJohn Gowlett\n \n \n16\n \n \n16\n\n\nPeter Gorman\n13\n \n \n \n \n13\n\n\nIan Hollingum\n \n11\n \n \n \n11
URL:https://golfthecosta.com/event/spence-clarke-co-weekly-league-38-2019-10-24/
LOCATION:El Paraiso Golf Club\, Urb. El Paraiso\, Ctra de Cádiz\, km 167\,\, Estepona\, Malaga\, 29680\, Spain
ATTACH;FMTTYPE=image/jpeg:https://golfthecosta.com/wp-content/uploads/2017/12/SpenceClarkeLogo.jpg
ORGANIZER;CN="Golf The Costa":MAILTO:info@www.golfthecosta.com
GEO:36.476586;-5.034811
X-APPLE-STRUCTURED-LOCATION;VALUE=URI;X-ADDRESS=El Paraiso Golf Club Urb. El Paraiso Ctra de Cádiz km 167 Estepona Malaga 29680 Spain;X-APPLE-RADIUS=500;X-TITLE=Urb. El Paraiso\, Ctra de Cádiz\, km 167\,:geo:-5.034811,36.476586
END:VEVENT
BEGIN:VEVENT
DTSTART;TZID=Europe/Madrid:20191031T090000
DTEND;TZID=Europe/Madrid:20191031T170000
DTSTAMP:20260424T030529
CREATED:20181202T123403Z
LAST-MODIFIED:20220909T122726Z
UID:10000095-1572512400-1572541200@golfthecosta.com
SUMMARY:Spence Clarke & Co Weekly League
DESCRIPTION:Weekly League Table for October 2019 \nCategory 1          Category 2\n Winner               Winner\n Runner-Up        Runner-Up\n Third Place       Third place \nIf there is an insufficient number of players to split the categories\nthen prizes will be awarded for 1st\, 2nd and 3rd places and shown on\nthe table as follows:    Winner  Runner-Up   Third Place \n    The winners of the monthly league prizes are shown as follows:\n    Category 1    Category 2 \n\n\n\n\nPlayer\n03-Oct\n10-Oct\n17-Oct\n24-Oct\n31-Oct\nBest 2\nScores\n\n\n\n\nSteve Rodgers\n36\n34\n31\n25\n39\n75\n\n\nBarry Kirk\n24\n \n32\n41\n \n73\n\n\nMike Houston\n35\n34\n38\n \n \n73\n\n\nSteve Pagett\n \n \n22\n33\n38\n71\n\n\nPeter Jakobsson\n28\n \n39\n \n31\n70\n\n\nDiarmuid O’Connor\n35\n34\n \n \n \n69\n\n\nGerry Griffin\n34\n35\n31\n29\n33\n69\n\n\nTony Collier\n36\n \n33\n \n \n69\n\n\nBrian Murphy\n37\n30\n \n27\n27\n67\n\n\nDmitrii Provotorov\n26\n39\n23\n \n27\n66\n\n\nSvetlana Kripaytite\n \n28\n30\n \n36\n66\n\n\nPeter Jones\n \n \n31\n \n34\n65\n\n\nMonica Giddings\n \n \n32\n29\n32\n64\n\n\nDavid Giddings\n \n \n31\n32\n30\n63\n\n\nLaurie Passman\n \n31\n \n \n32\n63\n\n\nPhil Loughton\n35\n28\n28\n \n \n63\n\n\nSergey Kuznetsov\n24\n32\n31\n \n30\n63\n\n\nRoger Jones\n28\n34\n \n \n \n62\n\n\nStephen Melville\n34\n \n \n28\n \n62\n\n\nAndrei Smetckii\n28\n32\n29\n \n28\n61\n\n\nPeter McDermott\n \n39\n22\n \n \n61\n\n\nSteve Asplet\n \n \n31\n \n30\n61\n\n\nArne Øydegard\n \n \n25\n29\n31\n60\n\n\nDavid Goodwin\n \n30\n30\n \n \n60\n\n\nRon Brayson\n33\n \n \n \n26\n59\n\n\nYuri Buchnev\n27\n32\n \n \n26\n59\n\n\nStuart Thompson\n30\n28\n \n \n \n58\n\n\nRichard Bruce\n36\n \n \n21\n \n57\n\n\nMark Bruce\n26\n25\n29\n27\n22\n56\n\n\nShuj Datoo\n27\n23\n29\n26\n24\n56\n\n\nAndrei Udovicheko\n \n32\n \n \n22\n54\n\n\nEamonn Devine\n \n23\n \n \n31\n54\n\n\nArend van der Knaap\n22\n \n \n \n28\n50\n\n\nRichard Nelms\n \n \n25\n \n24\n49\n\n\nRadik Yamilov\n \n41\n \n \n \n41\n\n\nDenis Flyn\n38\n \n \n \n \n38\n\n\nVladimir Koshman\n18\n20\n18\n \n \n38\n\n\nJens Jeske\n \n \n \n \n38\n38\n\n\nAaron Ecker\n \n37\n \n \n \n37\n\n\nDarren Woods\n \n \n37\n \n \n37\n\n\nJames Liddell\n36\n \n \n \n \n36\n\n\nJohn Roethling\n \n36\n \n \n \n36\n\n\nStuart Williams\n36\n \n \n \n \n36\n\n\nRoland Bourgeois\n \n \n \n \n36\n36\n\n\nMichael McGhee\n \n \n \n35\n \n35\n\n\nNeil Crichton\n \n \n35\n \n \n35\n\n\nVladimir Borisov\n \n35\n \n \n \n35\n\n\nMenno Bakker\n \n \n \n34\n \n34\n\n\nAllan Kong\n \n \n33\n \n \n33\n\n\nDamien Woods\n33\n \n \n \n \n33\n\n\nGeorge Petch\n \n \n \n33\n \n33\n\n\nKsenia Yamilova\n \n33\n \n \n \n33\n\n\nPaul Blackburn\n33\n \n \n \n \n33\n\n\nPaul McGhee\n \n \n \n33\n \n33\n\n\nNigel Guy\n \n32\n \n \n \n32\n\n\nAlsdir MacLean\n \n \n \n \n32\n32\n\n\nDes McGhee\n \n \n \n31\n \n31\n\n\nJim Kelly\n \n31\n \n \n \n31\n\n\nJim O’Shea\n31\n \n \n \n \n31\n\n\nStephen Katz\n31\n \n \n \n \n31\n\n\nThomas Hackl\n \n31\n \n \n \n31\n\n\nJonny Martin\n \n \n \n \n31\n31\n\n\nMichael Barnwell\n \n \n30\n \n \n30\n\n\nGordon Cowans\n \n \n \n \n30\n30\n\n\nChristine Morrison\n \n \n \n \n30\n30\n\n\nBrian Dunk\n \n \n29\n \n \n29\n\n\nJohn Campbell\n29\n \n \n \n \n29\n\n\nPaul Crompton\n \n29\n \n \n \n29\n\n\nRobert Gilbert\n \n \n29\n \n \n29\n\n\nRoy Martinez\n29\n \n \n \n \n29\n\n\nIan Morrison\n \n \n \n \n29\n29\n\n\nAlexey Rubaylo\n \n28\n \n \n \n28\n\n\nBernhard Lipinski\n \n \n28\n \n \n28\n\n\nEllen Bakker\n \n \n \n28\n \n28\n\n\nGerda van der Knaap\n28\n \n \n \n \n28\n\n\nMichael Ryan\n28\n \n \n \n \n28\n\n\nNiq Lauwaert\n28\n \n \n \n \n28\n\n\nOleg Matrokhin\n \n \n \n \n28\n28\n\n\nLaura Nectura\n26\n \n \n \n \n26\n\n\nMike Gill\n \n26\n \n \n \n26\n\n\nJoe Caffrey\n \n24\n \n \n \n24\n\n\nMartin Shore\n19\n \n \n \n \n19\n\n\nSven Ecker\n \n17\n \n \n \n17\n\n\nJohn Gowlett\n \n \n16\n \n \n16\n\n\nPeter Gorman\n13\n \n \n \n \n13\n\n\nIan Hollingum\n \n11\n \n \n \n11
URL:https://golfthecosta.com/event/spence-clarke-co-weekly-league-38-2019-10-31/
LOCATION:El Paraiso Golf Club\, Urb. El Paraiso\, Ctra de Cádiz\, km 167\,\, Estepona\, Malaga\, 29680\, Spain
ATTACH;FMTTYPE=image/jpeg:https://golfthecosta.com/wp-content/uploads/2017/12/SpenceClarkeLogo.jpg
ORGANIZER;CN="Golf The Costa":MAILTO:info@www.golfthecosta.com
GEO:36.476586;-5.034811
X-APPLE-STRUCTURED-LOCATION;VALUE=URI;X-ADDRESS=El Paraiso Golf Club Urb. El Paraiso Ctra de Cádiz km 167 Estepona Malaga 29680 Spain;X-APPLE-RADIUS=500;X-TITLE=Urb. El Paraiso\, Ctra de Cádiz\, km 167\,:geo:-5.034811,36.476586
END:VEVENT
END:VCALENDAR