BEGIN:VCALENDAR
VERSION:2.0
PRODID:-// - ECPv6.15.20//NONSGML v1.0//EN
CALSCALE:GREGORIAN
METHOD:PUBLISH
X-ORIGINAL-URL:https://golfthecosta.com
X-WR-CALDESC:Events for 
REFRESH-INTERVAL;VALUE=DURATION:PT1H
X-Robots-Tag:noindex
X-PUBLISHED-TTL:PT1H
BEGIN:VTIMEZONE
TZID:Europe/Madrid
BEGIN:DAYLIGHT
TZOFFSETFROM:+0100
TZOFFSETTO:+0200
TZNAME:CEST
DTSTART:20190331T010000
END:DAYLIGHT
BEGIN:STANDARD
TZOFFSETFROM:+0200
TZOFFSETTO:+0100
TZNAME:CET
DTSTART:20191027T010000
END:STANDARD
BEGIN:DAYLIGHT
TZOFFSETFROM:+0100
TZOFFSETTO:+0200
TZNAME:CEST
DTSTART:20200329T010000
END:DAYLIGHT
BEGIN:STANDARD
TZOFFSETFROM:+0200
TZOFFSETTO:+0100
TZNAME:CET
DTSTART:20201025T010000
END:STANDARD
BEGIN:DAYLIGHT
TZOFFSETFROM:+0100
TZOFFSETTO:+0200
TZNAME:CEST
DTSTART:20210328T010000
END:DAYLIGHT
BEGIN:STANDARD
TZOFFSETFROM:+0200
TZOFFSETTO:+0100
TZNAME:CET
DTSTART:20211031T010000
END:STANDARD
END:VTIMEZONE
BEGIN:VEVENT
DTSTART;TZID=Europe/Madrid:20200806T090000
DTEND;TZID=Europe/Madrid:20200806T150000
DTSTAMP:20260423T121156
CREATED:20191026T080127Z
LAST-MODIFIED:20220909T122000Z
UID:10000123-1596704400-1596726000@golfthecosta.com
SUMMARY:Spence Clarke & Co Weekly League
DESCRIPTION:Weekly League Table for June 2020 \nCategory 1          Category 2\n Winner               Winner\n Runner-Up        Runner-Up\n Third Place       Third place \nIf there is an insufficient number of players to split the categories\nthen prizes will be awarded for 1st\, 2nd and 3rd places and shown on\nthe table as follows:    Winner  Runner-Up   Third Place \n    The winners of the monthly league prizes are shown as follows:\n    Category 1    Category 2 \n\n\n\n\nPlayer\n04-Jun\n11-Jun\n18-Jun\n25-Jun\nBest 2\n\n\n\n\nSteven Faull\n29\n \n \n \n29\n\n\nRichard Nelms\n29\n \n \n \n29\n\n\nPhil Loughton\n29\n \n \n \n29\n\n\nShuj Datoo\n28\n \n \n \n28\n\n\nJonny Martin\n27\n \n \n \n27\n\n\nSvetlana Kripaytite\n26\n \n \n \n26\n\n\nSteve Kesler\n26\n \n \n \n26\n\n\nRadik Yamiov\n26\n \n \n \n26\n\n\nMark Bruce\n25\n \n \n \n25\n\n\nPhil Cross\n24\n \n \n \n24\n\n\nStephen Melville\n22\n \n \n \n22\n\n\nDarren Woods\n18\n \n \n \n18\n\n\nIan Hollingum\n12\n \n \n \n12
URL:https://golfthecosta.com/event/spence-clarke-co-weekly-league-46-2020-06-04/2020-08-06/
LOCATION:El Paraiso Golf Club\, Urb. El Paraiso\, Ctra de Cádiz\, km 167\,\, Estepona\, Malaga\, 29680\, Spain
ATTACH;FMTTYPE=image/jpeg:https://golfthecosta.com/wp-content/uploads/2017/12/SpenceClarkeLogo.jpg
ORGANIZER;CN="Golf The Costa":MAILTO:info@www.golfthecosta.com
GEO:36.476586;-5.034811
X-APPLE-STRUCTURED-LOCATION;VALUE=URI;X-ADDRESS=El Paraiso Golf Club Urb. El Paraiso Ctra de Cádiz km 167 Estepona Malaga 29680 Spain;X-APPLE-RADIUS=500;X-TITLE=Urb. El Paraiso\, Ctra de Cádiz\, km 167\,:geo:-5.034811,36.476586
END:VEVENT
BEGIN:VEVENT
DTSTART;TZID=Europe/Madrid:20200813T090000
DTEND;TZID=Europe/Madrid:20200813T150000
DTSTAMP:20260423T121156
CREATED:20191026T080127Z
LAST-MODIFIED:20220909T122000Z
UID:10000124-1597309200-1597330800@golfthecosta.com
SUMMARY:Spence Clarke & Co Weekly League
DESCRIPTION:Weekly League Table for June 2020 \nCategory 1          Category 2\n Winner               Winner\n Runner-Up        Runner-Up\n Third Place       Third place \nIf there is an insufficient number of players to split the categories\nthen prizes will be awarded for 1st\, 2nd and 3rd places and shown on\nthe table as follows:    Winner  Runner-Up   Third Place \n    The winners of the monthly league prizes are shown as follows:\n    Category 1    Category 2 \n\n\n\n\nPlayer\n04-Jun\n11-Jun\n18-Jun\n25-Jun\nBest 2\n\n\n\n\nSteven Faull\n29\n \n \n \n29\n\n\nRichard Nelms\n29\n \n \n \n29\n\n\nPhil Loughton\n29\n \n \n \n29\n\n\nShuj Datoo\n28\n \n \n \n28\n\n\nJonny Martin\n27\n \n \n \n27\n\n\nSvetlana Kripaytite\n26\n \n \n \n26\n\n\nSteve Kesler\n26\n \n \n \n26\n\n\nRadik Yamiov\n26\n \n \n \n26\n\n\nMark Bruce\n25\n \n \n \n25\n\n\nPhil Cross\n24\n \n \n \n24\n\n\nStephen Melville\n22\n \n \n \n22\n\n\nDarren Woods\n18\n \n \n \n18\n\n\nIan Hollingum\n12\n \n \n \n12
URL:https://golfthecosta.com/event/spence-clarke-co-weekly-league-46-2020-06-04/2020-08-13/
LOCATION:El Paraiso Golf Club\, Urb. El Paraiso\, Ctra de Cádiz\, km 167\,\, Estepona\, Malaga\, 29680\, Spain
ATTACH;FMTTYPE=image/jpeg:https://golfthecosta.com/wp-content/uploads/2017/12/SpenceClarkeLogo.jpg
ORGANIZER;CN="Golf The Costa":MAILTO:info@www.golfthecosta.com
GEO:36.476586;-5.034811
X-APPLE-STRUCTURED-LOCATION;VALUE=URI;X-ADDRESS=El Paraiso Golf Club Urb. El Paraiso Ctra de Cádiz km 167 Estepona Malaga 29680 Spain;X-APPLE-RADIUS=500;X-TITLE=Urb. El Paraiso\, Ctra de Cádiz\, km 167\,:geo:-5.034811,36.476586
END:VEVENT
BEGIN:VEVENT
DTSTART;TZID=Europe/Madrid:20200814T103000
DTEND;TZID=Europe/Madrid:20200814T170000
DTSTAMP:20260423T121156
CREATED:20200202T092027Z
LAST-MODIFIED:20220909T121321Z
UID:10000153-1597401000-1597424400@golfthecosta.com
SUMMARY:The Par 3 League: Battle to Bermuda
DESCRIPTION:This event will be played every second and fourth Friday over a 12 month period ending in February 2021. We will not be playing any events in December 2020. \nThe price is 35€ for the golf and lunch plus one drink. \nIt will be a Stableford format over 18 holes and the best 10 scores will decide the winner. Each player will also receive one bonus point for participating. \nThe prize will be as follows:\n2 return airline tickets and a 4 night stay at the Southampton Princess Hotel in Bermuda\nEntry into the world par 3 championship tournament at the Turtle Hill Golf Course in Bermuda\nThe tournament will will be held over 2 days on an 18 hole par three course in March 2021 – dates to be confirmed. \nRESULTS \n\n\n\n\nPlayer\n13-Mar\n\n\n\n\nWilliam Lewis\n36\n\n\nLaura Necruta\n34\n\n\nSue Capper\n34\n\n\nKarina Budantseva\n34\n\n\nSvetlana Kripaytite\n33\n\n\nAndrei Smetckii\n32\n\n\nPhil Tobin\n31\n\n\nJan Fitzsimmons\n30\n\n\nClive Saxby\n28\n\n\nJoe Crowley\n26\n\n\nYury Buchnev\n26\n\n\nMark Bruce\n22
URL:https://golfthecosta.com/event/the-par-3-league-2020-03-13/2020-08-14/
LOCATION:Banus Executive Golf\, Camino del Ángel s/n\, Malaga\, 29660
ATTACH;FMTTYPE=image/png:https://golfthecosta.com/wp-content/uploads/2020/01/Banus-Executive-Golf.png
ORGANIZER;CN="Golf The Costa":MAILTO:info@www.golfthecosta.com
GEO:36.5005818;-4.9522774
X-APPLE-STRUCTURED-LOCATION;VALUE=URI;X-ADDRESS=Banus Executive Golf Camino del Ángel s/n Malaga 29660;X-APPLE-RADIUS=500;X-TITLE=Camino del Ángel s/n:geo:-4.9522774,36.5005818
END:VEVENT
BEGIN:VEVENT
DTSTART;TZID=Europe/Madrid:20200820T090000
DTEND;TZID=Europe/Madrid:20200820T150000
DTSTAMP:20260423T121156
CREATED:20191026T080127Z
LAST-MODIFIED:20220909T122000Z
UID:10000125-1597914000-1597935600@golfthecosta.com
SUMMARY:Spence Clarke & Co Weekly League
DESCRIPTION:Weekly League Table for June 2020 \nCategory 1          Category 2\n Winner               Winner\n Runner-Up        Runner-Up\n Third Place       Third place \nIf there is an insufficient number of players to split the categories\nthen prizes will be awarded for 1st\, 2nd and 3rd places and shown on\nthe table as follows:    Winner  Runner-Up   Third Place \n    The winners of the monthly league prizes are shown as follows:\n    Category 1    Category 2 \n\n\n\n\nPlayer\n04-Jun\n11-Jun\n18-Jun\n25-Jun\nBest 2\n\n\n\n\nSteven Faull\n29\n \n \n \n29\n\n\nRichard Nelms\n29\n \n \n \n29\n\n\nPhil Loughton\n29\n \n \n \n29\n\n\nShuj Datoo\n28\n \n \n \n28\n\n\nJonny Martin\n27\n \n \n \n27\n\n\nSvetlana Kripaytite\n26\n \n \n \n26\n\n\nSteve Kesler\n26\n \n \n \n26\n\n\nRadik Yamiov\n26\n \n \n \n26\n\n\nMark Bruce\n25\n \n \n \n25\n\n\nPhil Cross\n24\n \n \n \n24\n\n\nStephen Melville\n22\n \n \n \n22\n\n\nDarren Woods\n18\n \n \n \n18\n\n\nIan Hollingum\n12\n \n \n \n12
URL:https://golfthecosta.com/event/spence-clarke-co-weekly-league-46-2020-06-04/2020-08-20/
LOCATION:El Paraiso Golf Club\, Urb. El Paraiso\, Ctra de Cádiz\, km 167\,\, Estepona\, Malaga\, 29680\, Spain
ATTACH;FMTTYPE=image/jpeg:https://golfthecosta.com/wp-content/uploads/2017/12/SpenceClarkeLogo.jpg
ORGANIZER;CN="Golf The Costa":MAILTO:info@www.golfthecosta.com
GEO:36.476586;-5.034811
X-APPLE-STRUCTURED-LOCATION;VALUE=URI;X-ADDRESS=El Paraiso Golf Club Urb. El Paraiso Ctra de Cádiz km 167 Estepona Malaga 29680 Spain;X-APPLE-RADIUS=500;X-TITLE=Urb. El Paraiso\, Ctra de Cádiz\, km 167\,:geo:-5.034811,36.476586
END:VEVENT
BEGIN:VEVENT
DTSTART;TZID=Europe/Madrid:20200827T090000
DTEND;TZID=Europe/Madrid:20200827T150000
DTSTAMP:20260423T121156
CREATED:20191026T080127Z
LAST-MODIFIED:20220909T121936Z
UID:10000127-1598518800-1598540400@golfthecosta.com
SUMMARY:Spence Clarke & Co Weekly League
DESCRIPTION:Weekly League Table for August 2020 \nCategory 1          Category 2\n Winner               Winner\n Runner-Up        Runner-Up\n Third Place       Third place \nIf there is an insufficient number of players to split the categories\nthen prizes will be awarded for 1st\, 2nd and 3rd places and shown on\nthe table as follows:    Winner  Runner-Up   Third Place \n    The winners of the monthly league prizes are shown as follows:\n    Category 1    Category 2 \n\n\n\n\nPlayer\n06-Aug\n13-Aug\n20-Aug\n27-Aug\nBest 2\n\n\n\n\nMark Bruce\n39\n33\n35\n27\n74\n\n\nStuart Williams\n37\n36\n33\n26\n73\n\n\nLaurie Passman\n \n35\n36\n30\n71\n\n\nPhil Loughton\n34\n37\n32\n33\n71\n\n\nRichard Nelms\n29\n38\n33\n \n71\n\n\nShuj Datoo\n30\n39\n26\n31\n70\n\n\nRichard Bruce\n33\n33\n35\n26\n68\n\n\nMike Christophers\n \n37\n28\n \n65\n\n\nJake Olds\n30\n34\n29\n26\n64\n\n\nSteven Faull\n \n33\n31\n \n64\n\n\nBarry Kirk\n29\n26\n30\n33\n63\n\n\nDavid Goodwin\n30\n30\n27\n29\n60\n\n\nGeorge Olds\n \n22\n25\n35\n60\n\n\nPhil Cross\n20\n33\n26\n \n59\n\n\nJohn Moran\n30\n25\n28\n27\n58\n\n\nPaul Blackburn\n29\n28\n \n \n57\n\n\nSteve Kesler\n27\n26\n \n20\n53\n\n\nStephen Melville\n \n25\n26\n \n51\n\n\nRadik Yamilov\n \n21\n29\n \n50\n\n\nReinhard Friedrich\n28\n \n \n22\n50\n\n\nMenno Bakker\n23\n24\n \n \n47\n\n\nPeter Jakobsson\n37\n \n \n \n37\n\n\nAndy Eames\n36\n \n \n \n36\n\n\nDaniel Evans\n \n35\n \n \n35\n\n\nDavid Cope\n35\n \n \n \n35\n\n\nNiq Lauwaert\n \n \n \n35\n35\n\n\nLeni Jakobsson\n34\n \n \n \n34\n\n\nScott Harvey\n32\n \n \n \n32\n\n\nThomas Hackl\n32\n \n \n \n32\n\n\nPreben Kejser\n31\n \n \n \n31\n\n\nSteve Pagett\n \n \n \n31\n31\n\n\nStephen Ashusrt\n \n \n \n31\n31\n\n\nGavin Clark\n30\n \n \n \n30\n\n\nJohn Gowlett\n \n30\n \n \n30\n\n\nArne Øydegard\n29\n \n \n \n29\n\n\nCoen Bakker\n \n29\n \n \n29\n\n\nGraham Blackburn\n28\n \n \n \n28\n\n\nTony Gardner\n24\n \n \n \n24\n\n\nDarren Woods\n \n \n23\n \n23\n\n\nGrant Evans\n \n23\n \n \n23\n\n\nStuart Brothers\n \n \n \n22\n22\n\n\nGavin Stilwell\n \n \n20\n \n20\n\n\nTony Smith\n \n \n \n19\n19
URL:https://golfthecosta.com/event/spence-clarke-co-weekly-league-46-2020-08-27/
LOCATION:Mijas Golf Club\, Avenida Louison Bobet Urb Mijas Golf\,\, Las Lagunas de Mijas\, Malaga\, 29650\, Spain
ATTACH;FMTTYPE=image/jpeg:https://golfthecosta.com/wp-content/uploads/2017/12/SpenceClarkeLogo.jpg
ORGANIZER;CN="Golf The Costa":MAILTO:info@www.golfthecosta.com
GEO:36.55049;-4.66615
X-APPLE-STRUCTURED-LOCATION;VALUE=URI;X-ADDRESS=Mijas Golf Club Avenida Louison Bobet Urb Mijas Golf Las Lagunas de Mijas Malaga 29650 Spain;X-APPLE-RADIUS=500;X-TITLE=Avenida Louison Bobet Urb Mijas Golf\,:geo:-4.66615,36.55049
END:VEVENT
END:VCALENDAR