BEGIN:VCALENDAR
VERSION:2.0
PRODID:-// - ECPv6.15.20//NONSGML v1.0//EN
CALSCALE:GREGORIAN
METHOD:PUBLISH
X-ORIGINAL-URL:https://golfthecosta.com
X-WR-CALDESC:Events for 
REFRESH-INTERVAL;VALUE=DURATION:PT1H
X-Robots-Tag:noindex
X-PUBLISHED-TTL:PT1H
BEGIN:VTIMEZONE
TZID:Europe/Madrid
BEGIN:DAYLIGHT
TZOFFSETFROM:+0100
TZOFFSETTO:+0200
TZNAME:CEST
DTSTART:20190331T010000
END:DAYLIGHT
BEGIN:STANDARD
TZOFFSETFROM:+0200
TZOFFSETTO:+0100
TZNAME:CET
DTSTART:20191027T010000
END:STANDARD
BEGIN:DAYLIGHT
TZOFFSETFROM:+0100
TZOFFSETTO:+0200
TZNAME:CEST
DTSTART:20200329T010000
END:DAYLIGHT
BEGIN:STANDARD
TZOFFSETFROM:+0200
TZOFFSETTO:+0100
TZNAME:CET
DTSTART:20201025T010000
END:STANDARD
BEGIN:DAYLIGHT
TZOFFSETFROM:+0100
TZOFFSETTO:+0200
TZNAME:CEST
DTSTART:20210328T010000
END:DAYLIGHT
BEGIN:STANDARD
TZOFFSETFROM:+0200
TZOFFSETTO:+0100
TZNAME:CET
DTSTART:20211031T010000
END:STANDARD
END:VTIMEZONE
BEGIN:VEVENT
DTSTART;TZID=Europe/Madrid:20201203T090000
DTEND;TZID=Europe/Madrid:20201203T150000
DTSTAMP:20260423T055849
CREATED:20191026T080509Z
LAST-MODIFIED:20220909T121138Z
UID:10000130-1606986000-1607007600@golfthecosta.com
SUMMARY:Spence Clarke & Co Weekly League
DESCRIPTION:EVENT CANCELLED  BECAUSE OF RAIN
URL:https://golfthecosta.com/event/spence-clarke-co-weekly-league-47/
LOCATION:El Paraiso Golf Club\, Urb. El Paraiso\, Ctra de Cádiz\, km 167\,\, Estepona\, Malaga\, 29680\, Spain
ATTACH;FMTTYPE=image/jpeg:https://golfthecosta.com/wp-content/uploads/2017/12/SpenceClarkeLogo.jpg
ORGANIZER;CN="Golf The Costa":MAILTO:info@www.golfthecosta.com
GEO:36.476586;-5.034811
X-APPLE-STRUCTURED-LOCATION;VALUE=URI;X-ADDRESS=El Paraiso Golf Club Urb. El Paraiso Ctra de Cádiz km 167 Estepona Malaga 29680 Spain;X-APPLE-RADIUS=500;X-TITLE=Urb. El Paraiso\, Ctra de Cádiz\, km 167\,:geo:-5.034811,36.476586
END:VEVENT
BEGIN:VEVENT
DTSTART;TZID=Europe/Madrid:20201210T090000
DTEND;TZID=Europe/Madrid:20201210T150000
DTSTAMP:20260423T055850
CREATED:20191026T080509Z
LAST-MODIFIED:20220909T121128Z
UID:10000131-1607590800-1607612400@golfthecosta.com
SUMMARY:Spence Clarke & Co Weekly League
DESCRIPTION:EVENT CANCELLED  BECAUSE OF RAIN
URL:https://golfthecosta.com/event/spence-clarke-co-weekly-league-47-2020-12-10/
LOCATION:El Paraiso Golf Club\, Urb. El Paraiso\, Ctra de Cádiz\, km 167\,\, Estepona\, Malaga\, 29680\, Spain
ATTACH;FMTTYPE=image/jpeg:https://golfthecosta.com/wp-content/uploads/2017/12/SpenceClarkeLogo.jpg
ORGANIZER;CN="Golf The Costa":MAILTO:info@www.golfthecosta.com
GEO:36.476586;-5.034811
X-APPLE-STRUCTURED-LOCATION;VALUE=URI;X-ADDRESS=El Paraiso Golf Club Urb. El Paraiso Ctra de Cádiz km 167 Estepona Malaga 29680 Spain;X-APPLE-RADIUS=500;X-TITLE=Urb. El Paraiso\, Ctra de Cádiz\, km 167\,:geo:-5.034811,36.476586
END:VEVENT
BEGIN:VEVENT
DTSTART;TZID=Europe/Madrid:20201211T103000
DTEND;TZID=Europe/Madrid:20201211T170000
DTSTAMP:20260423T055850
CREATED:20200202T092027Z
LAST-MODIFIED:20220909T121321Z
UID:10000157-1607682600-1607706000@golfthecosta.com
SUMMARY:The Par 3 League: Battle to Bermuda
DESCRIPTION:This event will be played every second and fourth Friday over a 12 month period ending in February 2021. We will not be playing any events in December 2020. \nThe price is 35€ for the golf and lunch plus one drink. \nIt will be a Stableford format over 18 holes and the best 10 scores will decide the winner. Each player will also receive one bonus point for participating. \nThe prize will be as follows:\n2 return airline tickets and a 4 night stay at the Southampton Princess Hotel in Bermuda\nEntry into the world par 3 championship tournament at the Turtle Hill Golf Course in Bermuda\nThe tournament will will be held over 2 days on an 18 hole par three course in March 2021 – dates to be confirmed. \nRESULTS \n\n\n\n\nPlayer\n13-Mar\n\n\n\n\nWilliam Lewis\n36\n\n\nLaura Necruta\n34\n\n\nSue Capper\n34\n\n\nKarina Budantseva\n34\n\n\nSvetlana Kripaytite\n33\n\n\nAndrei Smetckii\n32\n\n\nPhil Tobin\n31\n\n\nJan Fitzsimmons\n30\n\n\nClive Saxby\n28\n\n\nJoe Crowley\n26\n\n\nYury Buchnev\n26\n\n\nMark Bruce\n22
URL:https://golfthecosta.com/event/the-par-3-league-2020-03-13/2020-12-11/
LOCATION:Banus Executive Golf\, Camino del Ángel s/n\, Malaga\, 29660
ATTACH;FMTTYPE=image/png:https://golfthecosta.com/wp-content/uploads/2020/01/Banus-Executive-Golf.png
ORGANIZER;CN="Golf The Costa":MAILTO:info@www.golfthecosta.com
GEO:36.5005818;-4.9522774
X-APPLE-STRUCTURED-LOCATION;VALUE=URI;X-ADDRESS=Banus Executive Golf Camino del Ángel s/n Malaga 29660;X-APPLE-RADIUS=500;X-TITLE=Camino del Ángel s/n:geo:-4.9522774,36.5005818
END:VEVENT
BEGIN:VEVENT
DTSTART;TZID=Europe/Madrid:20201217T080000
DTEND;TZID=Europe/Madrid:20201217T170000
DTSTAMP:20260423T055850
CREATED:20191026T091149Z
LAST-MODIFIED:20220909T121117Z
UID:10000144-1608192000-1608224400@golfthecosta.com
SUMMARY:The Annual GTC Christmas Bash
DESCRIPTION:An excellent day was enjoyed by 27 players \nFollowed by a superb traditional Christmas lunch \nThe resuilts of the Texas Scramble competition are shown below \n\n\n\n\n\nTeam\nGross\nScore\nHandicap\nNett\nScore\n\n\n1st\nJens Jeske\nArne Øydegard\nSteve Care\n64\n3.4\n60.6\n\n\n2nd\nGeorge Olds\nJake Olds\nLaurie Passman\nShuj Datoo\n66\n3.2\n62.8\n\n\n3rd\nSteve Asplet\nGary Williams\nJohn Arnold\nRolf Jones\n68\n3.1\n64.9\n\n\n4th\nRichard Nelms\nDavid Goodwin\nStephen Melville\nPhil Cross\n77\n4.7\n72.3\n\n\n5th\nJennifer Kesler\nSteve Kesler\nDavid Reardon\nMartin Shore\n78\n4.3\n73.7
URL:https://golfthecosta.com/event/the-annual-gtc-christmas-bash/
LOCATION:El Paraiso Golf Club\, Urb. El Paraiso\, Ctra de Cádiz\, km 167\,\, Estepona\, Malaga\, 29680\, Spain
ATTACH;FMTTYPE=image/gif:https://golfthecosta.com/wp-content/uploads/2018/01/santa53-e1634026204205.gif
ORGANIZER;CN="Golf The Costa":MAILTO:info@www.golfthecosta.com
GEO:36.476586;-5.034811
X-APPLE-STRUCTURED-LOCATION;VALUE=URI;X-ADDRESS=El Paraiso Golf Club Urb. El Paraiso Ctra de Cádiz km 167 Estepona Malaga 29680 Spain;X-APPLE-RADIUS=500;X-TITLE=Urb. El Paraiso\, Ctra de Cádiz\, km 167\,:geo:-5.034811,36.476586
END:VEVENT
END:VCALENDAR