BEGIN:VCALENDAR
VERSION:2.0
PRODID:-// - ECPv6.15.20//NONSGML v1.0//EN
CALSCALE:GREGORIAN
METHOD:PUBLISH
X-ORIGINAL-URL:https://golfthecosta.com
X-WR-CALDESC:Events for 
REFRESH-INTERVAL;VALUE=DURATION:PT1H
X-Robots-Tag:noindex
X-PUBLISHED-TTL:PT1H
BEGIN:VTIMEZONE
TZID:Europe/Madrid
BEGIN:DAYLIGHT
TZOFFSETFROM:+0100
TZOFFSETTO:+0200
TZNAME:CEST
DTSTART:20200329T010000
END:DAYLIGHT
BEGIN:STANDARD
TZOFFSETFROM:+0200
TZOFFSETTO:+0100
TZNAME:CET
DTSTART:20201025T010000
END:STANDARD
BEGIN:DAYLIGHT
TZOFFSETFROM:+0100
TZOFFSETTO:+0200
TZNAME:CEST
DTSTART:20210328T010000
END:DAYLIGHT
BEGIN:STANDARD
TZOFFSETFROM:+0200
TZOFFSETTO:+0100
TZNAME:CET
DTSTART:20211031T010000
END:STANDARD
BEGIN:DAYLIGHT
TZOFFSETFROM:+0100
TZOFFSETTO:+0200
TZNAME:CEST
DTSTART:20220327T010000
END:DAYLIGHT
BEGIN:STANDARD
TZOFFSETFROM:+0200
TZOFFSETTO:+0100
TZNAME:CET
DTSTART:20221030T010000
END:STANDARD
END:VTIMEZONE
BEGIN:VEVENT
DTSTART;TZID=Europe/Madrid:20210107T090000
DTEND;TZID=Europe/Madrid:20210107T153000
DTSTAMP:20260423T043605
CREATED:20201112T121219Z
LAST-MODIFIED:20220909T121104Z
UID:10000161-1610010000-1610033400@golfthecosta.com
SUMMARY:The GTC Weekly League
DESCRIPTION:Come and join us for a fun Stabelford Competition\nat El Paraiso Golf Club\nPlayers are divided into two categories:\nCategory 1 – Handicaps scratch to 14.4\nCategory 2 – Handicaps 14.5 and over\nCash prizes for winners and runners up in each category\nWe also have a 2’s prize pot (birdie on a par 3 or eagle on a par 4) \nMonthly prizes for the best two scores in each category \nPlease note: non members are welcome to play with us but there will be a 5€ supplement
URL:https://golfthecosta.com/event/spence-clarke-co-weekly-legue/2021-01-07/
LOCATION:El Paraiso Golf Club\, Urb. El Paraiso\, Ctra de Cádiz\, km 167\,\, Estepona\, Malaga\, 29680\, Spain
ATTACH;FMTTYPE=image/jpeg:https://golfthecosta.com/wp-content/uploads/2017/12/GOLFtheCOSTA-small.jpg
ORGANIZER;CN="Golf The Costa":MAILTO:info@www.golfthecosta.com
GEO:36.476586;-5.034811
X-APPLE-STRUCTURED-LOCATION;VALUE=URI;X-ADDRESS=El Paraiso Golf Club Urb. El Paraiso Ctra de Cádiz km 167 Estepona Malaga 29680 Spain;X-APPLE-RADIUS=500;X-TITLE=Urb. El Paraiso\, Ctra de Cádiz\, km 167\,:geo:-5.034811,36.476586
END:VEVENT
BEGIN:VEVENT
DTSTART;TZID=Europe/Madrid:20210108T103000
DTEND;TZID=Europe/Madrid:20210108T170000
DTSTAMP:20260423T043605
CREATED:20200202T092027Z
LAST-MODIFIED:20220909T121321Z
UID:10000158-1610101800-1610125200@golfthecosta.com
SUMMARY:The Par 3 League: Battle to Bermuda
DESCRIPTION:This event will be played every second and fourth Friday over a 12 month period ending in February 2021. We will not be playing any events in December 2020. \nThe price is 35€ for the golf and lunch plus one drink. \nIt will be a Stableford format over 18 holes and the best 10 scores will decide the winner. Each player will also receive one bonus point for participating. \nThe prize will be as follows:\n2 return airline tickets and a 4 night stay at the Southampton Princess Hotel in Bermuda\nEntry into the world par 3 championship tournament at the Turtle Hill Golf Course in Bermuda\nThe tournament will will be held over 2 days on an 18 hole par three course in March 2021 – dates to be confirmed. \nRESULTS \n\n\n\n\nPlayer\n13-Mar\n\n\n\n\nWilliam Lewis\n36\n\n\nLaura Necruta\n34\n\n\nSue Capper\n34\n\n\nKarina Budantseva\n34\n\n\nSvetlana Kripaytite\n33\n\n\nAndrei Smetckii\n32\n\n\nPhil Tobin\n31\n\n\nJan Fitzsimmons\n30\n\n\nClive Saxby\n28\n\n\nJoe Crowley\n26\n\n\nYury Buchnev\n26\n\n\nMark Bruce\n22
URL:https://golfthecosta.com/event/the-par-3-league-2020-03-13/2021-01-08/
LOCATION:Banus Executive Golf\, Camino del Ángel s/n\, Malaga\, 29660
ATTACH;FMTTYPE=image/png:https://golfthecosta.com/wp-content/uploads/2020/01/Banus-Executive-Golf.png
ORGANIZER;CN="Golf The Costa":MAILTO:info@www.golfthecosta.com
GEO:36.5005818;-4.9522774
X-APPLE-STRUCTURED-LOCATION;VALUE=URI;X-ADDRESS=Banus Executive Golf Camino del Ángel s/n Malaga 29660;X-APPLE-RADIUS=500;X-TITLE=Camino del Ángel s/n:geo:-4.9522774,36.5005818
END:VEVENT
BEGIN:VEVENT
DTSTART;TZID=Europe/Madrid:20210114T090000
DTEND;TZID=Europe/Madrid:20210114T153000
DTSTAMP:20260423T043605
CREATED:20201112T121219Z
LAST-MODIFIED:20220909T121050Z
UID:10000162-1610614800-1610638200@golfthecosta.com
SUMMARY:The GTC Weekly League
DESCRIPTION:Weekly League Table for January 2021 \nCategory 1          Category 2\n Winner               Winner\n Runner-Up        Runner-Up\n Third Place       Third place \nIf there is an insufficient number of players to split the categories\nthen prizes will be awarded for 1st\, 2nd and 3rd places and shown on\nthe table as follows:    Winner  Runner-Up   Third Place \n    The winners of the monthly league prizes are shown as follows:\n    Category 1    Category 2 \nPLEASE NOTE: THE EVENTS ON 21st & 28th WERE CANCELLED BECAUSE OF THE COVID RESTRICTIONS \n\n  \n\n\n\nPlayer\n14-Jan\n21-Jan\n28-Jan\nBest 2\nScores\n\n\n\n\nSteve Care\n41\n \n \n41\n\n\nShuj Datoo\n29\n \n \n29\n\n\nGeorge Olds\n29\n \n \n29\n\n\nDiarmuid O’Connor\n26\n \n \n26\n\n\nJake Olds\n26\n \n \n26\n\n\nPhil Loughton\n24\n \n \n24\n\n\nMark Bruce\n24\n \n \n24\n\n\nSteve Kesler\n24\n \n \n24\n\n\nMike Christophers\n24\n \n \n24\n\n\nSteven Faull\n24\n \n \n24\n\n\nGlenn Atkinson\n22\n \n \n22\n\n\nPhil Cross\n22\n \n \n22\n\n\nBreda Moore\n18\n \n \n18
URL:https://golfthecosta.com/event/spence-clarke-co-weekly-legue-2021-01-14/
LOCATION:El Paraiso Golf Club\, Urb. El Paraiso\, Ctra de Cádiz\, km 167\,\, Estepona\, Malaga\, 29680\, Spain
ATTACH;FMTTYPE=image/jpeg:https://golfthecosta.com/wp-content/uploads/2017/12/GOLFtheCOSTA-small.jpg
ORGANIZER;CN="Golf The Costa":MAILTO:info@www.golfthecosta.com
GEO:36.476586;-5.034811
X-APPLE-STRUCTURED-LOCATION;VALUE=URI;X-ADDRESS=El Paraiso Golf Club Urb. El Paraiso Ctra de Cádiz km 167 Estepona Malaga 29680 Spain;X-APPLE-RADIUS=500;X-TITLE=Urb. El Paraiso\, Ctra de Cádiz\, km 167\,:geo:-5.034811,36.476586
END:VEVENT
BEGIN:VEVENT
DTSTART;TZID=Europe/Madrid:20210121T090000
DTEND;TZID=Europe/Madrid:20210121T153000
DTSTAMP:20260423T043605
CREATED:20201112T121219Z
LAST-MODIFIED:20220909T121039Z
UID:10000163-1611219600-1611243000@golfthecosta.com
SUMMARY:The GTC Weekly League
DESCRIPTION:EVENT CANCELLED   BECAUSE OF COVID-19\nTRAVEL RESTRICTIONS
URL:https://golfthecosta.com/event/spence-clarke-co-weekly-legue-2021-01-21/
LOCATION:El Paraiso Golf Club\, Urb. El Paraiso\, Ctra de Cádiz\, km 167\,\, Estepona\, Malaga\, 29680\, Spain
ATTACH;FMTTYPE=image/jpeg:https://golfthecosta.com/wp-content/uploads/2017/12/GOLFtheCOSTA-small.jpg
ORGANIZER;CN="Golf The Costa":MAILTO:info@www.golfthecosta.com
GEO:36.476586;-5.034811
X-APPLE-STRUCTURED-LOCATION;VALUE=URI;X-ADDRESS=El Paraiso Golf Club Urb. El Paraiso Ctra de Cádiz km 167 Estepona Malaga 29680 Spain;X-APPLE-RADIUS=500;X-TITLE=Urb. El Paraiso\, Ctra de Cádiz\, km 167\,:geo:-5.034811,36.476586
END:VEVENT
BEGIN:VEVENT
DTSTART;TZID=Europe/Madrid:20210128T090000
DTEND;TZID=Europe/Madrid:20210128T153000
DTSTAMP:20260423T043605
CREATED:20201112T121219Z
LAST-MODIFIED:20220909T121026Z
UID:10000164-1611824400-1611847800@golfthecosta.com
SUMMARY:The GTC Weekly League
DESCRIPTION:EVENT CANCELLED   BECAUSE OF COVID-19\nTRAVEL RESTRICTIONS
URL:https://golfthecosta.com/event/spence-clarke-co-weekly-legue-2021-01-28/
LOCATION:El Paraiso Golf Club\, Urb. El Paraiso\, Ctra de Cádiz\, km 167\,\, Estepona\, Malaga\, 29680\, Spain
ATTACH;FMTTYPE=image/jpeg:https://golfthecosta.com/wp-content/uploads/2017/12/GOLFtheCOSTA-small.jpg
ORGANIZER;CN="Golf The Costa":MAILTO:info@www.golfthecosta.com
GEO:36.476586;-5.034811
X-APPLE-STRUCTURED-LOCATION;VALUE=URI;X-ADDRESS=El Paraiso Golf Club Urb. El Paraiso Ctra de Cádiz km 167 Estepona Malaga 29680 Spain;X-APPLE-RADIUS=500;X-TITLE=Urb. El Paraiso\, Ctra de Cádiz\, km 167\,:geo:-5.034811,36.476586
END:VEVENT
END:VCALENDAR