BEGIN:VCALENDAR
VERSION:2.0
PRODID:-// - ECPv6.15.20//NONSGML v1.0//EN
CALSCALE:GREGORIAN
METHOD:PUBLISH
X-ORIGINAL-URL:https://golfthecosta.com
X-WR-CALDESC:Events for 
REFRESH-INTERVAL;VALUE=DURATION:PT1H
X-Robots-Tag:noindex
X-PUBLISHED-TTL:PT1H
BEGIN:VTIMEZONE
TZID:Europe/Madrid
BEGIN:DAYLIGHT
TZOFFSETFROM:+0100
TZOFFSETTO:+0200
TZNAME:CEST
DTSTART:20200329T010000
END:DAYLIGHT
BEGIN:STANDARD
TZOFFSETFROM:+0200
TZOFFSETTO:+0100
TZNAME:CET
DTSTART:20201025T010000
END:STANDARD
BEGIN:DAYLIGHT
TZOFFSETFROM:+0100
TZOFFSETTO:+0200
TZNAME:CEST
DTSTART:20210328T010000
END:DAYLIGHT
BEGIN:STANDARD
TZOFFSETFROM:+0200
TZOFFSETTO:+0100
TZNAME:CET
DTSTART:20211031T010000
END:STANDARD
BEGIN:DAYLIGHT
TZOFFSETFROM:+0100
TZOFFSETTO:+0200
TZNAME:CEST
DTSTART:20220327T010000
END:DAYLIGHT
BEGIN:STANDARD
TZOFFSETFROM:+0200
TZOFFSETTO:+0100
TZNAME:CET
DTSTART:20221030T010000
END:STANDARD
END:VTIMEZONE
BEGIN:VEVENT
DTSTART;TZID=Europe/Madrid:20210204T093000
DTEND;TZID=Europe/Madrid:20210204T170000
DTSTAMP:20260423T030014
CREATED:20210124T083107Z
LAST-MODIFIED:20220909T120856Z
UID:10000166-1612431000-1612458000@golfthecosta.com
SUMMARY:GTC Weekly League
DESCRIPTION:EVENT CANCELLED   BECAUSE OF COVID-19\nTRAVEL RESTRICTIONS
URL:https://golfthecosta.com/event/gtc-weekly-league-2/
LOCATION:El Paraiso Golf Club\, Urb. El Paraiso\, Ctra de Cádiz\, km 167\,\, Estepona\, Malaga\, 29680\, Spain
ATTACH;FMTTYPE=image/jpeg:https://golfthecosta.com/wp-content/uploads/2017/12/cropped-GOLFtheCOSTA-small.jpg
ORGANIZER;CN="Golf The Costa":MAILTO:info@www.golfthecosta.com
GEO:36.476586;-5.034811
X-APPLE-STRUCTURED-LOCATION;VALUE=URI;X-ADDRESS=El Paraiso Golf Club Urb. El Paraiso Ctra de Cádiz km 167 Estepona Malaga 29680 Spain;X-APPLE-RADIUS=500;X-TITLE=Urb. El Paraiso\, Ctra de Cádiz\, km 167\,:geo:-5.034811,36.476586
END:VEVENT
BEGIN:VEVENT
DTSTART;TZID=Europe/Madrid:20210211T093000
DTEND;TZID=Europe/Madrid:20210211T170000
DTSTAMP:20260423T030014
CREATED:20210124T083107Z
LAST-MODIFIED:20220909T120846Z
UID:10000167-1613035800-1613062800@golfthecosta.com
SUMMARY:GTC Weekly League
DESCRIPTION:EVENT CANCELLED   BECAUSE OF COVID-19\nTRAVEL RESTRICTIONS
URL:https://golfthecosta.com/event/gtc-weekly-league-2-2021-02-11/
LOCATION:El Paraiso Golf Club\, Urb. El Paraiso\, Ctra de Cádiz\, km 167\,\, Estepona\, Malaga\, 29680\, Spain
ATTACH;FMTTYPE=image/jpeg:https://golfthecosta.com/wp-content/uploads/2017/12/cropped-GOLFtheCOSTA-small.jpg
ORGANIZER;CN="Golf The Costa":MAILTO:info@www.golfthecosta.com
GEO:36.476586;-5.034811
X-APPLE-STRUCTURED-LOCATION;VALUE=URI;X-ADDRESS=El Paraiso Golf Club Urb. El Paraiso Ctra de Cádiz km 167 Estepona Malaga 29680 Spain;X-APPLE-RADIUS=500;X-TITLE=Urb. El Paraiso\, Ctra de Cádiz\, km 167\,:geo:-5.034811,36.476586
END:VEVENT
BEGIN:VEVENT
DTSTART;TZID=Europe/Madrid:20210212T103000
DTEND;TZID=Europe/Madrid:20210212T170000
DTSTAMP:20260423T030014
CREATED:20200202T092027Z
LAST-MODIFIED:20220909T121321Z
UID:10000159-1613125800-1613149200@golfthecosta.com
SUMMARY:The Par 3 League: Battle to Bermuda
DESCRIPTION:This event will be played every second and fourth Friday over a 12 month period ending in February 2021. We will not be playing any events in December 2020. \nThe price is 35€ for the golf and lunch plus one drink. \nIt will be a Stableford format over 18 holes and the best 10 scores will decide the winner. Each player will also receive one bonus point for participating. \nThe prize will be as follows:\n2 return airline tickets and a 4 night stay at the Southampton Princess Hotel in Bermuda\nEntry into the world par 3 championship tournament at the Turtle Hill Golf Course in Bermuda\nThe tournament will will be held over 2 days on an 18 hole par three course in March 2021 – dates to be confirmed. \nRESULTS \n\n\n\n\nPlayer\n13-Mar\n\n\n\n\nWilliam Lewis\n36\n\n\nLaura Necruta\n34\n\n\nSue Capper\n34\n\n\nKarina Budantseva\n34\n\n\nSvetlana Kripaytite\n33\n\n\nAndrei Smetckii\n32\n\n\nPhil Tobin\n31\n\n\nJan Fitzsimmons\n30\n\n\nClive Saxby\n28\n\n\nJoe Crowley\n26\n\n\nYury Buchnev\n26\n\n\nMark Bruce\n22
URL:https://golfthecosta.com/event/the-par-3-league-2020-03-13/2021-02-12/
LOCATION:Banus Executive Golf\, Camino del Ángel s/n\, Malaga\, 29660
ATTACH;FMTTYPE=image/png:https://golfthecosta.com/wp-content/uploads/2020/01/Banus-Executive-Golf.png
ORGANIZER;CN="Golf The Costa":MAILTO:info@www.golfthecosta.com
GEO:36.5005818;-4.9522774
X-APPLE-STRUCTURED-LOCATION;VALUE=URI;X-ADDRESS=Banus Executive Golf Camino del Ángel s/n Malaga 29660;X-APPLE-RADIUS=500;X-TITLE=Camino del Ángel s/n:geo:-4.9522774,36.5005818
END:VEVENT
BEGIN:VEVENT
DTSTART;TZID=Europe/Madrid:20210218T100000
DTEND;TZID=Europe/Madrid:20210218T170000
DTSTAMP:20260423T030014
CREATED:20210120T092642Z
LAST-MODIFIED:20220909T120822Z
UID:10000165-1613642400-1613667600@golfthecosta.com
SUMMARY:GTC Weekly League
DESCRIPTION:EVENT CANCELLED   BECAUSE OF COVID-19\nTRAVEL RESTRICTIONS
URL:https://golfthecosta.com/event/gtc-weekly-league/
LOCATION:Santana Golf Club\, Address Postal Address Santana Golf Carretera La Cala-Entrerríos\, s/n "Valle del Golf de Mijas"\, Mijas Costa\, Malaga\, 29649\, Spain
ATTACH;FMTTYPE=image/jpeg:https://golfthecosta.com/wp-content/uploads/2017/12/cropped-GOLFtheCOSTA-small.jpg
ORGANIZER;CN="Golf The Costa":MAILTO:info@www.golfthecosta.com
GEO:36.545168;-4.693061
X-APPLE-STRUCTURED-LOCATION;VALUE=URI;X-ADDRESS=Santana Golf Club Address Postal Address Santana Golf Carretera La Cala-Entrerríos s/n "Valle del Golf de Mijas" Mijas Costa Malaga 29649 Spain;X-APPLE-RADIUS=500;X-TITLE=Address Postal Address Santana Golf Carretera La Cala-Entrerríos\, s/n "Valle del Golf de Mijas":geo:-4.693061,36.545168
END:VEVENT
BEGIN:VEVENT
DTSTART;TZID=Europe/Madrid:20210225T093000
DTEND;TZID=Europe/Madrid:20210225T170000
DTSTAMP:20260423T030014
CREATED:20210124T083234Z
LAST-MODIFIED:20220909T120813Z
UID:10000168-1614245400-1614272400@golfthecosta.com
SUMMARY:GTC Weekly League
DESCRIPTION:Come and join us for a fun Stabelford Competition\nat El Paraiso Golf Club \nPlayers are divided into two categories:\nCategory 1 – Handicaps scratch to 14.4\nCategory 2 – Handicaps 14.5 and over\nCash prizes for winners and runners up in each category\nWe also have a 2’s prize pot (birdie on a par 3 or eagle on a par 4) \nMonthly prizes for the best two scores in each category \nPlease note: non members are welcome to play with us but there will be a 5€ supplement
URL:https://golfthecosta.com/event/gtc-weekly-league-3/
LOCATION:El Paraiso Golf Club\, Urb. El Paraiso\, Ctra de Cádiz\, km 167\,\, Estepona\, Malaga\, 29680\, Spain
ATTACH;FMTTYPE=image/jpeg:https://golfthecosta.com/wp-content/uploads/2017/12/cropped-GOLFtheCOSTA-small.jpg
ORGANIZER;CN="Golf The Costa":MAILTO:info@www.golfthecosta.com
GEO:36.476586;-5.034811
X-APPLE-STRUCTURED-LOCATION;VALUE=URI;X-ADDRESS=El Paraiso Golf Club Urb. El Paraiso Ctra de Cádiz km 167 Estepona Malaga 29680 Spain;X-APPLE-RADIUS=500;X-TITLE=Urb. El Paraiso\, Ctra de Cádiz\, km 167\,:geo:-5.034811,36.476586
END:VEVENT
END:VCALENDAR