BEGIN:VCALENDAR
VERSION:2.0
PRODID:-// - ECPv6.15.20//NONSGML v1.0//EN
CALSCALE:GREGORIAN
METHOD:PUBLISH
X-ORIGINAL-URL:https://golfthecosta.com
X-WR-CALDESC:Events for 
REFRESH-INTERVAL;VALUE=DURATION:PT1H
X-Robots-Tag:noindex
X-PUBLISHED-TTL:PT1H
BEGIN:VTIMEZONE
TZID:Europe/Madrid
BEGIN:DAYLIGHT
TZOFFSETFROM:+0100
TZOFFSETTO:+0200
TZNAME:CEST
DTSTART:20200329T010000
END:DAYLIGHT
BEGIN:STANDARD
TZOFFSETFROM:+0200
TZOFFSETTO:+0100
TZNAME:CET
DTSTART:20201025T010000
END:STANDARD
BEGIN:DAYLIGHT
TZOFFSETFROM:+0100
TZOFFSETTO:+0200
TZNAME:CEST
DTSTART:20210328T010000
END:DAYLIGHT
BEGIN:STANDARD
TZOFFSETFROM:+0200
TZOFFSETTO:+0100
TZNAME:CET
DTSTART:20211031T010000
END:STANDARD
BEGIN:DAYLIGHT
TZOFFSETFROM:+0100
TZOFFSETTO:+0200
TZNAME:CEST
DTSTART:20220327T010000
END:DAYLIGHT
BEGIN:STANDARD
TZOFFSETFROM:+0200
TZOFFSETTO:+0100
TZNAME:CET
DTSTART:20221030T010000
END:STANDARD
END:VTIMEZONE
BEGIN:VEVENT
DTSTART;TZID=Europe/Madrid:20210603T093000
DTEND;TZID=Europe/Madrid:20210603T170000
DTSTAMP:20260422T203325
CREATED:20210326T153305Z
LAST-MODIFIED:20220909T120623Z
UID:10000178-1622712600-1622739600@golfthecosta.com
SUMMARY:GTC Weekly League - 3rd June El Paraiso GC
DESCRIPTION:Weekly League Table for June 2021 \nCategory 1          Category 2\n Winner               Winner\n Runner-Up        Runner-Up\n Third Place       Third place \nIf there is an insufficient number of players to split the categories\nthen prizes will be awarded for 1st\, 2nd and 3rd places and shown on\nthe table as follows:    Winner  Runner-Up   Third Place \n    The winners of the monthly league prizes are shown as follows:\n    Category 1    Category 2 \n\n  \n\n\n\nPlayer\n03-Jun\n10-Jun\n17-Jun\n24-Jun\nBest 2\nScores\n\n\n\n\nSteve Kesler\n42\n \n \n \n42\n\n\nJeanette Oaks\n38\n \n \n \n38\n\n\nPhil Loughton\n38\n \n \n \n38\n\n\nHans Kraenzler\n36\n \n \n \n36\n\n\nNorman Healey\n35\n \n \n \n35\n\n\nTony Gardner\n35\n \n \n \n35\n\n\nRichard Nelms\n34\n \n \n \n34\n\n\nStephen Melville\n33\n \n \n \n33\n\n\nDavid Goodwin\n33\n \n \n \n33\n\n\nRichard Bruce\n33\n \n \n \n33\n\n\nMark Bruce\n33\n \n \n \n33\n\n\nSteven Faull\n32\n \n \n \n32\n\n\nSteve Richardson\n32\n \n \n \n32\n\n\nSteve Rodgers\n31\n \n \n \n31\n\n\nJohn Gowlett\n30\n \n \n \n30\n\n\nJohn Oaks\n30\n \n \n \n30\n\n\nJan Olsen\n29\n \n \n \n29\n\n\nPhil Cross\n29\n \n \n \n29\n\n\nShuj Datoo\n26\n \n \n \n26\n\n\nGerry Feeney\n23\n \n \n \n23
URL:https://golfthecosta.com/event/gtc-weekly-league-11/2021-06-03/
LOCATION:El Paraiso Golf Club\, Urb. El Paraiso\, Ctra de Cádiz\, km 167\,\, Estepona\, Malaga\, 29680\, Spain
ATTACH;FMTTYPE=image/jpeg:https://golfthecosta.com/wp-content/uploads/2021/03/GTC-Logo-white-background-2-e1620397932376.jpg
ORGANIZER;CN="Golf The Costa":MAILTO:info@www.golfthecosta.com
GEO:36.476586;-5.034811
X-APPLE-STRUCTURED-LOCATION;VALUE=URI;X-ADDRESS=El Paraiso Golf Club Urb. El Paraiso Ctra de Cádiz km 167 Estepona Malaga 29680 Spain;X-APPLE-RADIUS=500;X-TITLE=Urb. El Paraiso\, Ctra de Cádiz\, km 167\,:geo:-5.034811,36.476586
END:VEVENT
BEGIN:VEVENT
DTSTART;TZID=Europe/Madrid:20210610T093000
DTEND;TZID=Europe/Madrid:20210610T170000
DTSTAMP:20260422T203325
CREATED:20210326T153305Z
LAST-MODIFIED:20220909T120623Z
UID:10000179-1623317400-1623344400@golfthecosta.com
SUMMARY:GTC Weekly League - 3rd June El Paraiso GC
DESCRIPTION:Weekly League Table for June 2021 \nCategory 1          Category 2\n Winner               Winner\n Runner-Up        Runner-Up\n Third Place       Third place \nIf there is an insufficient number of players to split the categories\nthen prizes will be awarded for 1st\, 2nd and 3rd places and shown on\nthe table as follows:    Winner  Runner-Up   Third Place \n    The winners of the monthly league prizes are shown as follows:\n    Category 1    Category 2 \n\n  \n\n\n\nPlayer\n03-Jun\n10-Jun\n17-Jun\n24-Jun\nBest 2\nScores\n\n\n\n\nSteve Kesler\n42\n \n \n \n42\n\n\nJeanette Oaks\n38\n \n \n \n38\n\n\nPhil Loughton\n38\n \n \n \n38\n\n\nHans Kraenzler\n36\n \n \n \n36\n\n\nNorman Healey\n35\n \n \n \n35\n\n\nTony Gardner\n35\n \n \n \n35\n\n\nRichard Nelms\n34\n \n \n \n34\n\n\nStephen Melville\n33\n \n \n \n33\n\n\nDavid Goodwin\n33\n \n \n \n33\n\n\nRichard Bruce\n33\n \n \n \n33\n\n\nMark Bruce\n33\n \n \n \n33\n\n\nSteven Faull\n32\n \n \n \n32\n\n\nSteve Richardson\n32\n \n \n \n32\n\n\nSteve Rodgers\n31\n \n \n \n31\n\n\nJohn Gowlett\n30\n \n \n \n30\n\n\nJohn Oaks\n30\n \n \n \n30\n\n\nJan Olsen\n29\n \n \n \n29\n\n\nPhil Cross\n29\n \n \n \n29\n\n\nShuj Datoo\n26\n \n \n \n26\n\n\nGerry Feeney\n23\n \n \n \n23
URL:https://golfthecosta.com/event/gtc-weekly-league-11/2021-06-10/
LOCATION:El Paraiso Golf Club\, Urb. El Paraiso\, Ctra de Cádiz\, km 167\,\, Estepona\, Malaga\, 29680\, Spain
ATTACH;FMTTYPE=image/jpeg:https://golfthecosta.com/wp-content/uploads/2021/03/GTC-Logo-white-background-2-e1620397932376.jpg
ORGANIZER;CN="Golf The Costa":MAILTO:info@www.golfthecosta.com
GEO:36.476586;-5.034811
X-APPLE-STRUCTURED-LOCATION;VALUE=URI;X-ADDRESS=El Paraiso Golf Club Urb. El Paraiso Ctra de Cádiz km 167 Estepona Malaga 29680 Spain;X-APPLE-RADIUS=500;X-TITLE=Urb. El Paraiso\, Ctra de Cádiz\, km 167\,:geo:-5.034811,36.476586
END:VEVENT
BEGIN:VEVENT
DTSTART;TZID=Europe/Madrid:20210610T103000
DTEND;TZID=Europe/Madrid:20210610T170000
DTSTAMP:20260422T203325
CREATED:20210326T153305Z
LAST-MODIFIED:20220909T120450Z
UID:10000182-1623321000-1623344400@golfthecosta.com
SUMMARY:GTC Weekly League - 10th June Santana GC
DESCRIPTION:Thank you to everybody who joined us at  Santana Golf Club!\n \nPlease see the scores below: \nCategory 1 – 0-10\nCategory 2 – 11-20\nCategory 3 – 21 and above \n\n\n\nCategory 1\nCategory 2\nCategory 3\n\n\nWinner\nWinner\nWinner\n\n\nRunner-Up\nRunner-Up\nRunner-Up\n\n\nThird Place\nThird Place\nThird Place\n\n\n\n  \n\n\n\nPlayer\n03-Jun\n10-Jun\n17-Jun\n24-Jun\nBest 2\n\n\nScores\n\n\nSteve Kesler\n42\n\n\n\n42\n\n\nJeanette Oaks\n38\n35\n\n\n73\n\n\nPhil Loughton\n38\n20\n\n\n58\n\n\nHans Kraenzler\n36\n\n\n\n36\n\n\nNorman Healey\n35\n\n\n\n35\n\n\nTony Gardner\n35\n33\n\n\n68\n\n\nRichard Nelms\n34\n\n\n\n34\n\n\nStephen Melville\n33\n\n\n\n33\n\n\nDavid Goodwin\n33\n\n\n\n33\n\n\nRichard Bruce\n33\n30\n\n\n63\n\n\nMark Bruce\n33\n31\n\n\n64\n\n\nSteven Faull\n32\n30\n\n\n62\n\n\nSteve Richardson\n32\n38\n\n\n70\n\n\nSteve Rodgers\n31\n32\n\n\n63\n\n\nJohn Gowlett\n30\n32\n\n\n62\n\n\nJohn Oaks\n30\n29\n\n\n59\n\n\nJan Olsen\n29\n32\n\n\n61\n\n\nPhil Cross\n29\n25\n\n\n54\n\n\nShuj Datoo\n26\n28\n\n\n54\n\n\nGerry Feeney\n23\n\n\n\n23\n\n\nJames Vagon\n\n35\n\n\n35\n\n\nJohn Wehner\n\n34\n\n\n34\n\n\nPeter Jacobsson\n\n33\n\n\n33\n\n\nJohn Balagué\n\n32\n\n\n32\n\n\nStuart Williams\n\n31\n\n\n31\n\n\nLaurie Passman\n\n38\n\n\n38\n\n\nCatherine Clark\n\n34\n\n\n34\n\n\nBrian Smith\n\n32\n\n\n32\n\n\nSinclair Soutar\n\n27\n\n\n27\n\n\nRoy Dean\n\n26\n\n\n26\n\n\nGerman De Castro\n\n30\n\n\n30\n\n\nGavin Clark\n\n29\n\n\n29\n\n\nMatt Root\n\n29\n\n\n29\n\n\nCaroline Dean\n\n26\n\n\n26\n\n\nAllan Cringan\n\n26\n\n\n26\n\n\nSteve Roberts\n\n24\n\n\n24
URL:https://golfthecosta.com/event/gtc-weekly-league-11-2021-06-10/
LOCATION:Santana Golf Club\, Address Postal Address Santana Golf Carretera La Cala-Entrerríos\, s/n "Valle del Golf de Mijas"\, Mijas Costa\, Malaga\, 29649\, Spain
ATTACH;FMTTYPE=image/jpeg:https://golfthecosta.com/wp-content/uploads/2021/03/GTC-Logo-white-background-2-e1620397932376.jpg
ORGANIZER;CN="Golf The Costa":MAILTO:info@www.golfthecosta.com
GEO:36.545168;-4.693061
X-APPLE-STRUCTURED-LOCATION;VALUE=URI;X-ADDRESS=Santana Golf Club Address Postal Address Santana Golf Carretera La Cala-Entrerríos s/n "Valle del Golf de Mijas" Mijas Costa Malaga 29649 Spain;X-APPLE-RADIUS=500;X-TITLE=Address Postal Address Santana Golf Carretera La Cala-Entrerríos\, s/n "Valle del Golf de Mijas":geo:-4.693061,36.545168
END:VEVENT
BEGIN:VEVENT
DTSTART;TZID=Europe/Madrid:20210617T093000
DTEND;TZID=Europe/Madrid:20210617T170000
DTSTAMP:20260422T203325
CREATED:20210326T153305Z
LAST-MODIFIED:20220909T120623Z
UID:10000180-1623922200-1623949200@golfthecosta.com
SUMMARY:GTC Weekly League - 3rd June El Paraiso GC
DESCRIPTION:Weekly League Table for June 2021 \nCategory 1          Category 2\n Winner               Winner\n Runner-Up        Runner-Up\n Third Place       Third place \nIf there is an insufficient number of players to split the categories\nthen prizes will be awarded for 1st\, 2nd and 3rd places and shown on\nthe table as follows:    Winner  Runner-Up   Third Place \n    The winners of the monthly league prizes are shown as follows:\n    Category 1    Category 2 \n\n  \n\n\n\nPlayer\n03-Jun\n10-Jun\n17-Jun\n24-Jun\nBest 2\nScores\n\n\n\n\nSteve Kesler\n42\n \n \n \n42\n\n\nJeanette Oaks\n38\n \n \n \n38\n\n\nPhil Loughton\n38\n \n \n \n38\n\n\nHans Kraenzler\n36\n \n \n \n36\n\n\nNorman Healey\n35\n \n \n \n35\n\n\nTony Gardner\n35\n \n \n \n35\n\n\nRichard Nelms\n34\n \n \n \n34\n\n\nStephen Melville\n33\n \n \n \n33\n\n\nDavid Goodwin\n33\n \n \n \n33\n\n\nRichard Bruce\n33\n \n \n \n33\n\n\nMark Bruce\n33\n \n \n \n33\n\n\nSteven Faull\n32\n \n \n \n32\n\n\nSteve Richardson\n32\n \n \n \n32\n\n\nSteve Rodgers\n31\n \n \n \n31\n\n\nJohn Gowlett\n30\n \n \n \n30\n\n\nJohn Oaks\n30\n \n \n \n30\n\n\nJan Olsen\n29\n \n \n \n29\n\n\nPhil Cross\n29\n \n \n \n29\n\n\nShuj Datoo\n26\n \n \n \n26\n\n\nGerry Feeney\n23\n \n \n \n23
URL:https://golfthecosta.com/event/gtc-weekly-league-11/2021-06-17/
LOCATION:El Paraiso Golf Club\, Urb. El Paraiso\, Ctra de Cádiz\, km 167\,\, Estepona\, Malaga\, 29680\, Spain
ATTACH;FMTTYPE=image/jpeg:https://golfthecosta.com/wp-content/uploads/2021/03/GTC-Logo-white-background-2-e1620397932376.jpg
ORGANIZER;CN="Golf The Costa":MAILTO:info@www.golfthecosta.com
GEO:36.476586;-5.034811
X-APPLE-STRUCTURED-LOCATION;VALUE=URI;X-ADDRESS=El Paraiso Golf Club Urb. El Paraiso Ctra de Cádiz km 167 Estepona Malaga 29680 Spain;X-APPLE-RADIUS=500;X-TITLE=Urb. El Paraiso\, Ctra de Cádiz\, km 167\,:geo:-5.034811,36.476586
END:VEVENT
BEGIN:VEVENT
DTSTART;TZID=Europe/Madrid:20210624T093000
DTEND;TZID=Europe/Madrid:20210624T170000
DTSTAMP:20260422T203325
CREATED:20210326T153305Z
LAST-MODIFIED:20220909T120623Z
UID:10000181-1624527000-1624554000@golfthecosta.com
SUMMARY:GTC Weekly League - 3rd June El Paraiso GC
DESCRIPTION:Weekly League Table for June 2021 \nCategory 1          Category 2\n Winner               Winner\n Runner-Up        Runner-Up\n Third Place       Third place \nIf there is an insufficient number of players to split the categories\nthen prizes will be awarded for 1st\, 2nd and 3rd places and shown on\nthe table as follows:    Winner  Runner-Up   Third Place \n    The winners of the monthly league prizes are shown as follows:\n    Category 1    Category 2 \n\n  \n\n\n\nPlayer\n03-Jun\n10-Jun\n17-Jun\n24-Jun\nBest 2\nScores\n\n\n\n\nSteve Kesler\n42\n \n \n \n42\n\n\nJeanette Oaks\n38\n \n \n \n38\n\n\nPhil Loughton\n38\n \n \n \n38\n\n\nHans Kraenzler\n36\n \n \n \n36\n\n\nNorman Healey\n35\n \n \n \n35\n\n\nTony Gardner\n35\n \n \n \n35\n\n\nRichard Nelms\n34\n \n \n \n34\n\n\nStephen Melville\n33\n \n \n \n33\n\n\nDavid Goodwin\n33\n \n \n \n33\n\n\nRichard Bruce\n33\n \n \n \n33\n\n\nMark Bruce\n33\n \n \n \n33\n\n\nSteven Faull\n32\n \n \n \n32\n\n\nSteve Richardson\n32\n \n \n \n32\n\n\nSteve Rodgers\n31\n \n \n \n31\n\n\nJohn Gowlett\n30\n \n \n \n30\n\n\nJohn Oaks\n30\n \n \n \n30\n\n\nJan Olsen\n29\n \n \n \n29\n\n\nPhil Cross\n29\n \n \n \n29\n\n\nShuj Datoo\n26\n \n \n \n26\n\n\nGerry Feeney\n23\n \n \n \n23
URL:https://golfthecosta.com/event/gtc-weekly-league-11/2021-06-24/
LOCATION:El Paraiso Golf Club\, Urb. El Paraiso\, Ctra de Cádiz\, km 167\,\, Estepona\, Malaga\, 29680\, Spain
ATTACH;FMTTYPE=image/jpeg:https://golfthecosta.com/wp-content/uploads/2021/03/GTC-Logo-white-background-2-e1620397932376.jpg
ORGANIZER;CN="Golf The Costa":MAILTO:info@www.golfthecosta.com
GEO:36.476586;-5.034811
X-APPLE-STRUCTURED-LOCATION;VALUE=URI;X-ADDRESS=El Paraiso Golf Club Urb. El Paraiso Ctra de Cádiz km 167 Estepona Malaga 29680 Spain;X-APPLE-RADIUS=500;X-TITLE=Urb. El Paraiso\, Ctra de Cádiz\, km 167\,:geo:-5.034811,36.476586
END:VEVENT
END:VCALENDAR