BEGIN:VCALENDAR
VERSION:2.0
PRODID:-// - ECPv6.15.20//NONSGML v1.0//EN
CALSCALE:GREGORIAN
METHOD:PUBLISH
X-ORIGINAL-URL:https://golfthecosta.com
X-WR-CALDESC:Events for 
REFRESH-INTERVAL;VALUE=DURATION:PT1H
X-Robots-Tag:noindex
X-PUBLISHED-TTL:PT1H
BEGIN:VTIMEZONE
TZID:Europe/Madrid
BEGIN:DAYLIGHT
TZOFFSETFROM:+0100
TZOFFSETTO:+0200
TZNAME:CEST
DTSTART:20200329T010000
END:DAYLIGHT
BEGIN:STANDARD
TZOFFSETFROM:+0200
TZOFFSETTO:+0100
TZNAME:CET
DTSTART:20201025T010000
END:STANDARD
BEGIN:DAYLIGHT
TZOFFSETFROM:+0100
TZOFFSETTO:+0200
TZNAME:CEST
DTSTART:20210328T010000
END:DAYLIGHT
BEGIN:STANDARD
TZOFFSETFROM:+0200
TZOFFSETTO:+0100
TZNAME:CET
DTSTART:20211031T010000
END:STANDARD
BEGIN:DAYLIGHT
TZOFFSETFROM:+0100
TZOFFSETTO:+0200
TZNAME:CEST
DTSTART:20220327T010000
END:DAYLIGHT
BEGIN:STANDARD
TZOFFSETFROM:+0200
TZOFFSETTO:+0100
TZNAME:CET
DTSTART:20221030T010000
END:STANDARD
END:VTIMEZONE
BEGIN:VEVENT
DTSTART;TZID=Europe/Madrid:20210805T090000
DTEND;TZID=Europe/Madrid:20210805T170000
DTSTAMP:20260422T165943
CREATED:20210708T080949Z
LAST-MODIFIED:20220909T120152Z
UID:10000194-1628154000-1628182800@golfthecosta.com
SUMMARY:GTC Weekly League - 5th August 2021 EL Paraiso Golf Club
DESCRIPTION:Thank you to everyone who joined us at El Paraiso GC\, we hope you all had a great day! \nFor this event only we split the handicap categories as the following:\nCategory 1: 0-18\nCategory 2: 19 – 28 \nWeekly league table for August 2021\nCategory 1          Category 2\n Winner               Winner\n Runner-Up        Runner-Up\n Third Place       Third place \n  \n\n\n\n\n05.08.2021\n12.08.2021\n19.08.2021\n26.08.2021\nTOTAL \n\n\nBarry Kirk\n37\n\n\n\n37\n\n\nMichael Wallis\n37\n\n\n\n37\n\n\nStephen Melville\n37\n\n\n\n37\n\n\nDominic White\n36\n\n\n\n36\n\n\nErik Ingvarson\n36\n\n\n\n36\n\n\nJake Olds\n36\n\n\n\n36\n\n\nLaurie Passman\n36\n\n\n\n36\n\n\nSteve Care\n35\n\n\n\n35\n\n\nSteve Kesler\n35\n\n\n\n35\n\n\nJohnathon Lloyd\n34\n\n\n\n34\n\n\nNorman Healey\n34\n\n\n\n34\n\n\nRichard Nelms\n34\n\n\n\n34\n\n\nDavid Throop\n33\n\n\n\n33\n\n\nMark Bruce\n32\n\n\n\n32\n\n\nTony Gardner\n32\n\n\n\n32\n\n\nPhil Loughton\n30\n\n\n\n30\n\n\nJohn Dellow\n28\n\n\n\n28\n\n\nGerry Feeney\n27\n\n\n\n27\n\n\nJennifer kesler\n27\n\n\n\n27\n\n\nToby Lloyd\n23\n\n\n\n23\n\n\nJohn Moran\n20\n\n\n\n20\n\n\nIan Hollingham\n13\n\n\n\n13\n\n\n\n 
URL:https://golfthecosta.com/event/gtc-weekly-league-5th-august-2021-el-paraiso-golf-club/
LOCATION:El Paraiso Golf Club\, Urb. El Paraiso\, Ctra de Cádiz\, km 167\,\, Estepona\, Malaga\, 29680\, Spain
ATTACH;FMTTYPE=image/jpeg:https://golfthecosta.com/wp-content/uploads/2021/03/GTC-Logo-white-background-2-e1620397932376.jpg
ORGANIZER;CN="Golf The Costa":MAILTO:info@www.golfthecosta.com
GEO:36.476586;-5.034811
X-APPLE-STRUCTURED-LOCATION;VALUE=URI;X-ADDRESS=El Paraiso Golf Club Urb. El Paraiso Ctra de Cádiz km 167 Estepona Malaga 29680 Spain;X-APPLE-RADIUS=500;X-TITLE=Urb. El Paraiso\, Ctra de Cádiz\, km 167\,:geo:-5.034811,36.476586
END:VEVENT
BEGIN:VEVENT
DTSTART;TZID=Europe/Madrid:20210812T093000
DTEND;TZID=Europe/Madrid:20210812T170000
DTSTAMP:20260422T165943
CREATED:20210719T064447Z
LAST-MODIFIED:20220909T120134Z
UID:10000197-1628760600-1628787600@golfthecosta.com
SUMMARY:GTC Weekly League - 12th August Alferini GC PAIRS EVENT
DESCRIPTION:Thank you to everyone who participated in our new event of a 2-ball better ball at the beautiful Alferini GC! We hope you had a fantastic day on what is a truly stunning golf course. \n  \nTeam Scores: \n\n\n\n1st: Ross Osullivan and Alex Sewell\n43\n\n\n2nd: Andy Pritchard and Jerry Halford\n43\n\n\n3rd: Jake and George Olds\n41\n\n\nGerry Hammond and Brian Smith\n40\n\n\nJohn Balagué and Steve Roberts\n39\n\n\nMark Bruce and Stuart Williams\n39\n\n\nNorman Healey and John Dellow\n38\n\n\nPhil Loughton and Richard Bruce\n38\n\n\nRichard Browman and Steve Roberts\n36\n\n\nStuart Williams and Allan Cringan\n36\n\n\nSteve and Jennifer Kesler\n35\n\n\nRon Brayson and Peter Jones\n31\n\n\n\nNearest The Pin was won by ALLAN CRINGAN on the 14th Hole. \nPlease see the monthly scores below: \n\n\n\n\n05.08.2021\n12.08.2021\n19.08.2021\n26.08.2021\nTOTAL \n\n\nJake Olds\n36\n28\n\n\n64\n\n\nMark Bruce\n32\n30\n\n\n62\n\n\nJohn Dellow\n28\n34\n\n\n62\n\n\nNorman Healey\n34\n27\n\n\n61\n\n\nSteve Kesler\n35\n23\n\n\n58\n\n\nPhil Loughton\n30\n27\n\n\n57\n\n\nJennifer Kesler\n27\n25\n\n\n52\n\n\nAndy Pritchard\n\n41\n\n\n41\n\n\nBarry Kirk\n37\n\n\n\n37\n\n\nMichael Wallis\n37\n\n\n\n37\n\n\nStephen Melville\n37\n\n\n\n37\n\n\nDominic White\n36\n\n\n\n36\n\n\nErik Ingvarson\n36\n\n\n\n36\n\n\nLaurie Passman\n36\n\n\n\n36\n\n\nSteve Care\n35\n\n\n\n35\n\n\nJohnathon Lloyd\n34\n\n\n\n34\n\n\nRichard Nelms\n34\n\n\n\n34\n\n\nBrian Smith\n\n34\n\n\n34\n\n\nDavid Throop\n33\n\n\n\n33\n\n\nStuart Williams\n\n33\n\n\n33\n\n\nTony Gardner\n32\n\n\n\n32\n\n\nAlex Sewell\n\n32\n\n\n32\n\n\nRoss Osullivan\n\n31\n\n\n31\n\n\nJerry Halford\n\n31\n\n\n31\n\n\nJohn Balagué\n\n31\n\n\n31\n\n\nRichard Bruce\n\n31\n\n\n31\n\n\nGeorge Olds\n\n31\n\n\n31\n\n\nRichard Browman\n\n30\n\n\n30\n\n\nGerry Feeney\n27\n\n\n\n27\n\n\nGerry Hammond\n\n27\n\n\n27\n\n\nRon Brayson\n\n26\n\n\n26\n\n\nSteve Roberts\n\n25\n\n\n25\n\n\nToby Lloyd\n23\n\n\n\n23\n\n\nPeter Jones\n\n22\n\n\n22\n\n\nJohn Moran\n20\n\n\n\n20\n\n\nIan Hollingham\n13\n\n\n\n13
URL:https://golfthecosta.com/event/gtc-weekly-league-12th-august-alferini-gc-pairs-event/
LOCATION:Alferini Golf Club\, Urbanización Los Flamingos\, Benahavis\, Malaga\, 29679\, Spain
ATTACH;FMTTYPE=image/jpeg:https://golfthecosta.com/wp-content/uploads/2021/03/GTC-Logo-white-background-2-e1620397932376.jpg
ORGANIZER;CN="Golf The Costa":MAILTO:info@www.golfthecosta.com
GEO:36.5206678;-5.0458302
X-APPLE-STRUCTURED-LOCATION;VALUE=URI;X-ADDRESS=Alferini Golf Club Urbanización Los Flamingos Benahavis Malaga 29679 Spain;X-APPLE-RADIUS=500;X-TITLE=Urbanización Los Flamingos:geo:-5.0458302,36.5206678
END:VEVENT
BEGIN:VEVENT
DTSTART;TZID=Europe/Madrid:20210819T090000
DTEND;TZID=Europe/Madrid:20210819T170000
DTSTAMP:20260422T165943
CREATED:20210708T081447Z
LAST-MODIFIED:20220909T120121Z
UID:10000195-1629363600-1629392400@golfthecosta.com
SUMMARY:GTC Weekly League - 19th August 2021 EL Paraiso Golf Club
DESCRIPTION:Thank you to everyone who joined us at El Paraiso GC\, we hope you all had a great day! \nThe handicaps were split as per the following:\nCategory 1: 0-14\nCategory 2: 14 and above \nWeekly league table for August 2021\nCategory 1          Category 2\n Winner               Winner\n Runner-Up        Runner-Up\n Third Place       Third place \n\n\n\n\n05.08.2021\n12.08.2021\n19.08.2021\n26.08.2021\nTOTAL \n\n\nAndy Pritchard\n\n41\n36\n\n77\n\n\nJake Olds\n36\n28\n37\n\n73\n\n\nJohn Balagué\n\n31\n38\n\n69\n\n\nGeorge Olds\n\n31\n38\n\n69\n\n\nTony Gardner\n32\n\n36\n\n68\n\n\nMark Bruce\n32\n30\n33\n\n65\n\n\nJohn Dellow\n28\n34\n31\n\n65\n\n\nStephen Melville\n37\n\n26\n\n63\n\n\nGerry Hammond\n\n27\n36\n\n63\n\n\nSteve Kesler\n35\n23\n27\n\n62\n\n\nPhil Loughton\n30\n27\n32\n\n62\n\n\nBrian Smith\n\n34\n28\n\n62\n\n\nNorman Healey\n34\n27\n\n\n61\n\n\nGerry Feeney\n27\n\n34\n\n61\n\n\nRichard Nelms\n34\n\n26\n\n60\n\n\nSteve Roberts\n\n25\n35\n\n60\n\n\nJennifer Kesler\n27\n25\n\n\n52\n\n\nPeter Jones\n\n22\n29\n\n51\n\n\nChris O’Brein\n\n\n40\n\n40\n\n\nBarry Kirk\n37\n\n\n\n37\n\n\nMichael Wallis\n37\n\n\n\n37\n\n\nDominic White\n36\n\n\n\n36\n\n\nErik Ingvarson\n36\n\n\n\n36\n\n\nLaurie Passman\n36\n\n\n\n36\n\n\nSteve Care\n35\n\n\n\n35\n\n\nJan Olsen\n\n\n35\n\n35\n\n\nJohnathon Lloyd\n34\n\n\n\n34\n\n\nDavid Goodwin\n\n\n34\n\n34\n\n\nDavid Throop\n33\n\n\n\n33\n\n\nStuart Williams\n\n33\n\n\n33\n\n\nAlex Sewell\n\n32\n\n\n32\n\n\nRoss Osullivan\n\n31\n\n\n31\n\n\nJerry Halford\n\n31\n\n\n31\n\n\nRichard Bruce\n\n31\n\n\n31\n\n\nAllan Kong\n\n\n31\n\n31\n\n\nRichard Browman\n\n30\n\n\n30\n\n\nSteven Faull\n\n\n28\n\n28\n\n\nSimon Wellstead\n\n\n27\n\n27\n\n\nRon Brayson\n\n26\n\n\n26\n\n\nRob Anstey\n\n\n24\n\n24\n\n\nToby Lloyd\n23\n\n\n\n23\n\n\nJohn Moran\n20\n\n\n\n20\n\n\nMike Underhill\n\n\n20\n\n20\n\n\nIan Hollingum\n13\n\n\n\n13
URL:https://golfthecosta.com/event/gtc-weekly-league-19th-august-2021-el-paraiso-golf-club/
LOCATION:El Paraiso Golf Club\, Urb. El Paraiso\, Ctra de Cádiz\, km 167\,\, Estepona\, Malaga\, 29680\, Spain
ATTACH;FMTTYPE=image/jpeg:https://golfthecosta.com/wp-content/uploads/2021/03/GTC-Logo-white-background-2-e1620397932376.jpg
ORGANIZER;CN="Golf The Costa":MAILTO:info@www.golfthecosta.com
GEO:36.476586;-5.034811
X-APPLE-STRUCTURED-LOCATION;VALUE=URI;X-ADDRESS=El Paraiso Golf Club Urb. El Paraiso Ctra de Cádiz km 167 Estepona Malaga 29680 Spain;X-APPLE-RADIUS=500;X-TITLE=Urb. El Paraiso\, Ctra de Cádiz\, km 167\,:geo:-5.034811,36.476586
END:VEVENT
BEGIN:VEVENT
DTSTART;TZID=Europe/Madrid:20210826T090000
DTEND;TZID=Europe/Madrid:20210826T170000
DTSTAMP:20260422T165943
CREATED:20210708T081713Z
LAST-MODIFIED:20220909T120106Z
UID:10000196-1629968400-1629997200@golfthecosta.com
SUMMARY:GTC Weekly League - 26th August 2021 El Paraiso Golf Club
DESCRIPTION:Thank you to everyone who joined us at El Paraiso GC\, we hope you all had a great day! \nThe handicaps were split as per the following:\nCategory 1: 0-14\nCategory 2: 14 and above \nWeekly league table for August 2021\nCategory 1          Category 2\n Winner               Winner\n Runner-Up        Runner-Up\n Third Place       Third place \nThe winners of the monthly league prizes are shown as follows:\n    Category 1    Category 2 \n\n\n\n\n05.08.2021\n12.08.2021\n19.08.2021\n26.08.2021\nTOTAL \n\n\nLaurie Passman\n36\n\n\n43\n79\n\n\nAndy Pritchard\n\n41\n36\n\n77\n\n\nChris O’Brein\n\n\n40\n36\n76\n\n\nJan Olsen\n\n\n35\n40\n75\n\n\nJake Olds\n36\n28\n37\n37\n74\n\n\nJohn Balagué\n\n31\n38\n35\n73\n\n\nDavid Goodwin\n\n\n34\n37\n71\n\n\nGerry Hammond\n\n27\n36\n34\n70\n\n\nGerry Feeney\n27\n\n34\n36\n70\n\n\nBarry Kirk\n37\n\n\n33\n70\n\n\nAllan Kong\n\n\n31\n39\n70\n\n\nGeorge Olds\n\n31\n38\n\n69\n\n\nTony Gardner\n32\n\n36\n27\n68\n\n\nSteve Kesler\n35\n23\n27\n33\n68\n\n\nStephen Melville\n37\n\n26\n29\n66\n\n\nMark Bruce\n32\n30\n33\n33\n66\n\n\nJohn Dellow\n28\n34\n31\n\n65\n\n\nRichard Nelms\n34\n\n26\n29\n63\n\n\nPhil Loughton\n30\n27\n32\n30\n62\n\n\nBrian Smith\n\n34\n28\n\n62\n\n\nNorman Healey\n34\n27\n\n\n61\n\n\nSteve Roberts\n\n25\n35\n\n60\n\n\nJennifer kesler\n27\n25\n\n31\n58\n\n\nPeter Jones\n\n22\n29\n\n51\n\n\nMichael Wallis\n37\n\n\n\n37\n\n\nDominic White\n36\n\n\n\n36\n\n\nErik Ingvarson\n36\n\n\n\n36\n\n\nSteve Care\n35\n\n\n\n35\n\n\nJohnathon Lloyd\n34\n\n\n\n34\n\n\nDavid Throop\n33\n\n\n\n33\n\n\nStuart Williams\n\n33\n\n\n33\n\n\nAlex Sewell\n\n32\n\n\n32\n\n\nRoss Osullivan\n\n31\n\n\n31\n\n\nJerry Halford\n\n31\n\n\n31\n\n\nRichard Bruce\n\n31\n\n\n31\n\n\nNiq Lauwaert\n\n\n\n31\n31\n\n\nRichard Browman\n\n30\n\n\n30\n\n\nTim Kerry\n\n\n\n30\n30\n\n\nSteven Faull\n\n\n28\n\n28\n\n\nSimon Wellstead\n\n\n27\n\n27\n\n\nSteve Pagett\n\n\n\n27\n27\n\n\nBrian Binstock\n\n\n\n27\n27\n\n\nRon Brayson\n\n26\n\n\n26\n\n\nRob Anstey\n\n\n24\n\n24\n\n\nToby Lloyd\n23\n\n\n\n23\n\n\nAlan Oslington\n\n\n\n22\n22\n\n\nJohn Moran\n20\n\n\n\n20\n\n\nMike Underhill\n\n\n20\n\n20\n\n\nIan Hollingham\n13\n\n\n\n13
URL:https://golfthecosta.com/event/gtc-weekly-league-26th-august-2021-el-paraiso-golf-club/
LOCATION:El Paraiso Golf Club\, Urb. El Paraiso\, Ctra de Cádiz\, km 167\,\, Estepona\, Malaga\, 29680\, Spain
ATTACH;FMTTYPE=image/jpeg:https://golfthecosta.com/wp-content/uploads/2021/03/GTC-Logo-white-background-2-e1620397932376.jpg
ORGANIZER;CN="Golf The Costa":MAILTO:info@www.golfthecosta.com
GEO:36.476586;-5.034811
X-APPLE-STRUCTURED-LOCATION;VALUE=URI;X-ADDRESS=El Paraiso Golf Club Urb. El Paraiso Ctra de Cádiz km 167 Estepona Malaga 29680 Spain;X-APPLE-RADIUS=500;X-TITLE=Urb. El Paraiso\, Ctra de Cádiz\, km 167\,:geo:-5.034811,36.476586
END:VEVENT
END:VCALENDAR