BEGIN:VCALENDAR
VERSION:2.0
PRODID:-// - ECPv6.15.20//NONSGML v1.0//EN
CALSCALE:GREGORIAN
METHOD:PUBLISH
X-ORIGINAL-URL:https://golfthecosta.com
X-WR-CALDESC:Events for 
REFRESH-INTERVAL;VALUE=DURATION:PT1H
X-Robots-Tag:noindex
X-PUBLISHED-TTL:PT1H
BEGIN:VTIMEZONE
TZID:Europe/Madrid
BEGIN:DAYLIGHT
TZOFFSETFROM:+0100
TZOFFSETTO:+0200
TZNAME:CEST
DTSTART:20240331T010000
END:DAYLIGHT
BEGIN:STANDARD
TZOFFSETFROM:+0200
TZOFFSETTO:+0100
TZNAME:CET
DTSTART:20241027T010000
END:STANDARD
BEGIN:DAYLIGHT
TZOFFSETFROM:+0100
TZOFFSETTO:+0200
TZNAME:CEST
DTSTART:20250330T010000
END:DAYLIGHT
BEGIN:STANDARD
TZOFFSETFROM:+0200
TZOFFSETTO:+0100
TZNAME:CET
DTSTART:20251026T010000
END:STANDARD
BEGIN:DAYLIGHT
TZOFFSETFROM:+0100
TZOFFSETTO:+0200
TZNAME:CEST
DTSTART:20260329T010000
END:DAYLIGHT
BEGIN:STANDARD
TZOFFSETFROM:+0200
TZOFFSETTO:+0100
TZNAME:CET
DTSTART:20261025T010000
END:STANDARD
END:VTIMEZONE
BEGIN:VEVENT
DTSTART;TZID=Europe/Madrid:20250206T090000
DTEND;TZID=Europe/Madrid:20250206T170000
DTSTAMP:20260423T072052
CREATED:20241212T102331Z
LAST-MODIFIED:20250329T125418Z
UID:10000495-1738832400-1738861200@golfthecosta.com
SUMMARY:GTC Weekly League - El Paraiso Golf Club
DESCRIPTION:Weekly League Table February 2025 \nCategory 1         Category 2\nWinner                 Winner\nRunner-Up        Runner-Up\n Third Place       Third place \nIf there is an insufficient number of players to split the categories\nthen prizes will be awarded for 1st\, 2nd and 3rd places and shown on\nthe table as follows:    Winner  Runner-Up   Third Place \n\n\n\n\nPlayer\n06-Feb\n13-Feb\n20-Feb\n27-Feb\nBest 2Scores\n\n\n\n\nStephen Briggs\n37\n \n \n \n37\n\n\nPhil Loughton\n35\n \n \n \n35\n\n\nColin Crawshaw\n34\n \n \n \n34\n\n\nMenno Bakker\n32\n \n \n \n32\n\n\nJoe Caffrey\n32\n \n \n \n32\n\n\nCharles Ireland\n32\n \n \n \n32\n\n\nSteven Faull\n31\n \n \n \n31\n\n\nPaul Hollman\n31\n \n \n \n31\n\n\nRichard Nelms\n28\n \n \n \n28\n\n\nPeter Hedges\n28\n \n \n \n28\n\n\nGraham Willis\n26\n \n \n \n26\n\n\nDavid Steel\n26\n \n \n \n26\n\n\nPeter Jones\n25\n \n \n \n25\n\n\nWilly Edwards\n23\n \n \n \n23\n\n\nDavid Jamieson\n23\n \n \n \n23\n\n\nMarc Graves\n22\n \n \n \n22\n\n\nMalcolm Jaffa\n22\n \n \n \n22\n\n\nSeán Lennon\n22\n \n \n \n22\n\n\nJim Kelly\n21\n \n \n \n21\n\n\nMalgosia Hedges\n19\n \n \n \n19\n\n\nShuj Datoo\n14\n \n \n \n14
URL:https://golfthecosta.com/event/gtc-weekly-league-el-paraiso-golf-club-107/
LOCATION:El Paraiso Golf Club\, Urb. El Paraiso\, Ctra de Cádiz\, km 167\,\, Estepona\, Malaga\, 29680\, Spain
ATTACH;FMTTYPE=image/jpeg:https://golfthecosta.com/wp-content/uploads/2024/10/GTC-El-Paraiso-3.jpeg
ORGANIZER;CN="Golf The Costa":MAILTO:info@www.golfthecosta.com
GEO:36.476586;-5.034811
X-APPLE-STRUCTURED-LOCATION;VALUE=URI;X-ADDRESS=El Paraiso Golf Club Urb. El Paraiso Ctra de Cádiz km 167 Estepona Malaga 29680 Spain;X-APPLE-RADIUS=500;X-TITLE=Urb. El Paraiso\, Ctra de Cádiz\, km 167\,:geo:-5.034811,36.476586
END:VEVENT
BEGIN:VEVENT
DTSTART;TZID=Europe/Madrid:20250213T090000
DTEND;TZID=Europe/Madrid:20250213T170000
DTSTAMP:20260423T072052
CREATED:20241212T102440Z
LAST-MODIFIED:20250329T125350Z
UID:10000496-1739437200-1739466000@golfthecosta.com
SUMMARY:GTC Weekly League - El Paraiso Golf Club
DESCRIPTION:Weekly League Table February 2025 \nCategory 1         Category 2\nWinner                 Winner\nRunner-Up        Runner-Up\n Third Place       Third place \nIf there is an insufficient number of players to split the categories\nthen prizes will be awarded for 1st\, 2nd and 3rd places and shown on\nthe table as follows:    Winner  Runner-Up   Third Place \n\n\n\n\nPlayer\n06-Feb\n13-Feb\n20-Feb\n27-Feb\nBest 2Scores\n\n\n\n\nCharles Ireland\n32\n32\n \n \n64\n\n\nSteven Faull\n31\n32\n \n \n63\n\n\nPeter Hedges\n28\n34\n \n \n62\n\n\nPhil Loughton\n35\n27\n \n \n62\n\n\nRichard Nelms\n28\n32\n \n \n60\n\n\nSeán Lennon\n22\n37\n \n \n59\n\n\nJim Kelly\n21\n31\n \n \n52\n\n\nDavid Steel\n26\n24\n \n \n50\n\n\nMalcolm Jaffa\n22\n23\n \n \n45\n\n\nDavid Jamieson\n23\n21\n \n \n44\n\n\nMalgosia Hedges\n19\n21\n \n \n40\n\n\nStephen Briggs\n37\n \n \n \n37\n\n\nJM Boulet\n \n37\n \n \n37\n\n\nDavid Cope\n \n35\n \n \n35\n\n\nSteve Roberts\n \n35\n \n \n35\n\n\nColin Crawshaw\n34\n \n \n \n34\n\n\nJake Olds\n \n33\n \n \n33\n\n\nJoe Caffrey\n32\n \n \n \n32\n\n\nMenno Bakker\n32\n \n \n \n32\n\n\nPaul Hollman\n31\n \n \n \n31\n\n\nDiarmuid O’Connor\n \n30\n \n \n30\n\n\nDavid Archer\n \n28\n \n \n28\n\n\nDennis Posner\n \n27\n \n \n27\n\n\nPhil Cross\n \n27\n \n \n27\n\n\nGraham Willis\n26\n \n \n \n26\n\n\nPeter Jones\n25\n \n \n \n25\n\n\nWilly Edwards\n23\n \n \n \n23\n\n\nSönke Wolf\n \n23\n \n \n23\n\n\nKaren Posner\n \n23\n \n \n23\n\n\nMarc Graves\n22\n \n \n \n22\n\n\nZoë Woods\n \n21\n \n \n21\n\n\nShuj Datoo\n14\n \n \n \n14
URL:https://golfthecosta.com/event/gtc-weekly-league-el-paraiso-golf-club-112/
LOCATION:El Paraiso Golf Club\, Urb. El Paraiso\, Ctra de Cádiz\, km 167\,\, Estepona\, Malaga\, 29680\, Spain
ATTACH;FMTTYPE=image/jpeg:https://golfthecosta.com/wp-content/uploads/2024/10/GTC-El-Paraiso-3.jpeg
ORGANIZER;CN="Golf The Costa":MAILTO:info@www.golfthecosta.com
GEO:36.476586;-5.034811
X-APPLE-STRUCTURED-LOCATION;VALUE=URI;X-ADDRESS=El Paraiso Golf Club Urb. El Paraiso Ctra de Cádiz km 167 Estepona Malaga 29680 Spain;X-APPLE-RADIUS=500;X-TITLE=Urb. El Paraiso\, Ctra de Cádiz\, km 167\,:geo:-5.034811,36.476586
END:VEVENT
BEGIN:VEVENT
DTSTART;TZID=Europe/Madrid:20250220T100000
DTEND;TZID=Europe/Madrid:20250220T170000
DTSTAMP:20260423T072052
CREATED:20250114T083126Z
LAST-MODIFIED:20250329T125323Z
UID:10000561-1740045600-1740070800@golfthecosta.com
SUMMARY:GTC Weekly League - Doña Julia
DESCRIPTION:Weekly League Table February 2025 \nCategory 1         Category 2\nWinner                 Winner\nRunner-Up        Runner-Up\n Third Place       Third place \nIf there is an insufficient number of players to split the categories\nthen prizes will be awarded for 1st\, 2nd and 3rd places and shown on\nthe table as follows:    Winner  Runner-Up   Third Place \n\n\n\n\nPlayer\n06-Feb\n13-Feb\n20-Feb\n27-Feb\nBest 2Scores\n\n\n\n\nSeán Lennon\n22\n37\n36\n \n73\n\n\nStephen Briggs\n37\n \n29\n \n66\n\n\nPeter Hedges\n28\n34\n31\n \n65\n\n\nCharles Ireland\n32\n32\n \n \n64\n\n\nPhil Cross\n \n27\n37\n \n64\n\n\nSteven Faull\n31\n32\n31\n \n63\n\n\nPhil Loughton\n35\n27\n \n \n62\n\n\nSteve Roberts\n \n35\n27\n \n62\n\n\nRichard Nelms\n28\n32\n \n \n60\n\n\nDavid Steel\n26\n24\n31\n \n57\n\n\nDiarmuid O’Connor\n \n30\n27\n \n57\n\n\nMalcolm Jaffa\n22\n23\n32\n \n55\n\n\nWilly Edwards\n23\n \n30\n \n53\n\n\nJim Kelly\n21\n31\n \n \n52\n\n\nMalgosia Hedges\n19\n21\n30\n \n51\n\n\nDavid Jamieson\n23\n21\n \n \n44\n\n\nMarc Graves\n22\n \n19\n \n41\n\n\nChris Royston\n \n \n41\n \n41\n\n\nDavid Mellors\n \n \n38\n \n38\n\n\nJM Boulet\n \n37\n \n \n37\n\n\nMonique Lauwaert\n \n \n36\n \n36\n\n\nDavid Cope\n \n35\n \n \n35\n\n\nColin Crawshaw\n34\n \n \n \n34\n\n\nPaul Boland\n \n \n34\n \n34\n\n\nJake Olds\n \n33\n \n \n33\n\n\nAmanda Mellors\n \n \n33\n \n33\n\n\nBarney Costelloe\n \n \n33\n \n33\n\n\nLiam Caplis\n \n \n33\n \n33\n\n\nJoe Caffrey\n32\n \n \n \n32\n\n\nMenno Bakker\n32\n \n \n \n32\n\n\nPaul Hollman\n31\n \n37\n \n68\n\n\nJane Boland\n \n \n31\n \n31\n\n\nNiall Brosnan\n \n \n31\n \n31\n\n\nDavid Archer\n \n28\n \n \n28\n\n\nDennis Posner\n \n27\n \n \n27\n\n\nDavid Hogg\n \n \n27\n \n27\n\n\nGraham Willis\n26\n \n \n \n26\n\n\nPeter Jones\n25\n \n \n \n25\n\n\nAndrew Sanaghan\n \n \n25\n \n25\n\n\nChris Morris\n \n \n25\n \n25\n\n\nMike O’Gorman\n \n \n24\n \n24\n\n\nKaren Posner\n \n23\n \n \n23\n\n\nSönke Wolf\n \n23\n \n \n23\n\n\nZoë Woods\n \n21\n \n \n21\n\n\nShuj Datoo\n14\n \n \n \n14
URL:https://golfthecosta.com/event/gtc-weekly-league-dona-julia/
LOCATION:Dońa Julia Golf Club\, AUTOVÍA A-7\, KM 146\, Casares\, Malaga\, 29690\, Spain
ATTACH;FMTTYPE=image/jpeg:https://golfthecosta.com/wp-content/uploads/2021/03/GTC-Logo-white-background-2-e1620397932376.jpg
ORGANIZER;CN="Golf The Costa":MAILTO:info@www.golfthecosta.com
GEO:37.4067894;-1.9594752
X-APPLE-STRUCTURED-LOCATION;VALUE=URI;X-ADDRESS=Dońa Julia Golf Club AUTOVÍA A-7 KM 146 Casares Malaga 29690 Spain;X-APPLE-RADIUS=500;X-TITLE=AUTOVÍA A-7\, KM 146:geo:-1.9594752,37.4067894
END:VEVENT
BEGIN:VEVENT
DTSTART;TZID=Europe/Madrid:20250227T090000
DTEND;TZID=Europe/Madrid:20250227T170000
DTSTAMP:20260423T072052
CREATED:20241212T102559Z
LAST-MODIFIED:20250329T125254Z
UID:10000497-1740646800-1740675600@golfthecosta.com
SUMMARY:GTC Weekly League - El Paraiso Golf Club
DESCRIPTION:Weekly League Table February 2025 \nCategory 1         Category 2\nWinner                 Winner\nRunner-Up        Runner-Up\n Third Place       Third place \nIf there is an insufficient number of players to split the categories\nthen prizes will be awarded for 1st\, 2nd and 3rd places and shown on\nthe table as follows:    Winner  Runner-Up   Third Place \nThe winners of the monthly league prizes are shown as follows:\nCategory 1    Category 2 \n\n\n\n\nPlayer\n06-Feb\n13-Feb\n20-Feb\n27-Feb\nBest 2Scores\n\n\n\n\nChris Royston\n \n \n41\n34\n75\n\n\nSeán Lennon\n22\n37\n36\n \n73\n\n\nJM Boulet\n \n37\n \n34\n71\n\n\nPaul Hollman\n31\n \n37\n \n68\n\n\nRichard Nelms\n28\n32\n \n36\n68\n\n\nDavid Cope\n \n35\n \n32\n67\n\n\nPhil Cross\n \n27\n37\n29\n66\n\n\nStephen Briggs\n37\n \n29\n27\n66\n\n\nSteve Roberts\n \n35\n27\n31\n66\n\n\nPeter Hedges\n28\n34\n31\n30\n65\n\n\nCharles Ireland\n32\n32\n \n \n64\n\n\nDavid Mellors\n \n \n38\n25\n63\n\n\nSteven Faull\n31\n32\n31\n28\n63\n\n\nPhil Loughton\n35\n27\n \n \n62\n\n\nJim Kelly\n21\n31\n \n30\n61\n\n\nDiarmuid O’Connor\n \n30\n27\n29\n59\n\n\nMonique Lauwaert\n \n \n36\n23\n59\n\n\nDavid Steel\n26\n24\n31\n27\n58\n\n\nJake Olds\n \n33\n \n23\n56\n\n\nMalcolm Jaffa\n22\n23\n32\n22\n55\n\n\nMalgosia Hedges\n19\n21\n30\n25\n55\n\n\nAmanda Mellors\n \n \n33\n21\n54\n\n\nWilly Edwards\n23\n \n30\n \n53\n\n\nDavid Jamieson\n23\n21\n \n \n44\n\n\nZoë Woods\n \n21\n \n23\n44\n\n\nMarc Graves\n22\n \n19\n \n41\n\n\nStefan Koenan\n \n \n \n37\n37\n\n\nColin Crawshaw\n34\n \n \n \n34\n\n\nPaul Boland\n \n \n34\n \n34\n\n\nBarney Costelloe\n \n \n33\n \n33\n\n\nLiam Caplis\n \n \n33\n \n33\n\n\nJoe Caffrey\n32\n \n \n \n32\n\n\nMenno Bakker\n32\n \n \n \n32\n\n\nBryan Powell\n \n \n \n32\n32\n\n\nJane Boland\n \n \n31\n \n31\n\n\nNiall Brosnan\n \n \n31\n \n31\n\n\nSteve Kesler\n \n \n \n30\n30\n\n\nPeter Gatenby\n \n \n \n29\n29\n\n\nAndy Newcombe\n \n \n \n29\n29\n\n\nDavid Archer\n \n28\n \n \n28\n\n\nNev Dickens\n \n \n \n28\n28\n\n\nGraham Garner\n \n \n \n28\n28\n\n\nDavid Hogg\n \n \n27\n \n27\n\n\nDennis Posner\n \n27\n \n \n27\n\n\nDes McGhee\n \n \n \n27\n27\n\n\nGraham Willis\n26\n \n \n \n26\n\n\nJennifer Kesler\n \n \n \n26\n26\n\n\nPearl Powell\n \n \n \n26\n26\n\n\nAndrew Sanaghan\n \n \n25\n \n25\n\n\nChris Morris\n \n \n25\n \n25\n\n\nPeter Jones\n25\n \n \n \n25\n\n\nDerek Wybrow\n \n \n \n25\n25\n\n\nStephen Melville\n \n \n \n25\n25\n\n\nMike O’Gorman\n \n \n24\n \n24\n\n\nNorman Healey\n \n \n \n24\n24\n\n\nKen Maher\n \n \n \n24\n24\n\n\nKaren Posner\n \n23\n \n \n23\n\n\nSönke Wolf\n \n23\n \n \n23\n\n\nPaul Blackburn\n \n \n \n23\n23\n\n\nIan Woods\n \n \n \n22\n22\n\n\nDorcas Maher\n \n \n \n21\n21\n\n\nJudith Wybrow\n \n \n \n20\n20\n\n\nShuj Datoo\n14\n \n \n \n14
URL:https://golfthecosta.com/event/gtc-weekly-league-el-paraiso-golf-club-113/
LOCATION:El Paraiso Golf Club\, Urb. El Paraiso\, Ctra de Cádiz\, km 167\,\, Estepona\, Malaga\, 29680\, Spain
ATTACH;FMTTYPE=image/jpeg:https://golfthecosta.com/wp-content/uploads/2024/10/GTC-El-Paraiso-3.jpeg
ORGANIZER;CN="Golf The Costa":MAILTO:info@www.golfthecosta.com
GEO:36.476586;-5.034811
X-APPLE-STRUCTURED-LOCATION;VALUE=URI;X-ADDRESS=El Paraiso Golf Club Urb. El Paraiso Ctra de Cádiz km 167 Estepona Malaga 29680 Spain;X-APPLE-RADIUS=500;X-TITLE=Urb. El Paraiso\, Ctra de Cádiz\, km 167\,:geo:-5.034811,36.476586
END:VEVENT
END:VCALENDAR