BEGIN:VCALENDAR
VERSION:2.0
PRODID:-// - ECPv6.15.20//NONSGML v1.0//EN
CALSCALE:GREGORIAN
METHOD:PUBLISH
X-ORIGINAL-URL:https://golfthecosta.com
X-WR-CALDESC:Events for 
REFRESH-INTERVAL;VALUE=DURATION:PT1H
X-Robots-Tag:noindex
X-PUBLISHED-TTL:PT1H
BEGIN:VTIMEZONE
TZID:Europe/Madrid
BEGIN:DAYLIGHT
TZOFFSETFROM:+0100
TZOFFSETTO:+0200
TZNAME:CEST
DTSTART:20240331T010000
END:DAYLIGHT
BEGIN:STANDARD
TZOFFSETFROM:+0200
TZOFFSETTO:+0100
TZNAME:CET
DTSTART:20241027T010000
END:STANDARD
BEGIN:DAYLIGHT
TZOFFSETFROM:+0100
TZOFFSETTO:+0200
TZNAME:CEST
DTSTART:20250330T010000
END:DAYLIGHT
BEGIN:STANDARD
TZOFFSETFROM:+0200
TZOFFSETTO:+0100
TZNAME:CET
DTSTART:20251026T010000
END:STANDARD
BEGIN:DAYLIGHT
TZOFFSETFROM:+0100
TZOFFSETTO:+0200
TZNAME:CEST
DTSTART:20260329T010000
END:DAYLIGHT
BEGIN:STANDARD
TZOFFSETFROM:+0200
TZOFFSETTO:+0100
TZNAME:CET
DTSTART:20261025T010000
END:STANDARD
END:VTIMEZONE
BEGIN:VEVENT
DTSTART;TZID=Europe/Madrid:20250306T090000
DTEND;TZID=Europe/Madrid:20250306T170000
DTSTAMP:20260423T060237
CREATED:20241222T152900Z
LAST-MODIFIED:20250306T100405Z
UID:10000498-1741251600-1741280400@golfthecosta.com
SUMMARY:GTC Weekly League - El Paraiso Golf Club
DESCRIPTION:EVENT CANCELLED DUE TO WEATHER FORECAST
URL:https://golfthecosta.com/event/gtc-weekly-league-el-paraiso-golf-club-114/
LOCATION:El Paraiso Golf Club\, Urb. El Paraiso\, Ctra de Cádiz\, km 167\,\, Estepona\, Malaga\, 29680\, Spain
ATTACH;FMTTYPE=image/jpeg:https://golfthecosta.com/wp-content/uploads/2024/10/GTC-El-Paraiso-3.jpeg
ORGANIZER;CN="Golf The Costa":MAILTO:info@www.golfthecosta.com
GEO:36.476586;-5.034811
X-APPLE-STRUCTURED-LOCATION;VALUE=URI;X-ADDRESS=El Paraiso Golf Club Urb. El Paraiso Ctra de Cádiz km 167 Estepona Malaga 29680 Spain;X-APPLE-RADIUS=500;X-TITLE=Urb. El Paraiso\, Ctra de Cádiz\, km 167\,:geo:-5.034811,36.476586
END:VEVENT
BEGIN:VEVENT
DTSTART;TZID=Europe/Madrid:20250313T090000
DTEND;TZID=Europe/Madrid:20250313T170000
DTSTAMP:20260423T060237
CREATED:20250105T104630Z
LAST-MODIFIED:20250315T080720Z
UID:10000559-1741856400-1741885200@golfthecosta.com
SUMMARY:GTC Weekly League - El Higueral Golf Club
DESCRIPTION:EVENT CANCELLED DUE TO WEATHER FORECAST
URL:https://golfthecosta.com/event/gtc-weekly-league-el-higueral-golf-club-4/
LOCATION:El Higueral Golf Club\, Urbanización Capanes Norte\, Ctra. de Benahavís\, Km 3.7\, Benahavis\, Malaga\, 29679\, Spain
ATTACH;FMTTYPE=image/png:https://golfthecosta.com/wp-content/uploads/2025/01/GTC-El-Higueral-e1743755982867.png
ORGANIZER;CN="Golf The Costa":MAILTO:info@www.golfthecosta.com
GEO:36.505497;-5.0232866
X-APPLE-STRUCTURED-LOCATION;VALUE=URI;X-ADDRESS=El Higueral Golf Club Urbanización Capanes Norte Ctra. de Benahavís Km 3.7 Benahavis Malaga 29679 Spain;X-APPLE-RADIUS=500;X-TITLE=Urbanización Capanes Norte\, Ctra. de Benahavís\, Km 3.7:geo:-5.0232866,36.505497
END:VEVENT
BEGIN:VEVENT
DTSTART;TZID=Europe/Madrid:20250320T090000
DTEND;TZID=Europe/Madrid:20250320T170000
DTSTAMP:20260423T060237
CREATED:20241222T153034Z
LAST-MODIFIED:20250320T083857Z
UID:10000499-1742461200-1742490000@golfthecosta.com
SUMMARY:GTC Weekly League - El Paraiso Golf Club
DESCRIPTION:EVENT CANCELLED DUE TO COURSE BEING CLOSED FOLLOWING HEAVY RAIN DURING DURING PAST TWO WEEKS
URL:https://golfthecosta.com/event/gtc-weekly-league-el-paraiso-golf-club-115/
LOCATION:El Paraiso Golf Club\, Urb. El Paraiso\, Ctra de Cádiz\, km 167\,\, Estepona\, Malaga\, 29680\, Spain
ATTACH;FMTTYPE=image/jpeg:https://golfthecosta.com/wp-content/uploads/2024/10/GTC-El-Paraiso-3.jpeg
ORGANIZER;CN="Golf The Costa":MAILTO:info@www.golfthecosta.com
GEO:36.476586;-5.034811
X-APPLE-STRUCTURED-LOCATION;VALUE=URI;X-ADDRESS=El Paraiso Golf Club Urb. El Paraiso Ctra de Cádiz km 167 Estepona Malaga 29680 Spain;X-APPLE-RADIUS=500;X-TITLE=Urb. El Paraiso\, Ctra de Cádiz\, km 167\,:geo:-5.034811,36.476586
END:VEVENT
BEGIN:VEVENT
DTSTART;TZID=Europe/Madrid:20250327T090000
DTEND;TZID=Europe/Madrid:20250327T170000
DTSTAMP:20260423T060237
CREATED:20241222T153151Z
LAST-MODIFIED:20250329T125218Z
UID:10000500-1743066000-1743094800@golfthecosta.com
SUMMARY:GTC Weekly League - El Paraiso Golf Club
DESCRIPTION:Weekly League Table March 2025 \nCategory 1         Category 2\nWinner                 Winner\nRunner-Up        Runner-Up\n Third Place       Third place \nIf there is an insufficient number of players to split the categories\nthen prizes will be awarded for 1st\, 2nd and 3rd places and shown on\nthe table as follows:    Winner  Runner-Up   Third Place \n\n\n\n\nPlayer\n06-Mar\n13-Mar\n20-Mar\n27-Mar\nBest 2Scores\n\n\n\n\nAndy Eames\nC\nC\nC\n36\n36\n\n\nStefan Koenen\nA\nA\nA\n36\n36\n\n\nIan Barnes\nN\nN\nN\n33\n33\n\n\nSteve Kesler\nC\nC\nC\n32\n32\n\n\nSimon Jamieson\nE\nE\nE\n32\n32\n\n\nMalcolm Jaffa\nL\nL\nL\n32\n32\n\n\nPhil Loughton\nL\nL\nL\n32\n32\n\n\nMark Simmonds\nE\nE\nE\n32\n32\n\n\nCharles Ireland\nD\nD\nD\n30\n30\n\n\nSteven Faull\n \n \n \n30\n30\n\n\nVladimir Koshman\nB\nB\nB\n29\n29\n\n\nDavid Collins\nE\nE\nE\n29\n29\n\n\nNigel Rzemieniecki\nC\nC\nC\n28\n28\n\n\nPhil Cross\nA\nA\nA\n28\n28\n\n\nDave Greenwood\nU\nU\nU\n28\n28\n\n\nJan Vallys\nS\nS\nS\n27\n27\n\n\nSteve Robinson\nE\nE\nE\n27\n27\n\n\nIan Morrison\n \n \n \n27\n27\n\n\nDavid Steel\nO\nO\nO\n27\n27\n\n\nPeter Gatenby\nF\nF\nF\n26\n26\n\n\nJohn Hutton\n \n \n \n26\n26\n\n\nAlan Geary\nR\nR\nR\n25\n25\n\n\nKarsten Grah\nA\nA\nA\n24\n24\n\n\nJim Kelly\nI\nI\nI\n24\n24\n\n\nStephen. Briggs\nN\nN\nN\n23\n23\n\n\nKim Levin\n \n \n \n22\n22\n\n\nRoy Martinez\n \n \n \n22\n22\n\n\nJan Heintze\n \n \n \n21\n21\n\n\nGary Williams\n \n \n \n21\n21\n\n\nDmitrii Provotorov\n \n \n \n20\n20\n\n\nIan Hollingum\n \n \n \n19\n19\n\n\nStephen Melville\n \n \n \n17\n17\n\n\nBarbara Kay\n \n \n \n10\n10
URL:https://golfthecosta.com/event/gtc-weekly-league-el-paraiso-golf-club-116/
LOCATION:El Paraiso Golf Club\, Urb. El Paraiso\, Ctra de Cádiz\, km 167\,\, Estepona\, Malaga\, 29680\, Spain
ATTACH;FMTTYPE=image/jpeg:https://golfthecosta.com/wp-content/uploads/2024/10/GTC-El-Paraiso-3.jpeg
ORGANIZER;CN="Golf The Costa":MAILTO:info@www.golfthecosta.com
GEO:36.476586;-5.034811
X-APPLE-STRUCTURED-LOCATION;VALUE=URI;X-ADDRESS=El Paraiso Golf Club Urb. El Paraiso Ctra de Cádiz km 167 Estepona Malaga 29680 Spain;X-APPLE-RADIUS=500;X-TITLE=Urb. El Paraiso\, Ctra de Cádiz\, km 167\,:geo:-5.034811,36.476586
END:VEVENT
END:VCALENDAR