BEGIN:VCALENDAR
VERSION:2.0
PRODID:-// - ECPv6.15.20//NONSGML v1.0//EN
CALSCALE:GREGORIAN
METHOD:PUBLISH
X-ORIGINAL-URL:https://golfthecosta.com
X-WR-CALDESC:Events for 
REFRESH-INTERVAL;VALUE=DURATION:PT1H
X-Robots-Tag:noindex
X-PUBLISHED-TTL:PT1H
BEGIN:VTIMEZONE
TZID:Europe/Madrid
BEGIN:DAYLIGHT
TZOFFSETFROM:+0100
TZOFFSETTO:+0200
TZNAME:CEST
DTSTART:20240331T010000
END:DAYLIGHT
BEGIN:STANDARD
TZOFFSETFROM:+0200
TZOFFSETTO:+0100
TZNAME:CET
DTSTART:20241027T010000
END:STANDARD
BEGIN:DAYLIGHT
TZOFFSETFROM:+0100
TZOFFSETTO:+0200
TZNAME:CEST
DTSTART:20250330T010000
END:DAYLIGHT
BEGIN:STANDARD
TZOFFSETFROM:+0200
TZOFFSETTO:+0100
TZNAME:CET
DTSTART:20251026T010000
END:STANDARD
BEGIN:DAYLIGHT
TZOFFSETFROM:+0100
TZOFFSETTO:+0200
TZNAME:CEST
DTSTART:20260329T010000
END:DAYLIGHT
BEGIN:STANDARD
TZOFFSETFROM:+0200
TZOFFSETTO:+0100
TZNAME:CET
DTSTART:20261025T010000
END:STANDARD
END:VTIMEZONE
BEGIN:VEVENT
DTSTART;TZID=Europe/Madrid:20250605T100000
DTEND;TZID=Europe/Madrid:20250605T170000
DTSTAMP:20260423T012921
CREATED:20250426T105408Z
LAST-MODIFIED:20250607T143858Z
UID:10000672-1749117600-1749142800@golfthecosta.com
SUMMARY:Golf the Costa Weekly League - El Paraiso Golf Club
DESCRIPTION:Weekly League Table June 2025 \nCategory 1         Category 2\nWinner                 Winner\nRunner-Up        Runner-Up\n Third Place       Third place \nIf there is an insufficient number of players to split the categories\nthen prizes will be awarded for 1st\, 2nd and 3rd places and shown on\nthe table as follows:    Winner  Runner-Up   Third Place \n\n\n\n\nPlayer\n05-Jun\n12-Jun\n19-Jun\n26-Jun\nBest 2Scores\n\n\n\n\nJohn Dellow\n40\n \n \n \n40\n\n\nIan Osborne\n37\n \n \n \n37\n\n\nChristine Morrison\n35\n \n \n \n35\n\n\nRoy Martinez\n35\n \n \n \n35\n\n\nJim Kelly\n35\n \n \n \n35\n\n\nDavid O’Neill\n34\n \n \n \n34\n\n\nShuj Datoo\n33\n \n \n \n33\n\n\nSteve Kesler\n31\n \n \n \n31\n\n\nPaul Blackburn\n31\n \n \n \n31\n\n\nIan Morrison\n30\n \n \n \n30\n\n\nDavid Mellors\n30\n \n \n \n30\n\n\nJM Boulet\n29\n \n \n \n29\n\n\nDominic Amedola\n29\n \n \n \n29\n\n\nLyle Finlay\n28\n \n \n \n28\n\n\nPeter Gatenby\n26\n \n \n \n26\n\n\nDavid Allen\n25\n \n \n \n25\n\n\nMo Aktar\n25\n \n \n \n25\n\n\nStephen Melville\n24\n \n \n \n24\n\n\nGreg Nutkins\n23\n \n \n \n23\n\n\nBfrian Dun k\n23\n \n \n \n23\n\n\nTony Tidmarsh\n20\n \n \n \n20\n\n\nMalcolm Jaffa\n19\n \n \n \n19
URL:https://golfthecosta.com/event/golf-the-costa-weekly-leagvue-el-paraiso-golf-club/
LOCATION:El Paraiso Golf Club\, Urb. El Paraiso\, Ctra de Cádiz\, km 167\,\, Estepona\, Malaga\, 29680\, Spain
ATTACH;FMTTYPE=image/jpeg:https://golfthecosta.com/wp-content/uploads/2024/10/GTC-El-Paraiso-3.jpeg
ORGANIZER;CN="Golf The Costa":MAILTO:info@www.golfthecosta.com
GEO:36.476586;-5.034811
X-APPLE-STRUCTURED-LOCATION;VALUE=URI;X-ADDRESS=El Paraiso Golf Club Urb. El Paraiso Ctra de Cádiz km 167 Estepona Malaga 29680 Spain;X-APPLE-RADIUS=500;X-TITLE=Urb. El Paraiso\, Ctra de Cádiz\, km 167\,:geo:-5.034811,36.476586
END:VEVENT
BEGIN:VEVENT
DTSTART;TZID=Europe/Madrid:20250612T090000
DTEND;TZID=Europe/Madrid:20250612T170000
DTSTAMP:20260423T012921
CREATED:20240816T114819Z
LAST-MODIFIED:20250613T090859Z
UID:10000431-1749718800-1749747600@golfthecosta.com
SUMMARY:GTC Weekly League - El Higueral Golf Club
DESCRIPTION:Weekly League Table June 2025 \nCategory 1         Category 2\nWinner                 Winner\nRunner-Up        Runner-Up\n Third Place       Third place \nIf there is an insufficient number of players to split the categories\nthen prizes will be awarded for 1st\, 2nd and 3rd places and shown on\nthe table as follows:    Winner  Runner-Up   Third Place \n\n\n\n\nPlayer\n05-Jun\n12-Jun\n19-Jun\n26-Jun\nBest 2Scores\n\n\n\n\nChristine Morrison\n35\n38\n \n \n73\n\n\nJim Kelly\n35\n33\n \n \n68\n\n\nJohn Dellow\n40\n28\n \n \n68\n\n\nShuj Datoo\n33\n29\n \n \n62\n\n\nIan Morrison\n30\n29\n \n \n59\n\n\nMalcolm Jaffa\n19\n36\n \n \n55\n\n\nGreg Nutkins\n23\n28\n \n \n51\n\n\nTony Tidmarsh\n20\n25\n \n \n45\n\n\nZoé Woods\n \n45\n \n \n45\n\n\nLiam Caplis\n \n42\n \n \n42\n\n\nMonique Lauwaert\n \n41\n \n \n41\n\n\nJohn Hutton\n \n39\n \n \n39\n\n\nIan Osborne\n37\n \n \n \n37\n\n\nDes McGhee\n \n37\n \n \n37\n\n\nDave Pitt\n \n36\n \n \n36\n\n\nRoy Martinez\n35\n \n \n \n35\n\n\nDavid O’Neill\n34\n \n \n \n34\n\n\nPaul Blackburn\n31\n \n \n \n31\n\n\nSteve Kesler\n31\n \n \n \n31\n\n\nDavid Mellors\n30\n \n \n \n30\n\n\nStuart Woore\n \n30\n \n \n30\n\n\nDominic Amedola\n29\n \n \n \n29\n\n\nJM Boulet\n29\n \n \n \n29\n\n\nSimon Wellstead\n \n29\n \n \n29\n\n\nBob Grierson\n \n29\n \n \n29\n\n\nLyle Finlay\n28\n \n \n \n28\n\n\nRonald Dorlas\n \n27\n \n \n27\n\n\nBrian Binstock\n \n27\n \n \n27\n\n\nNick Shaikh\n \n27\n \n \n27\n\n\nPeter Gatenby\n26\n \n \n \n26\n\n\nDavid Allen\n25\n \n \n \n25\n\n\nMo Aktar\n25\n \n \n \n25\n\n\nStephen Melville\n24\n \n \n \n24\n\n\nMark Bruce\n \n24\n \n \n24\n\n\nBrian Dunk\n23\n \n \n \n23\n\n\nNorman Healey\n \n23\n \n \n23
URL:https://golfthecosta.com/event/gtc-weekly-league-el-higueral-golf-club-3/
LOCATION:El Higueral Golf Club\, Urbanización Capanes Norte\, Ctra. de Benahavís\, Km 3.7\, Benahavis\, Malaga\, 29679\, Spain
ATTACH;FMTTYPE=image/jpeg:https://golfthecosta.com/wp-content/uploads/2021/03/GTC-Logo-white-background-2-e1620397932376.jpg
ORGANIZER;CN="Golf The Costa":MAILTO:info@www.golfthecosta.com
GEO:36.505497;-5.0232866
X-APPLE-STRUCTURED-LOCATION;VALUE=URI;X-ADDRESS=El Higueral Golf Club Urbanización Capanes Norte Ctra. de Benahavís Km 3.7 Benahavis Malaga 29679 Spain;X-APPLE-RADIUS=500;X-TITLE=Urbanización Capanes Norte\, Ctra. de Benahavís\, Km 3.7:geo:-5.0232866,36.505497
END:VEVENT
BEGIN:VEVENT
DTSTART;TZID=Europe/Madrid:20250619T080000
DTEND;TZID=Europe/Madrid:20250619T170000
DTSTAMP:20260423T012921
CREATED:20240818T115304Z
LAST-MODIFIED:20250620T100811Z
UID:10000438-1750320000-1750352400@golfthecosta.com
SUMMARY:GTC Weekly League - Santana Golf Club
DESCRIPTION:Weekly League Table June 2025 \nCategory 1         Category 2\nWinner                 Winner\nRunner-Up        Runner-Up\n Third Place       Third place \nIf there is an insufficient number of players to split the categories\nthen prizes will be awarded for 1st\, 2nd and 3rd places and shown on\nthe table as follows:    Winner  Runner-Up   Third Place \n\n\n\n\nPlayer\n05-Jun\n12-Jun\n19-Jun\n26-Jun\nBest 2Scores\n\n\n\n\nZoë Woods\n \n45\n42\n \n87\n\n\nJohn Dellow\n40\n28\n36\n \n76\n\n\nDes McGhee\n \n37\n38\n \n75\n\n\nChristine Morrison\n35\n38\n \n \n73\n\n\nJohn Hutton\n \n39\n33\n \n72\n\n\nJim Kelly\n35\n33\n \n \n68\n\n\nSimon Wellstead\n \n29\n36\n \n65\n\n\nJM Boulet\n29\n \n35\n \n64\n\n\nMalcolm Jaffa\n19\n36\n28\n \n64\n\n\nShuj Datoo\n33\n29\n31\n \n64\n\n\nBob Grierson\n \n29\n31\n \n60\n\n\nGreg Nutkins\n23\n28\n32\n \n60\n\n\nIan Morrison\n30\n29\n \n \n59\n\n\nStephen Melville\n24\n \n32\n \n56\n\n\nRonald Dorlas\n \n27\n28\n \n55\n\n\nNorman Healey\n \n23\n28\n \n51\n\n\nTony Tidmarsh\n20\n25\n \n \n45\n\n\nEllen Bakker\n \n \n45\n \n45\n\n\nLiam Caplis\n \n42\n \n \n42\n\n\nMonique Lauwaert\n \n41\n \n \n41\n\n\nNeil Poulton\n \n \n41\n \n41\n\n\nPhil Loughton\n \n \n40\n \n40\n\n\nIan Osborne\n37\n \n \n \n37\n\n\nPeter Rees\n \n \n37\n \n37\n\n\nDave Pitt\n \n36\n \n \n36\n\n\nRoy Martinez\n35\n \n \n \n35\n\n\nDave Collins\n \n \n35\n \n35\n\n\nSimon Jamieson\n \n \n35\n \n35\n\n\nKevin Morris\n \n \n35\n \n35\n\n\nDavid O’Neill\n34\n \n \n \n34\n\n\nPeter Jones\n \n \n34\n \n34\n\n\nMenno Bakker\n \n \n33\n \n33\n\n\nChrles Ireland\n \n \n32\n \n32\n\n\nAlasdair MacLean\n \n \n32\n \n32\n\n\nPaul Blackburn\n31\n \n \n \n31\n\n\nSteve Kesler\n31\n \n \n \n31\n\n\nMichela Miles\n \n \n31\n \n31\n\n\nDavid Mellors\n30\n \n \n \n30\n\n\nStuart Woore\n \n30\n \n \n30\n\n\nDominic Amedola\n29\n \n \n \n29\n\n\nLyle Finlay\n28\n \n \n \n28\n\n\nBrian Binstock\n \n27\n \n \n27\n\n\nNick Shaikh\n \n27\n \n \n27\n\n\nPeter Gatenby\n26\n \n \n \n26\n\n\nDavid Allen\n25\n \n \n \n25\n\n\nMo Aktar\n25\n \n \n \n25\n\n\nMark Bruce\n \n24\n \n \n24\n\n\nBrian Dunk\n23\n \n \n \n23
URL:https://golfthecosta.com/event/gtc-weekly-league-santana-golf-club-8/
LOCATION:Santana Golf Club\, Address Postal Address Santana Golf Carretera La Cala-Entrerríos\, s/n "Valle del Golf de Mijas"\, Mijas Costa\, Malaga\, 29649\, Spain
ATTACH;FMTTYPE=image/jpeg:https://golfthecosta.com/wp-content/uploads/2021/03/GTC-Logo-white-background-2-e1620397932376.jpg
ORGANIZER;CN="Golf The Costa":MAILTO:info@www.golfthecosta.com
GEO:36.545168;-4.693061
X-APPLE-STRUCTURED-LOCATION;VALUE=URI;X-ADDRESS=Santana Golf Club Address Postal Address Santana Golf Carretera La Cala-Entrerríos s/n "Valle del Golf de Mijas" Mijas Costa Malaga 29649 Spain;X-APPLE-RADIUS=500;X-TITLE=Address Postal Address Santana Golf Carretera La Cala-Entrerríos\, s/n "Valle del Golf de Mijas":geo:-4.693061,36.545168
END:VEVENT
BEGIN:VEVENT
DTSTART;TZID=Europe/Madrid:20250626T090000
DTEND;TZID=Europe/Madrid:20250626T170000
DTSTAMP:20260423T012921
CREATED:20250426T105543Z
LAST-MODIFIED:20250926T125010Z
UID:10000673-1750928400-1750957200@golfthecosta.com
SUMMARY:Golf the Costa Weekly League - El Paraisao Golf Club
DESCRIPTION:Weekly League Table June 2025 \nCategory 1         Category 2\nWinner                 Winner\nRunner-Up        Runner-Up\n Third Place       Third place \nIf there is an insufficient number of players to split the categories\nthen prizes will be awarded for 1st\, 2nd and 3rd places and shown on\nthe table as follows:    Winner  Runner-Up   Third Place \nThe winners of the monthly league prizes are shown as follows:\nCategory 1    Category 2 \n\n\n\n\nPlayer\n05-Jun\n12-Jun\n19-Jun\n26-Jun\nBest 2Scores\n\n\n\n\nZoë Woods\n \n45\n42\n24\n87\n\n\nJohn Dellow\n40\n28\n36\n26\n76\n\n\nDes McGhee\n \n37\n38\n \n75\n\n\nEllen Bakker\n \n \n45\n29\n74\n\n\nChristine Morrison\n35\n38\n \n \n73\n\n\nJohn Hutton\n \n39\n33\n \n72\n\n\nPhil Loughton\n \n \n40\n32\n72\n\n\nShuj Datoo\n33\n29\n31\n36\n69\n\n\nDave Pitt\n \n36\n \n32\n68\n\n\nJim Kelly\n35\n33\n \n \n68\n\n\nSteve Kesler\n31\n \n \n35\n66\n\n\nSimon Wellstead\n \n29\n36\n \n65\n\n\nDave Collins\n \n \n35\n29\n64\n\n\nJM Boulet\n29\n \n35\n \n64\n\n\nMalcolm Jaffa\n19\n36\n28\n26\n64\n\n\nMenno Bakker\n \n \n33\n29\n62\n\n\nStuart Woore\n \n30\n \n32\n62\n\n\nBob Grierson\n \n29\n31\n \n60\n\n\nGreg Nutkins\n23\n28\n32\n \n60\n\n\nIan Morrison\n30\n29\n \n \n59\n\n\nRonald Dorlas\n \n27\n28\n29\n57\n\n\nStephen Melville\n24\n \n32\n \n56\n\n\nPeter Gatenby\n26\n \n \n28\n54\n\n\nNorman Healey\n \n23\n28\n \n51\n\n\nBrian Binstock\n \n27\n \n22\n49\n\n\nTony Tidmarsh\n20\n25\n \n24\n49\n\n\nLiam Caplis\n \n42\n \n \n42\n\n\nMonique Lauwaert\n \n41\n \n \n41\n\n\nNeil Poulton\n \n \n41\n \n41\n\n\nGary Duffy\n \n \n \n38\n38\n\n\nIan Osborne\n37\n \n \n \n37\n\n\nPeter Rees\n \n \n37\n \n37\n\n\nKevin Morris\n \n \n35\n \n35\n\n\nRoy Martinez\n35\n \n \n \n35\n\n\nSimon Jamieson\n \n \n35\n \n35\n\n\nDavid O’Neill\n34\n \n \n \n34\n\n\nPeter Jones\n \n \n34\n \n34\n\n\nChris O’Brien\n \n \n \n33\n33\n\n\nAlasdair MacLean\n \n \n32\n \n32\n\n\nChrles Ireland\n \n \n32\n \n32\n\n\nDavid Steel\n \n \n \n32\n32\n\n\nEric Mcintyre\n \n \n \n32\n32\n\n\nMichela Miles\n \n \n31\n \n31\n\n\nPaul Blackburn\n31\n \n \n \n31\n\n\nDavid Mellors\n30\n \n \n \n30\n\n\nDominic Amedola\n29\n \n \n \n29\n\n\nLyle Finlay\n28\n \n \n \n28\n\n\nWilly Edwards\n \n \n \n28\n28\n\n\nSteven Faull\n \n \n \n28\n28\n\n\nNick Shaikh\n \n27\n \n \n27\n\n\nDavid Allen\n25\n \n \n \n25\n\n\nMo Aktar\n25\n \n \n \n25\n\n\nFrank Blin\n \n \n \n25\n25\n\n\nMark Bruce\n \n24\n \n \n24\n\n\nBrian Dunk\n23\n \n \n \n23\n\n\nGary Williams\n \n \n \n22\n22
URL:https://golfthecosta.com/event/golf-the-costa-weekly-league-el-paraisao-golf-club/
LOCATION:El Paraiso Golf Club\, Urb. El Paraiso\, Ctra de Cádiz\, km 167\,\, Estepona\, Malaga\, 29680\, Spain
ATTACH;FMTTYPE=image/jpeg:https://golfthecosta.com/wp-content/uploads/2024/10/GTC-El-Paraiso-3.jpeg
ORGANIZER;CN="Golf The Costa":MAILTO:info@www.golfthecosta.com
GEO:36.476586;-5.034811
X-APPLE-STRUCTURED-LOCATION;VALUE=URI;X-ADDRESS=El Paraiso Golf Club Urb. El Paraiso Ctra de Cádiz km 167 Estepona Malaga 29680 Spain;X-APPLE-RADIUS=500;X-TITLE=Urb. El Paraiso\, Ctra de Cádiz\, km 167\,:geo:-5.034811,36.476586
END:VEVENT
END:VCALENDAR