BEGIN:VCALENDAR
VERSION:2.0
PRODID:-// - ECPv6.15.20//NONSGML v1.0//EN
CALSCALE:GREGORIAN
METHOD:PUBLISH
X-ORIGINAL-URL:https://golfthecosta.com
X-WR-CALDESC:Events for 
REFRESH-INTERVAL;VALUE=DURATION:PT1H
X-Robots-Tag:noindex
X-PUBLISHED-TTL:PT1H
BEGIN:VTIMEZONE
TZID:Europe/Madrid
BEGIN:DAYLIGHT
TZOFFSETFROM:+0100
TZOFFSETTO:+0200
TZNAME:CEST
DTSTART:20240331T010000
END:DAYLIGHT
BEGIN:STANDARD
TZOFFSETFROM:+0200
TZOFFSETTO:+0100
TZNAME:CET
DTSTART:20241027T010000
END:STANDARD
BEGIN:DAYLIGHT
TZOFFSETFROM:+0100
TZOFFSETTO:+0200
TZNAME:CEST
DTSTART:20250330T010000
END:DAYLIGHT
BEGIN:STANDARD
TZOFFSETFROM:+0200
TZOFFSETTO:+0100
TZNAME:CET
DTSTART:20251026T010000
END:STANDARD
BEGIN:DAYLIGHT
TZOFFSETFROM:+0100
TZOFFSETTO:+0200
TZNAME:CEST
DTSTART:20260329T010000
END:DAYLIGHT
BEGIN:STANDARD
TZOFFSETFROM:+0200
TZOFFSETTO:+0100
TZNAME:CET
DTSTART:20261025T010000
END:STANDARD
END:VTIMEZONE
BEGIN:VEVENT
DTSTART;TZID=Europe/Madrid:20250904T090000
DTEND;TZID=Europe/Madrid:20250904T170000
DTSTAMP:20260422T203620
CREATED:20240816T115935Z
LAST-MODIFIED:20250905T114157Z
UID:10000432-1756976400-1757005200@golfthecosta.com
SUMMARY:GTC Weekly League - La Cala Golf Club
DESCRIPTION:Weekly League Table September 2025 \nCategory 1         Category 2\nWinner                 Winner\nRunner-Up        Runner-Up\n Third Place       Third place \nIf there is an insufficient number of players to split the categories\nthen prizes will be awarded for 1st\, 2nd and 3rd places and shown on\nthe table as follows:    Winner  Runner-Up   Third Place \n\n\n\n\nPlayer\n04-Sep\n11-Sep\n18-Sep\n25-Sep\nBest 2Scores\n\n\n\n\nDave Pitt\n35\n \n \n \n35\n\n\nPeter Hedges\n33\n \n \n \n33\n\n\nPeter Jones\n31\n \n \n \n31\n\n\nDavid Steel\n31\n \n \n \n31\n\n\nMark Clarke\n31\n \n \n \n31\n\n\nWilly Edwards\n31\n \n \n \n31\n\n\nMalcolm Jaffa\n30\n \n \n \n30\n\n\nJM Boulet\n29\n \n \n \n29\n\n\nShuj Datoo\n28\n \n \n \n28\n\n\nDavid O’Neill\n26\n \n \n \n26\n\n\nMonique Lauwaert\n26\n \n \n \n26\n\n\nGary Grant\n24\n \n \n \n24\n\n\nPhil Loughton\n24\n \n \n \n24\n\n\nDavid Archer\n22\n \n \n \n22\n\n\nSeán Lennon\n16\n \n \n \n16\n\n\nMark Bruce\n11\n \n \n \n11
URL:https://golfthecosta.com/event/gtcweekly-league-la-cala-golf-club/
LOCATION:La Cala Golf Resort\, Urb. La Cala Golf\, Mijas Costa\, Málaga\, 29649\, Spain
ATTACH;FMTTYPE=image/jpeg:https://golfthecosta.com/wp-content/uploads/2021/03/GTC-Logo-white-background-2-e1620397932376.jpg
ORGANIZER;CN="Golf The Costa":MAILTO:info@www.golfthecosta.com
GEO:36.541822;-4.722268
X-APPLE-STRUCTURED-LOCATION;VALUE=URI;X-ADDRESS=La Cala Golf Resort Urb. La Cala Golf Mijas Costa Málaga 29649 Spain;X-APPLE-RADIUS=500;X-TITLE=Urb. La Cala Golf:geo:-4.722268,36.541822
END:VEVENT
BEGIN:VEVENT
DTSTART;TZID=Europe/Madrid:20250911T090000
DTEND;TZID=Europe/Madrid:20250911T170000
DTSTAMP:20260422T203620
CREATED:20250719T113229Z
LAST-MODIFIED:20251011T131441Z
UID:10000679-1757581200-1757610000@golfthecosta.com
SUMMARY:GTC Weekly League - El Paraiso Golf Club
DESCRIPTION:Weekly League Table September 2025 \nCategory 1         Category 2\nWinner                 Winner\nRunner-Up        Runner-Up\n Third Place       Third place \nIf there is an insufficient number of players to split the categories\nthen prizes will be awarded for 1st\, 2nd and 3rd places and shown on\nthe table as follows:    Winner  Runner-Up   Third Place \n\n\n\n\nPlayer\n04-Sep\n11-Sep\n18-Sep\n25-Sep\nBest 2Scores\n\n\n\n\nPeter Hedges\n33\n30\n \n \n63\n\n\nMalcolm Jaffa\n30\n32\n \n \n62\n\n\nDavid Steel\n31\n29\n \n \n60\n\n\nShuj Datoo\n28\n27\n \n \n55\n\n\nWilly Edwards\n31\n23\n \n \n54\n\n\nGary Grant\n24\n24\n \n \n48\n\n\nSeán Lennon\n16\n31\n \n \n47\n\n\nPaul Lande\n \n38\n \n \n38\n\n\nBob Grierson\n \n38\n \n \n38\n\n\nJurgen Kratzat\n \n37\n \n \n37\n\n\nDave Pitt\n35\n \n \n \n35\n\n\nPeter Gatenby\n \n35\n \n \n35\n\n\nStephen Katz\n \n33\n \n \n33\n\n\nNorman Healey\n \n33\n \n \n33\n\n\nGreg Nutkins\n \n32\n \n \n32\n\n\nStephen Melville\n \n32\n \n \n32\n\n\nCatherine Smith\n \n32\n \n \n32\n\n\nRonald Dorlas\n \n32\n \n \n32\n\n\nMark Clarke\n31\n \n \n \n31\n\n\nPeter Jones\n31\n \n \n \n31\n \n\nLyndon Bent\n \n30\n \n \n30\n\n\nJM Boulet\n29\n \n \n \n29\n\n\nChris Peacock\n \n27\n \n \n27\n\n\nDebbie Bent\n \n27\n \n \n27\n\n\nDavid O’Neill\n26\n \n \n \n26\n\n\nMonique Lauwaert\n26\n \n \n \n26\n\n\nMalgosia Hedges\n \n26\n \n \n26\n\n\nBrian Binstock\n \n25\n \n \n25\n\n\nBriggette Kratzat\n \n25\n \n \n25\n\n\nSue Brown\n \n25\n \n \n25\n\n\nBarbara Kay\n \n25\n \n \n25\n\n\nPhil Loughton\n24\n \n \n \n24\n\n\nDavid Archer\n22\n \n \n \n22\n\n\nSimon Levy\n \n22\n \n \n22\n\n\nStuart Clay\n \n21\n \n \n21\n\n\nZoë Woods\n \n18\n \n \n18\n\n\nMark Bruce\n11\n \n \n \n11
URL:https://golfthecosta.com/event/gtc-weekly-league-el-paraiso-golf-club-132/
LOCATION:El Paraiso Golf Club\, Urb. El Paraiso\, Ctra de Cádiz\, km 167\,\, Estepona\, Malaga\, 29680\, Spain
ATTACH;FMTTYPE=image/jpeg:https://golfthecosta.com/wp-content/uploads/2024/10/GTC-El-Paraiso-3.jpeg
ORGANIZER;CN="Golf The Costa":MAILTO:info@www.golfthecosta.com
GEO:36.476586;-5.034811
X-APPLE-STRUCTURED-LOCATION;VALUE=URI;X-ADDRESS=El Paraiso Golf Club Urb. El Paraiso Ctra de Cádiz km 167 Estepona Malaga 29680 Spain;X-APPLE-RADIUS=500;X-TITLE=Urb. El Paraiso\, Ctra de Cádiz\, km 167\,:geo:-5.034811,36.476586
END:VEVENT
BEGIN:VEVENT
DTSTART;TZID=Europe/Madrid:20250918T100000
DTEND;TZID=Europe/Madrid:20250918T170000
DTSTAMP:20260422T203620
CREATED:20250719T113347Z
LAST-MODIFIED:20251011T131544Z
UID:10000680-1758189600-1758214800@golfthecosta.com
SUMMARY:GTC Weekly League - El Paraiso Golf Club
DESCRIPTION:Weekly League Table September 2025 \nCategory 1         Category 2\nWinner                 Winner\nRunner-Up        Runner-Up\n Third Place       Third place \nIf there is an insufficient number of players to split the categories\nthen prizes will be awarded for 1st\, 2nd and 3rd places and shown on\nthe table as follows:    Winner  Runner-Up   Third Place \n\n\n\n\nPlayer\n04-Sep\n11-Sep\n18-Sep\n25-Sep\nBest 2Scores\n\n\n\n\nBob Grierson\n \n38\n33\n \n71\n\n\nPeter Hedges\n33\n30\n34\n \n67\n\n\nStephen Katz\n \n33\n31\n \n64\n\n\nMalcolm Jaffa\n30\n32\n27\n \n62\n\n\nNorman Healey\n \n33\n29\n \n62\n\n\nDavid Steel\n31\n29\n \n \n60\n\n\nPeter Gatenby\n \n35\n24\n \n59\n\n\nSeán Lennon\n16\n31\n28\n \n59\n\n\nStephen Melville\n \n32\n27\n \n59\n\n\nGreg Nutkins\n \n32\n24\n \n56\n\n\nMalgosia Hedges\n \n26\n30\n \n56\n\n\nBrian Binstock\n \n25\n30\n \n55\n\n\nChris Peacock\n \n27\n28\n \n55\n\n\nShuj Datoo\n28\n27\n \n \n55\n\n\nWilly Edwards\n31\n23\n \n \n54\n\n\nJM Boulet\n29\n \n24\n \n53\n\n\nPhil Loughton\n24\n \n26\n \n50\n\n\nStuart Clay\n \n21\n29\n \n50\n\n\nGary Grant\n24\n24\n \n \n48\n\n\nPaul Lande\n \n38\n \n \n38\n\n\nJurgen Kratzat\n \n37\n \n \n37\n\n\nSteven Faull\n \n \n37\n \n37\n\n\nKevin Morris\n \n \n36\n \n36\n\n\nDave Pitt\n35\n \n \n \n35\n\n\nCatherine Smith\n \n32\n \n \n32\n\n\nRonald Dorlas\n \n32\n \n \n32\n\n\nMark Clarke\n31\n \n \n \n31\n\n\nPeter Jones\n31\n \n \n \n31\n\n\nDes McGhee\n \n \n31\n \n31\n\n\nNeil Poulton\n \n \n31\n \n31\n\n\nLyndon Bent\n \n30\n \n \n30\n\n\nChris Gillet\n \n \n30\n \n30\n\n\nDerek Dillon\n \n \n28\n \n28\n\n\nIan Burns\n \n \n28\n \n28\n\n\nDebbie Bent\n \n27\n \n \n27\n\n\nDavid O’Neill\n26\n \n \n \n26\n\n\nMonique Lauwaert\n26\n \n \n \n26\n\n\nBarbara Kay\n \n25\n \n \n25\n\n\nBriggette Kratzat\n \n25\n \n \n25\n\n\nSue Brown\n \n25\n \n \n25\n\n\nStuart Woore\n \n \n25\n \n25\n\n\nStephen Brown\n \n \n25\n \n25\n\n\nDavid Archer\n22\n \n \n \n22\n\n\nSimon Levy\n \n22\n \n \n22\n\n\nZoë Woods\n \n18\n \n \n18\n\n\nTony Seaman\n \n \n18\n \n18\n\n\nMark Bruce\n11\n \n \n \n11
URL:https://golfthecosta.com/event/gtc-wekly-league-el-paraiso-golf-club/
LOCATION:El Paraiso Golf Club\, Urb. El Paraiso\, Ctra de Cádiz\, km 167\,\, Estepona\, Malaga\, 29680\, Spain
ATTACH;FMTTYPE=image/jpeg:https://golfthecosta.com/wp-content/uploads/2024/10/GTC-El-Paraiso-3.jpeg
ORGANIZER;CN="Golf The Costa":MAILTO:info@www.golfthecosta.com
GEO:36.476586;-5.034811
X-APPLE-STRUCTURED-LOCATION;VALUE=URI;X-ADDRESS=El Paraiso Golf Club Urb. El Paraiso Ctra de Cádiz km 167 Estepona Malaga 29680 Spain;X-APPLE-RADIUS=500;X-TITLE=Urb. El Paraiso\, Ctra de Cádiz\, km 167\,:geo:-5.034811,36.476586
END:VEVENT
BEGIN:VEVENT
DTSTART;TZID=Europe/Madrid:20250925T080000
DTEND;TZID=Europe/Madrid:20250925T170000
DTSTAMP:20260422T203620
CREATED:20250719T113450Z
LAST-MODIFIED:20251128T154431Z
UID:10000681-1758787200-1758819600@golfthecosta.com
SUMMARY:GTC Weekly League - El Paraiso Golf Club
DESCRIPTION:Weekly League Table September 2025 \nCategory 1         Category 2\nWinner                 Winner\nRunner-Up        Runner-Up\n Third Place       Third place \nIf there is an insufficient number of players to split the categories\nthen prizes will be awarded for 1st\, 2nd and 3rd places and shown on\nthe table as follows:    Winner  Runner-Up   Third Place \nThe winners of the monthly league prizes are shown as follows:\nCategory 1    Category 2 \n\n\n\n\nPlayer\n04-Sep\n11-Sep\n18-Sep\n25-Sep\nBest 2Scores\n\n\n\n\nBob Grierson\n \n38\n33\n \n71\n\n\nKevin Morris\n \n \n36\n35\n71\n\n\nPeter Hedges\n33\n30\n34\n36\n70\n\n\nSteven Faull\n \n \n37\n31\n68\n\n\nMalcolm Jaffa\n30\n32\n27\n35\n67\n\n\nPeter Gatenby\n \n35\n24\n32\n67\n\n\nStephen Katz\n \n33\n31\n32\n65\n\n\nStuart Clay\n \n21\n29\n35\n64\n\n\nNorman Healey\n \n33\n29\n30\n63\n\n\nDavid Steel\n31\n29\n \n \n60\n\n\nSeán Lennon\n16\n31\n28\n26\n59\n\n\nShuj Datoo\n28\n27\n \n31\n59\n\n\nStephen Melville\n \n32\n27\n26\n59\n\n\nWilly Edwards\n31\n23\n \n26\n57\n\n\nGreg Nutkins\n \n32\n24\n \n56\n\n\nMalgosia Hedges\n \n26\n30\n23\n56\n\n\nBrian Binstock\n \n25\n30\n \n55\n\n\nChris Peacock\n \n27\n28\n \n55\n\n\nJM Boulet\n29\n \n24\n23\n53\n\n\nMonique Lauwaert\n26\n \n \n26\n52\n\n\nPhil Loughton\n24\n \n26\n \n50\n\n\nStuart Woore\n \n \n25\n24\n49\n\n\nGary Grant\n24\n24\n \n \n48\n\n\nStefan Koenen\n \n \n \n39\n39\n\n\nPaul Lande\n \n38\n \n \n38\n\n\nJurgen Kratzat\n \n37\n \n \n37\n\n\nPhil Cross\n \n \n \n37\n37\n\n\nDave Pitt\n35\n \n \n \n35\n\n\nPeter Tomlinson\n \n \n \n34\n34\n\n\nSimon Kirby\n \n \n \n33\n33\n\n\nCatherine Smith\n \n32\n \n \n32\n\n\nRonald Dorlas\n \n32\n \n \n32\n\n\nDes McGhee\n \n \n31\n \n31\n\n\nMark Clarke\n31\n \n \n \n31\n\n\nNeil Poulton\n \n \n31\n \n31\n\n\nPeter Jones\n31\n \n \n \n31\n\n\nAndy Eames\n \n \n \n31\n31\n\n\nAndy Westmoreland\n \n \n \n31\n31\n\n\nChris Gillet\n \n \n30\n \n30\n\n\nLyndon Bent\n \n30\n \n \n30\n\n\nJohn Hutton\n \n \n \n30\n30\n\n\nGarry Crossland\n \n \n \n29\n29\n\n\nDerek Dillon\n \n \n28\n \n28\n\n\nIan Burns\n \n \n28\n \n28\n\n\nDebbie Bent\n \n27\n \n \n27\n\n\nTommy Pederson\n \n \n \n27\n27\n\n\nDavid O’Neill\n26\n \n \n \n26\n\n\nChis Rogers\n \n \n \n26\n26\n\n\nLyle Finlay\n \n \n \n26\n26\n\n\nBarbara Kay\n \n25\n \n \n25\n\n\nBriggette Kratzat\n \n25\n \n \n25\n\n\nStephen Brown\n \n \n25\n \n25\n\n\nSue Brown\n \n25\n \n \n25\n\n\nDavid Archer\n22\n \n \n \n22\n\n\nSimon Levy\n \n22\n \n \n22\n\n\nIan Hollingum\n \n \n \n22\n22\n\n\nTony Seaman\n \n \n18\n \n18\n\n\nZoë Woods\n \n18\n \n \n18\n\n\nBrian Dunk\n \n \n \n16\n16\n\n\nMark Bruce\n11\n \n \n \n11
URL:https://golfthecosta.com/event/gtc-weekly-league-el-paraiso-golf-club-133/
LOCATION:El Paraiso Golf Club\, Urb. El Paraiso\, Ctra de Cádiz\, km 167\,\, Estepona\, Malaga\, 29680\, Spain
ATTACH;FMTTYPE=image/jpeg:https://golfthecosta.com/wp-content/uploads/2024/10/GTC-El-Paraiso-3.jpeg
ORGANIZER;CN="Golf The Costa":MAILTO:info@www.golfthecosta.com
GEO:36.476586;-5.034811
X-APPLE-STRUCTURED-LOCATION;VALUE=URI;X-ADDRESS=El Paraiso Golf Club Urb. El Paraiso Ctra de Cádiz km 167 Estepona Malaga 29680 Spain;X-APPLE-RADIUS=500;X-TITLE=Urb. El Paraiso\, Ctra de Cádiz\, km 167\,:geo:-5.034811,36.476586
END:VEVENT
END:VCALENDAR