BEGIN:VCALENDAR
VERSION:2.0
PRODID:-// - ECPv6.15.20//NONSGML v1.0//EN
CALSCALE:GREGORIAN
METHOD:PUBLISH
X-ORIGINAL-URL:https://golfthecosta.com
X-WR-CALDESC:Events for 
REFRESH-INTERVAL;VALUE=DURATION:PT1H
X-Robots-Tag:noindex
X-PUBLISHED-TTL:PT1H
BEGIN:VTIMEZONE
TZID:Europe/Madrid
BEGIN:DAYLIGHT
TZOFFSETFROM:+0100
TZOFFSETTO:+0200
TZNAME:CEST
DTSTART:20240331T010000
END:DAYLIGHT
BEGIN:STANDARD
TZOFFSETFROM:+0200
TZOFFSETTO:+0100
TZNAME:CET
DTSTART:20241027T010000
END:STANDARD
BEGIN:DAYLIGHT
TZOFFSETFROM:+0100
TZOFFSETTO:+0200
TZNAME:CEST
DTSTART:20250330T010000
END:DAYLIGHT
BEGIN:STANDARD
TZOFFSETFROM:+0200
TZOFFSETTO:+0100
TZNAME:CET
DTSTART:20251026T010000
END:STANDARD
BEGIN:DAYLIGHT
TZOFFSETFROM:+0100
TZOFFSETTO:+0200
TZNAME:CEST
DTSTART:20260329T010000
END:DAYLIGHT
BEGIN:STANDARD
TZOFFSETFROM:+0200
TZOFFSETTO:+0100
TZNAME:CET
DTSTART:20261025T010000
END:STANDARD
END:VTIMEZONE
BEGIN:VEVENT
DTSTART;TZID=Europe/Madrid:20251002T090000
DTEND;TZID=Europe/Madrid:20251002T170000
DTSTAMP:20260422T191454
CREATED:20240816T152137Z
LAST-MODIFIED:20251011T131746Z
UID:10000433-1759395600-1759424400@golfthecosta.com
SUMMARY:GTC Weekly League - La Cala Golf Club
DESCRIPTION:Weekly League Table October 2025 \nCategory 1         Category 2\nWinner                 Winner\nRunner-Up        Runner-Up\n Third Place       Third place \nIf there is an insufficient number of players to split the categories\nthen prizes will be awarded for 1st\, 2nd and 3rd places and shown on\nthe table as follows:    Winner  Runner-Up   Third Place \n\n\n\n\nPlayer\n02-Oct\n09-Oct\n16-Oct\n23-Oct\n30-Oct\nBest 2Scores\n\n\n\n\nStefan Koenen\n38\n \n \n \n \n38\n\n\nPeter Rees\n35\n \n \n \n \n35\n\n\nMichael Ryan\n33\n \n \n \n \n33\n\n\nJuduth Wybrow\n33\n \n \n \n \n33\n\n\nDavid Mellors\n33\n \n \n \n \n33\n\n\nTony Harrison\n32\n \n \n \n \n32\n\n\nJim O’Shea\n31\n \n \n \n \n31\n\n\nDerek Wybrow\n29\n \n \n \n \n29\n\n\nSturt Woore\n29\n \n \n \n \n29\n\n\nAmanda Mellors\n28\n \n \n \n \n28\n\n\nPeter Achten\n26\n \n \n \n \n26\n\n\nGlen Milburn\n26\n \n \n \n \n26\n\n\nJM Boulet\n26\n \n \n \n \n26\n\n\nDiarmuid O’Connor\n26\n \n \n \n \n26\n\n\nShuj Datoo\n21\n \n \n \n \n21\n\n\nDenis Flynn\n18\n \n \n \n \n18
URL:https://golfthecosta.com/event/gtc-weekly-league-la-cala-golf-club-2/
LOCATION:La Cala Golf Resort\, Urb. La Cala Golf\, Mijas Costa\, Málaga\, 29649\, Spain
ATTACH;FMTTYPE=image/jpeg:https://golfthecosta.com/wp-content/uploads/2021/03/GTC-Logo-white-background-2-e1620397932376.jpg
ORGANIZER;CN="Golf The Costa":MAILTO:info@www.golfthecosta.com
GEO:36.541822;-4.722268
X-APPLE-STRUCTURED-LOCATION;VALUE=URI;X-ADDRESS=La Cala Golf Resort Urb. La Cala Golf Mijas Costa Málaga 29649 Spain;X-APPLE-RADIUS=500;X-TITLE=Urb. La Cala Golf:geo:-4.722268,36.541822
END:VEVENT
BEGIN:VEVENT
DTSTART;TZID=Europe/Madrid:20251009T090000
DTEND;TZID=Europe/Madrid:20251009T170000
DTSTAMP:20260422T191454
CREATED:20250919T115457Z
LAST-MODIFIED:20251011T131908Z
UID:10000682-1760000400-1760029200@golfthecosta.com
SUMMARY:GTC Weekly League - El Paraiso Golf Club
DESCRIPTION:Weekly League Table October 2025 \nCategory 1         Category 2\nWinner                 Winner\nRunner-Up        Runner-Up\n Third Place       Third place\n Fourth Place     Fourth Place \nIf there is an insufficient number of players to split the categories\nthen prizes will be awarded for 1st\, 2nd and 3rd places and shown on\nthe table as follows:    Winner  Runner-Up   Third Place \n\n\n\n\nPlayer\n02-Oct\n09-Oct\n16-Oct\n23-Oct\n30-Oct\nBest 2Scores\n\n\n\n\nDavid Mellors\n33\n40\n \n \n \n73\n\n\nPeter Rees\n35\n37\n \n \n \n72\n\n\nGlen Milburn\n26\n31\n \n \n \n57\n\n\nSturt Woore\n29\n26\n \n \n \n55\n\n\nDiarmuid O’Connor\n26\n28\n \n \n \n54\n\n\nShuj Datoo\n21\n32\n \n \n \n53\n\n\nJM Boulet\n26\n26\n \n \n \n52\n\n\nAmanda Mellors\n28\n22\n \n \n \n50\n\n\nStefan Koenen\n38\n \n \n \n \n38\n\n\nPhil Loughton\n \n38\n \n \n \n38\n\n\nSteven Faull\n \n37\n \n \n \n37\n\n\nStuart Clay\n \n36\n \n \n \n36\n\n\nJuduth Wybrow\n33\n \n \n \n \n33\n\n\nMichael Ryan\n33\n \n \n \n \n33\n\n\nTony Tidmarsh\n \n33\n \n \n \n33\n\n\nNev Dickens\n \n33\n \n \n \n33\n\n\nAndy Newcombe\n \n33\n \n \n \n33\n\n\nTony Harrison\n32\n \n \n \n \n32\n\n\nIan Osborne\n \n32\n \n \n \n32\n\n\nJim O’Shea\n31\n \n \n \n \n31\n\n\nJohn Dellow\n \n31\n \n \n \n31\n\n\nPeter Jones\n \n31\n \n \n \n31\n\n\nLiam Caplis\n \n30\n \n \n \n30\n\n\nRobert Gilbert\n \n30\n \n \n \n30\n\n\nGraeme Garner-Jones\n \n30\n \n \n \n30\n\n\nIan Morrison\n \n30\n \n \n \n30\n\n\nDerek Wybrow\n29\n \n \n \n \n29\n\n\nChris Royston\n \n28\n \n \n \n28\n\n\nPeter Gatenby\n \n28\n \n \n \n28\n\n\nDavid Hardie\n \n27\n \n \n \n27\n\n\nPeter Achten\n26\n \n \n \n \n26\n\n\nGren Collins\n \n26\n \n \n \n26\n\n\nPaul Ingram\n \n26\n \n \n \n26\n\n\nDavid Horsburgh\n \n25\n \n \n \n25\n\n\nRoy Martinez\n \n25\n \n \n \n25\n\n\nChristine Morrison\n \n23\n \n \n \n23\n\n\nAlasdair MacLean\n \n23\n \n \n \n23\n\n\nDenis Flynn\n18\n \n \n \n \n18\n\n\nNick Shaikh\n \n16\n \n \n \n16\n\n\nIan Hollingum\n \n14\n \n \n \n14
URL:https://golfthecosta.com/event/gtc-weekly-league-el-paraiso-golf-club-135/
LOCATION:El Paraiso Golf Club\, Urb. El Paraiso\, Ctra de Cádiz\, km 167\,\, Estepona\, Malaga\, 29680\, Spain
ATTACH;FMTTYPE=image/jpeg:https://golfthecosta.com/wp-content/uploads/2024/10/GTC-El-Paraiso-3.jpeg
ORGANIZER;CN="Golf The Costa":MAILTO:info@www.golfthecosta.com
GEO:36.476586;-5.034811
X-APPLE-STRUCTURED-LOCATION;VALUE=URI;X-ADDRESS=El Paraiso Golf Club Urb. El Paraiso Ctra de Cádiz km 167 Estepona Malaga 29680 Spain;X-APPLE-RADIUS=500;X-TITLE=Urb. El Paraiso\, Ctra de Cádiz\, km 167\,:geo:-5.034811,36.476586
END:VEVENT
BEGIN:VEVENT
DTSTART;TZID=Europe/Madrid:20251016T090000
DTEND;TZID=Europe/Madrid:20251016T170000
DTSTAMP:20260422T191454
CREATED:20250919T115529Z
LAST-MODIFIED:20251018T124813Z
UID:10000683-1760605200-1760634000@golfthecosta.com
SUMMARY:GTC Weekly League - El Paraiso Golf Club
DESCRIPTION:Weekly League Table October 2025 \nCategory 1         Category 2\nWinner                 Winner\nRunner-Up        Runner-Up\n Third Place       Third place\n Fourth Place     Fourth Place \nIf there is an insufficient number of players to split the categories\nthen prizes will be awarded for 1st\, 2nd and 3rd places and shown on\nthe table as follows:    Winner  Runner-Up   Third Place \n\n\n\n\nPlayer\n02-Oct\n09-Oct\n16-Oct\n23-Oct\n30-Oct\nBest 2Scores\n\n\n\n\nPhil Loughton\n \n38\n39\n \n \n77\n\n\nDavid Mellors\n33\n40\n28\n \n \n73\n\n\nPeter Rees\n35\n37\n \n \n \n72\n\n\nSteven Faull\n \n37\n35\n \n \n72\n\n\nChris Royston\n \n28\n41\n \n \n69\n\n\nJohn Dellow\n \n31\n38\n \n \n69\n\n\nLiam Caplis\n \n30\n39\n \n \n69\n\n\nPeter Jones\n \n31\n38\n \n \n69\n\n\nPeter Gatenby\n \n28\n32\n \n \n60\n\n\nGlen Milburn\n26\n31\n \n \n \n57\n\n\nSturt Woore\n29\n26\n \n \n \n55\n\n\nDiarmuid O’Connor\n26\n28\n \n \n \n54\n\n\nShuj Datoo\n21\n32\n \n \n \n53\n\n\nJM Boulet\n26\n26\n \n \n \n52\n\n\nAmanda Mellors\n28\n22\n23\n \n \n51\n\n\nPaul Ingram\n \n26\n23\n \n \n49\n\n\nNick Shaikh\n \n16\n30\n \n \n46\n\n\nMark Clarke\n \n \n45\n \n \n45\n\n\nStefan Koenen\n38\n \n \n \n \n38\n\n\nStuart Clay\n \n36\n \n \n \n36\n\n\nAndy Newcombe\n \n33\n \n \n \n33\n\n\nJudith Wybrow\n33\n \n \n \n \n33\n\n\nMichael Ryan\n33\n \n \n \n \n33\n\n\nNev Dickens\n \n33\n \n \n \n33\n\n\nTony Tidmarsh\n \n33\n \n \n \n33\n\n\nCharles Ireland\n \n \n33\n \n \n33\n\n\nIan Osborne\n \n32\n \n \n \n32\n\n\nTony Harrison\n32\n \n \n \n \n32\n\n\nJohn McGoldrick\n \n \n32\n \n \n32\n\n\nSteve Robins\n \n \n32\n \n \n32\n\n\nJim O’Shea\n31\n \n \n \n \n31\n\n\nBill Baars\n \n \n31\n \n \n31\n\n\nGraeme Garner-Jones\n \n30\n \n \n \n30\n\n\nIan Morrison\n \n30\n \n \n \n30\n\n\nRobert Gilbert\n \n30\n \n \n \n30\n\n\nDerek Wybrow\n29\n \n \n \n \n29\n\n\nIan Hollingum\n \n14\n15\n \n \n29\n\n\nNorman Healey\n \n \n29\n \n \n29\n\n\nDavid Hardie\n \n27\n \n \n \n27\n\n\nKeith Davis\n \n \n27\n \n \n27\n\n\nDmitrii Provotorov\n \n \n27\n \n \n27\n\n\nGren Collings\n \n26\n \n \n \n26\n\n\nPeter Achten\n26\n \n \n \n \n26\n\n\nMark Bruce\n \n \n26\n \n \n26\n\n\nDavid Horsburgh\n \n25\n \n \n \n25\n\n\nRoy Martinez\n \n25\n \n \n \n25\n\n\nMalcolm Jaffa\n \n \n25\n \n \n25\n\n\nDave Bruce\n \n \n24\n \n \n24\n\n\nAlasdair MacLean\n \n23\n \n \n \n23\n\n\nChristine Morrison\n \n23\n \n \n \n23\n\n\nDenis Flynn\n18\n \n \n \n \n18
URL:https://golfthecosta.com/event/gtc-weekly-league-el-paraiso-golf-club-136/
LOCATION:El Paraiso Golf Club\, Urb. El Paraiso\, Ctra de Cádiz\, km 167\,\, Estepona\, Malaga\, 29680\, Spain
ATTACH;FMTTYPE=image/jpeg:https://golfthecosta.com/wp-content/uploads/2024/10/GTC-El-Paraiso-3.jpeg
ORGANIZER;CN="Golf The Costa":MAILTO:info@www.golfthecosta.com
GEO:36.476586;-5.034811
X-APPLE-STRUCTURED-LOCATION;VALUE=URI;X-ADDRESS=El Paraiso Golf Club Urb. El Paraiso Ctra de Cádiz km 167 Estepona Malaga 29680 Spain;X-APPLE-RADIUS=500;X-TITLE=Urb. El Paraiso\, Ctra de Cádiz\, km 167\,:geo:-5.034811,36.476586
END:VEVENT
BEGIN:VEVENT
DTSTART;TZID=Europe/Madrid:20251023T090000
DTEND;TZID=Europe/Madrid:20251023T170000
DTSTAMP:20260422T191454
CREATED:20250919T115559Z
LAST-MODIFIED:20251031T084030Z
UID:10000684-1761210000-1761238800@golfthecosta.com
SUMMARY:GTC Weekly League - El Paraiso Golf Club
DESCRIPTION:Weekly League Table October 2025 \nCategory 1         Category 2\nWinner                 Winner\nRunner-Up        Runner-Up\n Third Place       Third place\n Fourth Place     Fourth Place \nIf there is an insufficient number of players to split the categories\nthen prizes will be awarded for 1st\, 2nd and 3rd places and shown on\nthe table as follows:    Winner  Runner-Up   Third Place \n\n\n\n\nPlayer\n02-Oct\n09-Oct\n16-Oct\n23-Oct\n30-Oct\nBest 2Scores\n\n\n\n\nPhil Loughton\n \n38\n39\n34\n \n77\n\n\nDavid Mellors\n33\n40\n28\n22\n \n73\n\n\nPeter Rees\n35\n37\n \n \n \n72\n\n\nSteven Faull\n \n37\n35\n25\n \n72\n\n\nCharles Ireland\n \n \n33\n36\n \n69\n\n\nChris Royston\n \n28\n41\n \n \n69\n\n\nJohn Dellow\n \n31\n38\n \n \n69\n\n\nLiam Caplis\n \n30\n39\n \n \n69\n\n\nPeter Jones\n \n31\n38\n \n \n69\n\n\nShuj Datoo\n21\n32\n \n32\n \n64\n\n\nPeter Gatenby\n \n28\n32\n30\n \n62\n\n\nBill Baars\n \n \n31\n30\n \n61\n\n\nGlen Milburn\n26\n31\n \n \n \n57\n\n\nNorman Healey\n \n \n29\n26\n \n55\n\n\nSturt Woore\n29\n26\n \n \n \n55\n\n\nDiarmuid O’Connor\n26\n28\n \n \n \n54\n\n\nMark Bruce\n \n \n26\n28\n \n54\n\n\nJM Boulet\n26\n26\n \n19\n \n52\n\n\nAmanda Mellors\n28\n22\n23\n \n \n51\n\n\nMalcolm Jaffa\n \n \n25\n26\n \n51\n\n\nPaul Ingram\n \n26\n23\n \n \n49\n\n\nNick Shaikh\n \n16\n30\n \n \n46\n\n\nMark Clarke\n \n \n45\n \n \n45\n\n\nIan Hollingum\n \n14\n15\n27\n \n42\n\n\nPaul Lande\n \n \n \n42\n \n42\n\n\nStefan Koenen\n38\n \n \n \n \n38\n\n\nMark Mullaney\n \n \n \n38\n \n38\n\n\nStuart Clay\n \n36\n \n \n \n36\n\n\nAndy Sale\n \n \n \n35\n \n35\n\n\nAndy Newcombe\n \n33\n \n \n \n33\n\n\nJudith Wybrow\n33\n \n \n \n \n33\n\n\nMichael Ryan\n33\n \n \n \n \n33\n\n\nNev Dickens\n \n33\n \n \n \n33\n\n\nTony Tidmarsh\n \n33\n \n \n \n33\n\n\nDavid O’Neill\n \n \n \n33\n \n33\n\n\nPeter Tomlinson\n \n \n \n33\n \n33\n\n\nIan Osborne\n \n32\n \n \n \n32\n\n\nJohn McGoldrick\n \n \n32\n \n \n32\n\n\nSteve Robins\n \n \n32\n \n \n32\n\n\nTony Harrison\n32\n \n \n \n \n32\n\n\nTomas Mullaney\n \n \n \n32\n \n32\n\n\nJim O’Shea\n31\n \n \n \n \n31\n\n\nKevin Morris\n \n \n \n31\n \n31\n\n\nGraeme Garner-Jones\n \n30\n \n \n \n30\n\n\nIan Morrison\n \n30\n \n \n \n30\n\n\nRobert Gilbert\n \n30\n \n \n \n30\n\n\nGeert Cipers\n \n \n \n30\n \n30\n\n\nDerek Wybrow\n29\n \n \n \n \n29\n\n\nMonique Lauwaert\n \n \n \n29\n \n29\n\n\nStephen Melville\n \n \n \n29\n \n29\n\n\nBen Proesmans\n \n \n \n28\n \n28\n\n\nAlan Fletcher\n \n \n \n28\n \n28\n\n\nDavid Hardie\n \n27\n \n \n \n27\n\n\nDmitrii Provotorov\n \n \n27\n \n \n27\n\n\nKeith Davis\n \n \n27\n \n \n27\n\n\nGren Collings\n \n26\n \n \n \n26\n\n\nPeter Achten\n26\n \n \n \n \n26\n\n\nDavid Horsburgh\n \n25\n \n \n \n25\n\n\nRoy Martinez\n \n25\n \n \n \n25\n\n\nDave Bruce\n \n \n24\n \n \n24\n\n\nJohn Gowlett\n \n \n \n24\n \n24\n\n\nAlasdair MacLean\n \n23\n \n \n \n23\n\n\nChristine Morrison\n \n23\n \n \n \n23\n\n\nMike O’Gorman\n \n \n \n20\n \n20\n\n\nDenis Flynn\n18\n \n \n \n \n18\n\n\nPhil Cross\n \n \n \n16\n \n16
URL:https://golfthecosta.com/event/gtc-weekly-league-el-paraiso-golf-club-137/
LOCATION:El Paraiso Golf Club\, Urb. El Paraiso\, Ctra de Cádiz\, km 167\,\, Estepona\, Malaga\, 29680\, Spain
ATTACH;FMTTYPE=image/jpeg:https://golfthecosta.com/wp-content/uploads/2024/10/GTC-El-Paraiso-3.jpeg
ORGANIZER;CN="Golf The Costa":MAILTO:info@www.golfthecosta.com
GEO:36.476586;-5.034811
X-APPLE-STRUCTURED-LOCATION;VALUE=URI;X-ADDRESS=El Paraiso Golf Club Urb. El Paraiso Ctra de Cádiz km 167 Estepona Malaga 29680 Spain;X-APPLE-RADIUS=500;X-TITLE=Urb. El Paraiso\, Ctra de Cádiz\, km 167\,:geo:-5.034811,36.476586
END:VEVENT
BEGIN:VEVENT
DTSTART;TZID=Europe/Madrid:20251030T090000
DTEND;TZID=Europe/Madrid:20251030T170000
DTSTAMP:20260422T191454
CREATED:20250919T115622Z
LAST-MODIFIED:20251128T154541Z
UID:10000685-1761814800-1761843600@golfthecosta.com
SUMMARY:GTC Weekly League - El Paraiso Golf Club
DESCRIPTION:Weekly League Table October 2025 \nCategory 1         Category 2\nWinner                 Winner\nRunner-Up        Runner-Up\n Third Place       Third place\n Fourth Place     Fourth Place \nIf there is an insufficient number of players to split the categories\nthen prizes will be awarded for 1st\, 2nd and 3rd places and shown on\nthe table as follows:    Winner  Runner-Up   Third Place \nThe winners of the monthly league prizes are shown as follows:\nCategory 1    Category 2 \n\n\n\n\nPlayer\n02-Oct\n09-Oct\n16-Oct\n23-Oct\n30-Oct\nBest 2Scores\n\n\n\n\nPhil Loughton\n \n38\n39\n34\n30\n77\n\n\nPaul Lande\n \n \n \n42\n32\n74\n\n\nDavid Mellors\n33\n40\n28\n22\n \n73\n\n\nStefan Koenen\n38\n \n \n \n35\n73\n\n\nDavid O’Neill\n \n \n \n33\n39\n72\n\n\nPeter Rees\n35\n37\n \n \n \n72\n\n\nSteven Faull\n \n37\n35\n25\n \n72\n\n\nLiam Caplis\n \n30\n39\n \n31\n70\n\n\nCharles Ireland\n \n \n33\n36\n29\n69\n\n\nChris Royston\n \n28\n41\n \n \n69\n\n\nJohn Dellow\n \n31\n38\n \n \n69\n\n\nPeter Jones\n \n31\n38\n \n \n69\n\n\nKevin Morris\n \n \n \n31\n35\n66\n\n\nPeter Gatenby\n \n28\n32\n30\n34\n66\n\n\nShuj Datoo\n21\n32\n \n32\n33\n65\n\n\nBill Baars\n \n \n31\n30\n31\n62\n\n\nChristine Morrison\n \n23\n \n \n37\n60\n\n\nGlen Milburn\n26\n31\n \n \n \n57\n\n\nIan Morrison\n \n30\n \n \n27\n57\n\n\nNorman Healey\n \n \n29\n26\n27\n56\n\n\nMalcolm Jaffa\n \n \n25\n26\n29\n55\n\n\nSturt Woore\n29\n26\n \n \n \n55\n\n\nDiarmuid O’Connor\n26\n28\n \n \n \n54\n\n\nMark Bruce\n \n \n26\n28\n22\n54\n\n\nDmitrii Provotorov\n \n \n27\n \n26\n53\n\n\nJM Boulet\n26\n26\n \n19\n \n52\n\n\nAmanda Mellors\n28\n22\n23\n \n \n51\n\n\nPaul Ingram\n \n26\n23\n \n24\n50\n\n\nNick Shaikh\n \n16\n30\n \n \n46\n\n\nMark Clarke\n \n \n45\n \n \n45\n\n\nIan Hollingum\n \n14\n15\n27\n \n42\n\n\nRoy Martinez\n \n25\n \n \n17\n42\n\n\nJohn Gowlett\n \n \n \n24\n16\n40\n\n\nMark Mullaney\n \n \n \n38\n \n38\n\n\nStuart Clay\n \n36\n \n \n \n36\n\n\nAndy Sale\n \n \n \n35\n \n35\n\n\nDave Pitt\n \n \n \n \n34\n34\n\n\nAndy Newcombe\n \n33\n \n \n \n33\n\n\nJudith Wybrow\n33\n \n \n \n \n33\n\n\nMichael Ryan\n33\n \n \n \n \n33\n\n\nNev Dickens\n \n33\n \n \n \n33\n\n\nPeter Tomlinson\n \n \n \n33\n \n33\n\n\nTony Tidmarsh\n \n33\n \n \n \n33\n\n\nIan Osborne\n \n32\n \n \n \n32\n\n\nJohn McGoldrick\n \n \n32\n \n \n32\n\n\nSteve Robins\n \n \n32\n \n \n32\n\n\nTomas Mullaney\n \n \n \n32\n \n32\n\n\nTony Harrison\n32\n \n \n \n \n32\n\n\nJim O’Shea\n31\n \n \n \n \n31\n\n\nKarsten Grah\n \n \n \n \n31\n31\n\n\nGeert Cipers\n \n \n \n30\n \n30\n\n\nGraeme Garner-Jones\n \n30\n \n \n \n30\n\n\nRobert Gilbert\n \n30\n \n \n \n30\n\n\nDerek Wybrow\n29\n \n \n \n \n29\n\n\nMonique Lauwaert\n \n \n \n29\n \n29\n\n\nStephen Melville\n \n \n \n29\n \n29\n\n\nJim Fox\n \n \n \n \n29\n29\n\n\nAlan Fletcher\n \n \n \n28\n \n28\n\n\nBen Proesmans\n \n \n \n28\n \n28\n\n\nPaul Blackburn\n \n \n \n \n28\n28\n\n\nDavid Hardie\n \n27\n \n \n \n27\n\n\nKeith Davis\n \n \n27\n \n \n27\n\n\nTom Aherne\n \n \n \n \n27\n27\n\n\nGren Collings\n \n26\n \n \n \n26\n\n\nPeter Achten\n26\n \n \n \n \n26\n\n\nBrian Binstock\n \n \n \n \n26\n26\n\n\nDavid Horsburgh\n \n25\n \n \n \n25\n\n\nDavid Archer\n \n \n \n \n25\n25\n\n\nDave Bruce\n \n \n24\n \n \n24\n\n\nAlasdair MacLean\n \n23\n \n \n \n23\n\n\nVladimir Koshman\n \n \n \n \n21\n21\n\n\nMike O’Gorman\n \n \n \n20\n \n20\n\n\nDenis Flynn\n18\n \n \n \n \n18\n\n\nPhil Cross\n \n \n \n16\n \n16
URL:https://golfthecosta.com/event/gtc-weekly-league-el-paraiso-golf-club-138/
LOCATION:El Paraiso Golf Club\, Urb. El Paraiso\, Ctra de Cádiz\, km 167\,\, Estepona\, Malaga\, 29680\, Spain
ATTACH;FMTTYPE=image/jpeg:https://golfthecosta.com/wp-content/uploads/2024/10/GTC-El-Paraiso-3.jpeg
ORGANIZER;CN="Golf The Costa":MAILTO:info@www.golfthecosta.com
GEO:36.476586;-5.034811
X-APPLE-STRUCTURED-LOCATION;VALUE=URI;X-ADDRESS=El Paraiso Golf Club Urb. El Paraiso Ctra de Cádiz km 167 Estepona Malaga 29680 Spain;X-APPLE-RADIUS=500;X-TITLE=Urb. El Paraiso\, Ctra de Cádiz\, km 167\,:geo:-5.034811,36.476586
END:VEVENT
END:VCALENDAR