BEGIN:VCALENDAR
VERSION:2.0
PRODID:-// - ECPv6.15.20//NONSGML v1.0//EN
CALSCALE:GREGORIAN
METHOD:PUBLISH
X-ORIGINAL-URL:https://golfthecosta.com
X-WR-CALDESC:Events for 
REFRESH-INTERVAL;VALUE=DURATION:PT1H
X-Robots-Tag:noindex
X-PUBLISHED-TTL:PT1H
BEGIN:VTIMEZONE
TZID:Europe/Madrid
BEGIN:DAYLIGHT
TZOFFSETFROM:+0100
TZOFFSETTO:+0200
TZNAME:CEST
DTSTART:20250330T010000
END:DAYLIGHT
BEGIN:STANDARD
TZOFFSETFROM:+0200
TZOFFSETTO:+0100
TZNAME:CET
DTSTART:20251026T010000
END:STANDARD
BEGIN:DAYLIGHT
TZOFFSETFROM:+0100
TZOFFSETTO:+0200
TZNAME:CEST
DTSTART:20260329T010000
END:DAYLIGHT
BEGIN:STANDARD
TZOFFSETFROM:+0200
TZOFFSETTO:+0100
TZNAME:CET
DTSTART:20261025T010000
END:STANDARD
BEGIN:DAYLIGHT
TZOFFSETFROM:+0100
TZOFFSETTO:+0200
TZNAME:CEST
DTSTART:20270328T010000
END:DAYLIGHT
BEGIN:STANDARD
TZOFFSETFROM:+0200
TZOFFSETTO:+0100
TZNAME:CET
DTSTART:20271031T010000
END:STANDARD
END:VTIMEZONE
BEGIN:VEVENT
DTSTART;TZID=Europe/Madrid:20260108T090000
DTEND;TZID=Europe/Madrid:20260108T170000
DTSTAMP:20260422T134833
CREATED:20251205T124918Z
LAST-MODIFIED:20260123T154014Z
UID:10000696-1767862800-1767891600@golfthecosta.com
SUMMARY:Weekly League - El Paraiso Golf Club
DESCRIPTION:Weekly League Table January 2026 \nCategory 1      Category 2\nWinner            Winner\nRunner-Up     Runner-Up\n Third Place    Third place \nIf there is an insufficient number of players to split the categories\nthen prizes will be awarded for 1st\, 2nd and 3rd places and shown on\nthe table as follows: Winner   Runner-Up   Third Place \n\n\n\n\nPlayer\n08-Jan\n15-Jan\n22-Jan\n29-Jan\nBest 2\nScores\n\n\n\n\nAndy Sale\n36\n \n \n \n36\n\n\nSteven Faull\n34\n \n \n \n34\n\n\nPeter Jones\n32\n \n \n \n32\n\n\nDave Pitt\n32\n \n \n \n32\n\n\nTony Tidmarsh\n32\n \n \n \n32\n\n\nKevin Morris\n31\n \n \n \n31\n\n\nAmanda Mellors\n31\n \n \n \n31\n\n\nDiarmuid O’Connor\n30\n \n \n \n30\n\n\nJim Kelly\n30\n \n \n \n30\n\n\nStuart Woore\n29\n \n \n \n29\n\n\nLiam Caplis\n29\n \n \n \n29\n\n\nDavid Archer\n28\n \n \n \n28\n\n\nStephen Melville\n27\n \n \n \n27\n\n\nPeter Gatenby\n27\n \n \n \n27\n\n\nIan Burns\n25\n \n \n \n25\n\n\nPaul Blac kburn\n24\n \n \n \n24\n\n\nJudith Wybrow\n24\n \n \n \n24\n\n\nBrian Binstock\n24\n \n \n \n24\n\n\nMark Bruce\n24\n \n \n \n24\n\n\nDerek Wybrow\n24\n \n \n \n24\n\n\nStephen Katz\n23\n \n \n \n23\n\n\nLyle Finlay\n23\n \n \n \n23\n\n\nGareth Hedley\n22\n \n \n \n22\n\n\nJim Fox\n21\n \n \n \n21\n\n\nJohn Gowlett\n21\n \n \n \n21\n\n\nStephen Briggs\n20\n \n \n \n20\n\n\nShuj Datoo\n17\n \n \n \n17\n\n\nDavid Mellors\n16\n \n \n \n16\n\n\nMalcolm Jaffa\n16\n \n \n \n16
URL:https://golfthecosta.com/event/weekly-league-el-paraiso-golf-club-2/
LOCATION:El Paraiso Golf Club\, Urb. El Paraiso\, Ctra de Cádiz\, km 167\,\, Estepona\, Malaga\, 29680\, Spain
ATTACH;FMTTYPE=image/jpeg:https://golfthecosta.com/wp-content/uploads/2024/10/GTC-El-Paraiso-3.jpeg
ORGANIZER;CN="Golf The Costa":MAILTO:info@www.golfthecosta.com
GEO:36.476586;-5.034811
X-APPLE-STRUCTURED-LOCATION;VALUE=URI;X-ADDRESS=El Paraiso Golf Club Urb. El Paraiso Ctra de Cádiz km 167 Estepona Malaga 29680 Spain;X-APPLE-RADIUS=500;X-TITLE=Urb. El Paraiso\, Ctra de Cádiz\, km 167\,:geo:-5.034811,36.476586
END:VEVENT
BEGIN:VEVENT
DTSTART;TZID=Europe/Madrid:20260115T090000
DTEND;TZID=Europe/Madrid:20260115T170000
DTSTAMP:20260422T134834
CREATED:20251205T124936Z
LAST-MODIFIED:20260123T154242Z
UID:10000697-1768467600-1768496400@golfthecosta.com
SUMMARY:Weekly League - El Paraiso Golf Club
DESCRIPTION:Weekly League Table January 2026 \nCategory 1      Category 2\nWinner            Winner\nRunner-Up     Runner-Up\n Third Place    Third place \nIf there is an insufficient number of players to split the categories\nthen prizes will be awarded for 1st\, 2nd and 3rd places and shown on\nthe table as follows:    Winner  Runner-Up   Third Place \n\n\n\n\nPlayer\n08-Jan\n15-Jan\n22-Jan\n29-Jan\nBest 2Scores\n\n\n\n\nLiam Caplis\n29\n35\n \n \n64\n\n\nTony Tidmarsh\n32\n28\n \n \n60\n\n\nStuart Woore\n29\n30\n \n \n59\n\n\nStephen Melville\n27\n31\n \n \n58\n\n\nPeter Gatenby\n27\n29\n \n \n56\n\n\nDavid Archer\n28\n27\n \n \n55\n\n\nDiarmuid O’Connor\n30\n25\n \n \n55\n\n\nJim Kelly\n30\n25\n \n \n55\n\n\nGareth Hedley\n22\n28\n \n \n50\n\n\nPaul Blackburn\n24\n24\n \n \n48\n\n\nJohn Gowlett\n21\n25\n \n \n46\n\n\nStephen Briggs\n20\n26\n \n \n46\n\n\nShuj Datoo\n17\n28\n \n \n45\n\n\nAndy Sale\n36\n \n \n \n36\n\n\nMalcolm Jaffa\n16\n20\n \n \n36\n\n\nDerek Posner\n \n35\n \n \n35\n\n\nSteven Faull\n34\n \n \n \n34\n\n\nAndy Eames\n \n34\n \n \n34\n\n\nIan Burns\n \n33\n \n \n33\n\n\nDave Pitt\n32\n \n \n \n32\n\n\nPeter Jones\n32\n \n \n \n32\n\n\nPhil Loughton\n \n32\n \n \n32\n\n\nKevin Morris\n \n32\n \n \n32\n\n\nAmanda Mellors\n31\n \n \n \n31\n\n\nKevin Morris\n31\n \n \n \n31\n\n\nGraham Hearn\n \n29\n \n \n29\n\n\nWilly Edwards\n \n28\n \n \n28\n\n\nMonique Lauwaert\n \n28\n \n \n28\n\n\nJohn Hutton\n \n28\n \n \n28\n\n\nPaul Boland\n \n27\n \n \n27\n\n\nWim Valckx\n \n26\n \n \n26\n\n\nJane Boland\n \n26\n \n \n26\n\n\nIan Burns\n25\n \n \n \n25\n\n\nBrian Binstock\n24\n \n \n \n24\n\n\nDerek Wybrow\n24\n \n \n \n24\n\n\nJudith Wybrow\n24\n \n \n \n24\n\n\nMark Bruce\n24\n \n \n \n24\n\n\nLyle Finlay\n23\n \n \n \n23\n\n\nStephen Katz\n23\n \n \n \n23\n\n\nJim Fox\n21\n \n \n \n21\n\n\nFrank Ferris\n \n21\n \n \n21\n\n\nNorman Healey\n \n19\n \n \n19\n\n\nDavid Mellors\n16\n \n \n \n16\n\n\nDavid Hogg\n \n15\n \n \n15\n\n\nJanis Hearn\n \n14\n \n \n14
URL:https://golfthecosta.com/event/weekly-league-el-paraiso-golf-club-3/
LOCATION:El Paraiso Golf Club\, Urb. El Paraiso\, Ctra de Cádiz\, km 167\,\, Estepona\, Malaga\, 29680\, Spain
ATTACH;FMTTYPE=image/jpeg:https://golfthecosta.com/wp-content/uploads/2024/10/GTC-El-Paraiso-3.jpeg
ORGANIZER;CN="Golf The Costa":MAILTO:info@www.golfthecosta.com
GEO:36.476586;-5.034811
X-APPLE-STRUCTURED-LOCATION;VALUE=URI;X-ADDRESS=El Paraiso Golf Club Urb. El Paraiso Ctra de Cádiz km 167 Estepona Malaga 29680 Spain;X-APPLE-RADIUS=500;X-TITLE=Urb. El Paraiso\, Ctra de Cádiz\, km 167\,:geo:-5.034811,36.476586
END:VEVENT
BEGIN:VEVENT
DTSTART;TZID=Europe/Madrid:20260122T090000
DTEND;TZID=Europe/Madrid:20260122T170000
DTSTAMP:20260422T134834
CREATED:20251205T124957Z
LAST-MODIFIED:20260123T154620Z
UID:10000698-1769072400-1769101200@golfthecosta.com
SUMMARY:Weekly League - El Paraiso Golf Club
DESCRIPTION:Weekly League Table January 2026 \nCategory 1      Category 2\nWinner            Winner\nRunner-Up     Runner-Up\n Third Place    Third place \nIf there is an insufficient number of players to split the categories\nthen prizes will be awarded for 1st\, 2nd and 3rd places and shown on\nthe table as follows:    Winner  Runner-Up   Third Place \n\n\n\n\nPlayer\n08-Jan\n15-Jan\n22-Jan\n29-Jan\nBest 2Scores\n\n\n\n\nAndy Eames\n \n34\n33\n \n67\n\n\nDerek Posner\n \n35\n30\n \n65\n\n\nPhil Loughton\n \n32\n33\n \n65\n\n\nLiam Caplis\n29\n35\n \n \n64\n\n\nIan Burns\n \n33\n28\n \n61\n\n\nJim Kelly\n30\n25\n31\n \n61\n\n\nAmanda Mellors\n31\n \n29\n \n60\n\n\nDave Pitt\n32\n \n28\n \n60\n\n\nTony Tidmarsh\n32\n28\n \n \n60\n\n\nStuart Woore\n29\n30\n \n \n59\n\n\nStephen Melville\n27\n31\n \n \n58\n\n\nJane Boland\n \n26\n30\n \n56\n\n\nPeter Gatenby\n27\n29\n20\n \n56\n\n\nDavid Archer\n28\n27\n.\n \n55\n\n\nDiarmuid O’Connor\n30\n25\n \n \n55\n\n\nGareth Hedley\n22\n28\n23\n \n51\n\n\nPaul Boland\n \n27\n24\n \n51\n\n\nShuj Datoo\n17\n28\n23\n \n51\n\n\nDerek Wybrow\n24\n \n25\n \n49\n\n\nPaul Blackburn\n24\n24\n \n \n48\n\n\nJudith Wybrow\n24\n \n23\n \n47\n\n\nJohn Gowlett\n21\n25\n \n \n46\n\n\nMalcolm Jaffa\n16\n20\n26\n \n46\n\n\nStephen Briggs\n20\n26\n \n \n46\n\n\nMark Bruce\n24\n \n18\n \n42\n\n\nAndy Sale\n36\n \n \n \n36\n\n\nSteven Faull\n34\n \n \n \n34\n\n\nKevin Morris\n \n32\n \n \n32\n\n\nPeter Jones\n32\n \n \n \n32\n\n\nKevin Morris\n31\n \n \n \n31\n\n\nGraham Hearn\n \n29\n \n \n29\n\n\nJohn Hutton\n \n28\n \n \n28\n\n\nMonique Lauwaert\n \n28\n \n \n28\n\n\nWilly Edwards\n \n28\n \n \n28\n\n\nWim Valckx\n \n26\n \n \n26\n\n\nDavid Mellors\n16\n \n9\n \n25\n\n\nIan Burns\n25\n \n \n \n25\n\n\nBrian Binstock\n24\n \n \n \n24\n\n\nLyle Finlay\n23\n \n \n \n23\n\n\nStephen Katz\n23\n \n \n \n23\n\n\nFrank Ferris\n \n21\n \n \n21\n\n\nJim Fox\n21\n \n \n \n21\n\n\nRobert Winstanley\n \n \n20\n \n20\n\n\nNorman Healey\n \n19\n \n \n19\n\n\nDavid Hogg\n \n15\n \n \n15\n\n\nJanis Hearn\n \n14\n \n \n14
URL:https://golfthecosta.com/event/weekly-league-el-paraiso-golf-club-4/
LOCATION:El Paraiso Golf Club\, Urb. El Paraiso\, Ctra de Cádiz\, km 167\,\, Estepona\, Malaga\, 29680\, Spain
ATTACH;FMTTYPE=image/jpeg:https://golfthecosta.com/wp-content/uploads/2024/10/GTC-El-Paraiso-3.jpeg
ORGANIZER;CN="Golf The Costa":MAILTO:info@www.golfthecosta.com
GEO:36.476586;-5.034811
X-APPLE-STRUCTURED-LOCATION;VALUE=URI;X-ADDRESS=El Paraiso Golf Club Urb. El Paraiso Ctra de Cádiz km 167 Estepona Malaga 29680 Spain;X-APPLE-RADIUS=500;X-TITLE=Urb. El Paraiso\, Ctra de Cádiz\, km 167\,:geo:-5.034811,36.476586
END:VEVENT
BEGIN:VEVENT
DTSTART;TZID=Europe/Madrid:20260129T090000
DTEND;TZID=Europe/Madrid:20260129T170000
DTSTAMP:20260422T134834
CREATED:20251205T125014Z
LAST-MODIFIED:20260128T152753Z
UID:10000699-1769677200-1769706000@golfthecosta.com
SUMMARY:Weekly League - El Paraiso Golf Club
DESCRIPTION:EVENT CANCELLED\nCOURSE CLOSED DUE TO NON-STOP RAIN \nWeekly League Table January 2026 \nCategory 1      Category 2\nWinner            Winner\nRunner-Up     Runner-Up\n Third Place    Third place \n\n\n\n\nPlayer\n08-Jan\n15-Jan\n22-Jan\n29-Jan\nBest 2\n Scores\n\n\n\n\nAndy Eames\n \n34\n33\n \n67\n\n\nDerek Posner\n \n35\n30\nE\n65\n\n\nPhil Loughton\n \n32\n33\nV\n65\n\n\nLiam Caplis\n29\n35\n \nE\n64\n\n\nKevin Morris\n31\n32\n \nN\n63\n\n\nIan Burns\n25\n33\n28\nT\n61\n\n\nJim Kelly\n30\n25\n31\n \n61\n\n\nAmanda Mellors\n31\n \n29\nC\n60\n\n\nDave Pitt\n32\n \n28\nA\n60\n\n\nTony Tidmarsh\n32\n28\n \nN\n60\n\n\nStuart Woore\n29\n30\n \nC\n59\n\n\nStephen Melville\n27\n31\n \nE\n58\n\n\nJane Boland\n \n26\n30\nL\n56\n\n\nPeter Gatenby\n27\n29\n20\nL\n56\n\n\nDavid Archer\n28\n27\n \nE\n55\n\n\nDiarmuid O’Connor\n30\n25\n \nD\n55\n\n\nGareth Hedley\n22\n28\n23\n \n51\n\n\nPaul Boland\n \n27\n24\nD\n51\n\n\nShuj Datoo\n17\n28\n23\nU\n51\n\n\nDerek Wybrow\n24\n \n25\nE\n49\n\n\nPaul Blackburn\n24\n24\n \n \n48\n\n\nJudith Wybrow\n24\n \n23\nT\n47\n\n\nJohn Gowlett\n21\n25\n \nO\n46\n\n\nMalcolm Jaffa\n16\n20\n26\n \n46\n\n\nStephen Briggs\n20\n26\n \nH\n46\n\n\nMark Bruce\n24\n \n18\nE\n42\n\n\nAndy Sale\n36\n \n \nA\n36\n\n\nSteven Faull\n34\n \n \nV\n34\n\n\nPeter Jones\n32\n \n \nY\n32\n\n\nGraham Hearn\n \n29\n \n \n29\n\n\nJohn Hutton\n \n28\n \nR\n28\n\n\nMonique Lauwaert\n \n28\n \nA\n28\n\n\nWilly Edwards\n \n28\n \nI\n28\n\n\nWim Valckx\n \n26\n \nN\n26\n\n\nDavid Mellors\n16\n \n9\n \n25\n\n\nBrian Binstock\n24\n \n \n \n24\n\n\nLyle Finlay\n23\n \n \n \n23\n\n\nStephen Katz\n23\n \n \n \n23\n\n\nFrank Ferris\n \n21\n \n \n21\n\n\nJim Fox\n21\n \n \n \n21\n\n\nRobert Winstanley\n \n \n20\n \n20\n\n\nNorman Healey\n \n19\n \n \n19\n\n\nDavid Hogg\n \n15\n \n \n15\n\n\nJanis Hearn\n \n14\n \n \n14
URL:https://golfthecosta.com/event/weekly-league-el-paraiso-golf-club-5/
LOCATION:El Paraiso Golf Club\, Urb. El Paraiso\, Ctra de Cádiz\, km 167\,\, Estepona\, Malaga\, 29680\, Spain
ATTACH;FMTTYPE=image/jpeg:https://golfthecosta.com/wp-content/uploads/2024/10/GTC-El-Paraiso-3.jpeg
ORGANIZER;CN="Golf The Costa":MAILTO:info@www.golfthecosta.com
GEO:36.476586;-5.034811
X-APPLE-STRUCTURED-LOCATION;VALUE=URI;X-ADDRESS=El Paraiso Golf Club Urb. El Paraiso Ctra de Cádiz km 167 Estepona Malaga 29680 Spain;X-APPLE-RADIUS=500;X-TITLE=Urb. El Paraiso\, Ctra de Cádiz\, km 167\,:geo:-5.034811,36.476586
END:VEVENT
END:VCALENDAR