BEGIN:VCALENDAR
VERSION:2.0
PRODID:-// - ECPv6.15.20//NONSGML v1.0//EN
CALSCALE:GREGORIAN
METHOD:PUBLISH
X-ORIGINAL-URL:https://golfthecosta.com
X-WR-CALDESC:Events for 
REFRESH-INTERVAL;VALUE=DURATION:PT1H
X-Robots-Tag:noindex
X-PUBLISHED-TTL:PT1H
BEGIN:VTIMEZONE
TZID:Europe/Madrid
BEGIN:DAYLIGHT
TZOFFSETFROM:+0100
TZOFFSETTO:+0200
TZNAME:CEST
DTSTART:20170326T010000
END:DAYLIGHT
BEGIN:STANDARD
TZOFFSETFROM:+0200
TZOFFSETTO:+0100
TZNAME:CET
DTSTART:20171029T010000
END:STANDARD
BEGIN:DAYLIGHT
TZOFFSETFROM:+0100
TZOFFSETTO:+0200
TZNAME:CEST
DTSTART:20180325T010000
END:DAYLIGHT
BEGIN:STANDARD
TZOFFSETFROM:+0200
TZOFFSETTO:+0100
TZNAME:CET
DTSTART:20181028T010000
END:STANDARD
BEGIN:DAYLIGHT
TZOFFSETFROM:+0100
TZOFFSETTO:+0200
TZNAME:CEST
DTSTART:20190331T010000
END:DAYLIGHT
BEGIN:STANDARD
TZOFFSETFROM:+0200
TZOFFSETTO:+0100
TZNAME:CET
DTSTART:20191027T010000
END:STANDARD
BEGIN:DAYLIGHT
TZOFFSETFROM:+0100
TZOFFSETTO:+0200
TZNAME:CEST
DTSTART:20200329T010000
END:DAYLIGHT
BEGIN:STANDARD
TZOFFSETFROM:+0200
TZOFFSETTO:+0100
TZNAME:CET
DTSTART:20201025T010000
END:STANDARD
BEGIN:DAYLIGHT
TZOFFSETFROM:+0100
TZOFFSETTO:+0200
TZNAME:CEST
DTSTART:20210328T010000
END:DAYLIGHT
BEGIN:STANDARD
TZOFFSETFROM:+0200
TZOFFSETTO:+0100
TZNAME:CET
DTSTART:20211031T010000
END:STANDARD
BEGIN:DAYLIGHT
TZOFFSETFROM:+0100
TZOFFSETTO:+0200
TZNAME:CEST
DTSTART:20220327T010000
END:DAYLIGHT
BEGIN:STANDARD
TZOFFSETFROM:+0200
TZOFFSETTO:+0100
TZNAME:CET
DTSTART:20221030T010000
END:STANDARD
BEGIN:DAYLIGHT
TZOFFSETFROM:+0100
TZOFFSETTO:+0200
TZNAME:CEST
DTSTART:20230326T010000
END:DAYLIGHT
BEGIN:STANDARD
TZOFFSETFROM:+0200
TZOFFSETTO:+0100
TZNAME:CET
DTSTART:20231029T010000
END:STANDARD
BEGIN:DAYLIGHT
TZOFFSETFROM:+0100
TZOFFSETTO:+0200
TZNAME:CEST
DTSTART:20240331T010000
END:DAYLIGHT
BEGIN:STANDARD
TZOFFSETFROM:+0200
TZOFFSETTO:+0100
TZNAME:CET
DTSTART:20241027T010000
END:STANDARD
BEGIN:DAYLIGHT
TZOFFSETFROM:+0100
TZOFFSETTO:+0200
TZNAME:CEST
DTSTART:20250330T010000
END:DAYLIGHT
BEGIN:STANDARD
TZOFFSETFROM:+0200
TZOFFSETTO:+0100
TZNAME:CET
DTSTART:20251026T010000
END:STANDARD
END:VTIMEZONE
BEGIN:VEVENT
DTSTART;TZID=Europe/Madrid:20240425T090000
DTEND;TZID=Europe/Madrid:20240425T170000
DTSTAMP:20260420T093015
CREATED:20231208T153127Z
LAST-MODIFIED:20240426T092041Z
UID:10000401-1714035600-1714064400@golfthecosta.com
SUMMARY:GTC Weekly League - Atalaya Golf Club
DESCRIPTION:Weekly League Table for April 2024 \nCategory 1         Category 2\nWinner                 Winner\nRunner-Up        Runner-Up\n Third Place       Third place\n Fourth Place     Fourth place \nIf there is an insufficient number of players to split the categories\nthen prizes will be awarded for 1st\, 2nd and 3rd places and shown on\nthe table as follows:    Winner  Runner-Up   Third Place \nThe winners of the monthly league prizes are shown as follows:\nCategory 1    Category 2 \n\n\n\n\nPlayer\n04-Apr\n11-Apr\n18-Apr\n25-Apr\nBest 2Scores\n\n\n\n\nSteve Kesler\n35\n38\n \n36\n74\n\n\nCharles Ireland\n37\n33\n33\n33\n70\n\n\nJake Olds\n \n \n34\n35\n69\n\n\nJM Boulet\n33\n31\n36\n \n69\n\n\nSteven Faull\n37\n31\n31\n \n68\n\n\nSean Lennon \n21\n32\n33\n33\n66\n\n\nDavid Steel\n33\n31\n32\n21\n65\n\n\nPeter Jones\n \n29\n36\n \n65\n\n\nJoe Caffery\n31\n33\n \n \n64\n\n\nShuj Datoo\n31\n30\n32\n24\n63\n\n\nJennifer Kesler\n25\n29\n28\n32\n61\n\n\nDiarmuid O’Connor\n \n32\n28\n \n60\n\n\nLiam Caplis\n \n \n25\n35\n60\n\n\nNick Shaikh\n26\n \n34\n \n60\n\n\nPhil Loughton\n28\n32\n \n \n60\n\n\nWilliam Edwards\n \n \n30\n30\n60\n\n\nMonique Lauwaert\n31\n24\n28\n26\n59\n\n\nZoë Woods\n21\n28\n \n31\n59\n\n\nMark Bruce\n28\n \n24\n30\n58\n\n\nStephen Katz\n24\n34\n \n \n58\n\n\nStephen Melville\n \n25\n30\n \n55\n\n\nStuart Woore\n \n \n23\n32\n55\n\n\nSimon Smith\n28\n26\n \n \n54\n\n\nDerek Dillon\n21\n30\n \n \n51\n\n\nCharlie Bailey\n16\n28\n \n22\n50\n\n\nJill Smith\n27\n22\n \n \n49\n\n\nMalcolm Jaffa\n24\n22\n \n \n46\n\n\nPeter Gatenby\n19\n21\n \n \n40\n\n\nDes McGhee\n \n \n \n40\n40\n\n\nPaul Ingram\n \n \n36\n \n36\n\n\nAndy Eames\n \n34\n \n \n34\n\n\nChris Royston\n \n \n34\n \n34\n\n\nDmitrii Provotorov\n \n34\n \n \n34\n\n\nPascale Hall\n \n \n34\n \n34\n\n\nPeter Hedges\n \n \n34\n \n34\n\n\nAsger Jøgensen\n33\n \n \n \n33\n\n\nBrian Chittcik\n \n \n33\n \n33\n\n\nTim Ball\n33\n \n \n \n33\n\n\nKim Levin\n \n32\n \n \n32\n\n\nStefan Koenen\n32\n \n \n \n32\n\n\nDavid Hogg\n \n \n \n32\n32\n\n\nMark Mullaney\n31\n \n \n \n31\n\n\nRoy Martinez\n \n31\n \n \n31\n\n\nBrian Binstock\n \n30\n \n \n30\n\n\nIan Osborne\n \n30\n \n \n30\n\n\nMargaret Toomey\n \n \n30\n \n30\n\n\nMike O’Gorman\n30\n \n \n \n30\n\n\nPhil Cross\n \n30\n \n \n30\n\n\nSteve Robinson\n \n \n30\n \n30\n\n\nFrank Hourican\n29\n \n \n \n29\n\n\nJan Vallys\n \n29\n \n \n29\n\n\nDave Allen\n \n \n \n27\n27\n\n\nDavid Archer\n26\n \n \n \n26\n\n\nJohnna Christensen\n26\n \n \n \n26\n\n\nRichard Nelms\n26\n \n \n \n26\n\n\nAlasdair MacLean\n \n \n25\n \n25\n\n\nSteve Roberts\n \n \n \n25\n25\n\n\nPhilip Marshall\n \n \n24\n \n24\n\n\nRobert Gilbert\n \n \n23\n \n23\n\n\nJohn Bamber\n \n \n22\n \n22\n\n\nMalgosia Hedges\n \n \n22\n \n22\n\n\nBreda Moore\n21\n \n \n \n21\n\n\nStephen Brown\n19\n \n \n \n19\n\n\nAndre Standland\n \n12\n \n \n12
URL:https://golfthecosta.com/event/gtc-weekly-league-el-paraiso-golf-club-80/
LOCATION:Atalaya Golf & Country Club\, Carretera de Benahavis\, Km. 0.7\, Estepona\, Málaga\, 29688\, Spain
ATTACH;FMTTYPE=image/jpeg:https://golfthecosta.com/wp-content/uploads/2021/03/GTC-Logo-white-background-2-e1620397932376.jpg
ORGANIZER;CN="Golf The Costa":MAILTO:info@www.golfthecosta.com
GEO:36.4718889;-5.0113755
X-APPLE-STRUCTURED-LOCATION;VALUE=URI;X-ADDRESS=Atalaya Golf & Country Club Carretera de Benahavis Km. 0.7 Estepona Málaga 29688 Spain;X-APPLE-RADIUS=500;X-TITLE=Carretera de Benahavis\, Km. 0.7:geo:-5.0113755,36.4718889
END:VEVENT
BEGIN:VEVENT
DTSTART;TZID=Europe/Madrid:20230803T090000
DTEND;TZID=Europe/Madrid:20230803T170000
DTSTAMP:20260420T093015
CREATED:20230317T131929Z
LAST-MODIFIED:20230804T101336Z
UID:10000357-1691053200-1691082000@golfthecosta.com
SUMMARY:GTC Weekly League - Atalaya Golf Club
DESCRIPTION:Weekly League Table for August 2023 \nCategory 1          Category 2\n Winner               Winner\n Runner-Up        Runner-Up\n Third Place       Third place \nIf there is an insufficient number of players to split the categories\nthen prizes will be awarded for 1st\, 2nd and 3rd places and shown on\nthe table as follows:    Winner  Runner-Up   Third Place \n\n\n\n\nPlayer\n03-Aug\n10-Aug\n17-Aug\n24-Aug\n31-Aug\nBest 2Scores\n\n\n\n\nEwan McLeod\n37\n \n \n \n \n37\n\n\nKevin Morris\n35\n \n \n \n \n35\n\n\nMenno Bakker\n35\n \n \n \n \n35\n\n\nWill Haggon\n33\n \n \n \n \n33\n\n\nEllen Bakker\n33\n \n \n \n \n33\n\n\nSteven Faull\n33\n \n \n \n \n33\n\n\nDavid Steel\n32\n \n \n \n \n32\n\n\nMark Cooper\n32\n \n \n \n \n32\n\n\nDerek Wybrow\n30\n \n \n \n \n30\n\n\nJudith Wybrow\n29\n \n \n \n \n29\n\n\nPaul Murphy\n26\n \n \n \n \n26\n\n\nAndy Eames\n25\n \n \n \n \n25\n\n\nMark Bruce\n24\n \n \n \n \n24\n\n\nShuj Datoo\n22\n \n \n \n \n22\n\n\nAllan Kong\n20\n \n \n \n \n20
URL:https://golfthecosta.com/event/gtc-weekly-league-atalaya-golf-club-2/
LOCATION:Atalaya Golf & Country Club\, Carretera de Benahavis\, Km. 0.7\, Estepona\, Málaga\, 29688\, Spain
ATTACH;FMTTYPE=image/jpeg:https://golfthecosta.com/wp-content/uploads/2021/03/GTC-Logo-white-background-2-e1620397932376.jpg
ORGANIZER;CN="Golf The Costa":MAILTO:info@www.golfthecosta.com
GEO:36.4718889;-5.0113755
X-APPLE-STRUCTURED-LOCATION;VALUE=URI;X-ADDRESS=Atalaya Golf & Country Club Carretera de Benahavis Km. 0.7 Estepona Málaga 29688 Spain;X-APPLE-RADIUS=500;X-TITLE=Carretera de Benahavis\, Km. 0.7:geo:-5.0113755,36.4718889
END:VEVENT
BEGIN:VEVENT
DTSTART;TZID=Europe/Madrid:20220804T110000
DTEND;TZID=Europe/Madrid:20220804T170000
DTSTAMP:20260420T093015
CREATED:20220219T123721Z
LAST-MODIFIED:20220909T114524Z
UID:10000244-1659610800-1659632400@golfthecosta.com
SUMMARY:GTC Weekly League  - Atalaya Golf Club Old Course
DESCRIPTION:Weekly League Table for August 2022 \nCategory 1          Category 2\n Winner               Winner\n Runner-Up        Runner-Up\n Third Place       Third place \nIf there is an insufficient number of players to split the categories\nthen prizes will be awarded for 1st\, 2nd and 3rd places and shown on\nthe table as follows:    Winner  Runner-Up   Third Place \nThe winners of the monthly league prizes are shown as follows:\nCategory 1    Category 2 \n\n\n\n\nPlayer\n04-Aug\n11-Aug\n18-Aug\n25-Aug\nBest 2\nScores\n\n\n\n\nLaurie Passman\n37\n \n \n \n37\n\n\nErik Ingvarson\n36\n \n \n \n36\n\n\nPhil Loughton\n36\n \n \n \n36\n\n\nShuj Datoo\n35\n \n \n \n35\n\n\nNiklas Bernström\n35\n \n \n \n35\n\n\nDean Ward\n34\n \n \n \n34\n\n\nJohn Dellow\n33\n \n \n \n33\n\n\nSteven Faull\n33\n \n \n \n33\n\n\nDavid Archer\n30\n \n \n \n30\n\n\nTim Ball\n29\n \n \n \n29\n\n\nMark Bruce\n29\n \n \n \n29\n\n\nEllen Bakker\n28\n \n \n \n28\n\n\nRobin Borg\n28\n \n \n \n28\n\n\nMenno Bakker\n27\n \n \n \n27\n\n\nMartin Lundin\n27\n \n \n \n27\n\n\nSteve Kesler\n23\n \n \n \n23\n\n\nLes Weaver\n21\n \n \n \n21\n\n\nTony Smith\n7\n \n \n \n7
URL:https://golfthecosta.com/event/gtc-weekly-league-_-venue-to-be-confirmed/
LOCATION:Atalaya Golf & Country Club\, Carretera de Benahavis\, Km. 0.7\, Estepona\, Málaga\, 29688\, Spain
ATTACH;FMTTYPE=image/jpeg:https://golfthecosta.com/wp-content/uploads/2021/03/GTC-Logo-white-background-2-e1620397932376.jpg
ORGANIZER;CN="Golf The Costa":MAILTO:info@www.golfthecosta.com
GEO:36.4718889;-5.0113755
X-APPLE-STRUCTURED-LOCATION;VALUE=URI;X-ADDRESS=Atalaya Golf & Country Club Carretera de Benahavis Km. 0.7 Estepona Málaga 29688 Spain;X-APPLE-RADIUS=500;X-TITLE=Carretera de Benahavis\, Km. 0.7:geo:-5.0113755,36.4718889
END:VEVENT
BEGIN:VEVENT
DTSTART;TZID=Europe/Madrid:20220210T093000
DTEND;TZID=Europe/Madrid:20220210T170000
DTSTAMP:20260420T093015
CREATED:20211128T104909Z
LAST-MODIFIED:20220909T115304Z
UID:10000222-1644485400-1644512400@golfthecosta.com
SUMMARY:GTC Weekly League - Atalaya Golf Club
DESCRIPTION:Weekly League Table for February 2022 \nCategory 1          Category 2\n Winner               Winner\n Runner-Up        Runner-Up\n Third Place       Third place \nIf there is an insufficient number of players to split the categories\nthen prizes will be awarded for 1st\, 2nd and 3rd places and shown on\nthe table as follows:    Winner  Runner-Up   Third Place \n\n\n\n\nPlayer\n03-Feb\n10-Feb\n17-Feb\n24-Feb\nBest 2\nScores\n\n\n\n\nSteven Faull\n32\n34\n \n \n66\n\n\nArne Øydegard\n31\n34\n \n \n65\n\n\nPeter Hedges\n31\n32\n \n \n63\n\n\nShuj Datoo\n29\n32\n \n \n61\n\n\nPhil Loughton\n33\n26\n \n \n59\n\n\nRichard Nelms\n33\n26\n \n \n59\n\n\nPhil Cross\n21\n37\n \n \n58\n\n\nRon Brayson\n30\n26\n \n \n56\n\n\nGerry Feeney\n28\n26\n \n \n54\n\n\nMalgoisa Hedges\n18\n32\n \n \n50\n\n\nLaurie Passman\n \n40\n \n \n40\n\n\nPaul Blackburn\n39</.span>\n \n \n \n39\n\n\nAndy Eames\n \n36\n \n \n36\n\n\nNicolas Kos\n34\n \n \n \n34\n\n\nStephen Melville\n33\n \n \n \n33\n\n\nTim Ball\n \n33\n \n \n33\n\n\nGabi Heuchel\n32\n \n \n \n32\n\n\nMark Bruce\n32\n \n \n \n32\n\n\nStephen Briggs\n \n31\n \n \n31\n\n\nDavid Mellors\n \n31\n \n \n31\n\n\nDavid Hardie\n \n30\n \n \n30\n\n\nJake Olds\n29\n \n \n \n29\n\n\nIan Osborne\n \n29\n \n \n29\n\n\nChgris Gillott\n \n28\n \n \n28\n\n\nBrian Murphy\n27\n \n \n \n27\n\n\nDavid Goodwin\n27\n \n \n \n27\n\n\nBrian Woodham\n \n27\n \n \n27\n\n\nAndrew Sale\n26\n \n \n \n26\n\n\nDale Griffiths\n26\n \n \n \n26\n\n\nJohn McSweeny\n26\n \n \n \n26\n\n\nNorman Healey\n26\n \n \n \n26\n\n\nChris O’Brien\n25\n \n \n \n25\n\n\nMelvyn Senior\n \n25\n \n \n25\n\n\nJohn Gowlett\n \n25\n \n \n25\n\n\nGeert De Bruyker\n23\n \n \n \n23\n\n\nUna Keenan\n23\n \n \n \n23\n\n\nPhil Sharpes\n21\n \n \n \n21\n\n\nTony Smith\n15\n.\n \n \n15
URL:https://golfthecosta.com/event/gtc-weekly-league-atalaya-golf-club/
LOCATION:Atalaya Golf & Country Club\, Carretera de Benahavis\, Km. 0.7\, Estepona\, Málaga\, 29688\, Spain
ATTACH;FMTTYPE=image/jpeg:https://golfthecosta.com/wp-content/uploads/2021/03/GTC-Logo-white-background-2-e1620397932376.jpg
ORGANIZER;CN="Golf The Costa":MAILTO:info@www.golfthecosta.com
GEO:36.4718889;-5.0113755
X-APPLE-STRUCTURED-LOCATION;VALUE=URI;X-ADDRESS=Atalaya Golf & Country Club Carretera de Benahavis Km. 0.7 Estepona Málaga 29688 Spain;X-APPLE-RADIUS=500;X-TITLE=Carretera de Benahavis\, Km. 0.7:geo:-5.0113755,36.4718889
END:VEVENT
BEGIN:VEVENT
DTSTART;TZID=Europe/Madrid:20181129T090000
DTEND;TZID=Europe/Madrid:20181129T170000
DTSTAMP:20260420T093015
CREATED:20180121T131806Z
LAST-MODIFIED:20220909T124129Z
UID:10000052-1543482000-1543510800@golfthecosta.com
SUMMARY:Spence Clarke & Co Weekly League
DESCRIPTION:Weekly League Table for November 2018 \nCategory 1          Category 2\n Winner               Winner\n Runner-Up        Runner-Up\n Third Place       Third place \nIf there is an insufficient number of players to split the categories\nthen prizes will be awarded for 1st\, 2nd and 3rd places and shown on    the table as follows:    Winner  Runner-Up   Third Place \n    The winners of the monthly league prizes are shown as follows:\n    Mens    Ladies \n\n\n\n\nPlayer\n01-Nov\n08-Nov\n13-Nov\n22-Nov\n29-Nov\nBest 2\n\n\n\n\nSteve Pagett\n33\n35\n39\n \n26\n74\n\n\nBarry Kirk\n31\n41\n27\n \n \n72\n\n\nJens Jeske\n35\n33\n \n \n36\n71\n\n\nAndrei Smetckii\n37\n \n32\n \n33\n70\n\n\nPeter Jakobsson\n \n \n38\n \n31\n69\n\n\nShuj Datoo\n25\n40\n28\n \n26\n68\n\n\nSvetlana Kripaytite\n \n \n28\n \n39\n67\n\n\nPaul McCaughey\n29\n36\n \n \n \n65\n\n\nSteve Rodgers\n31\n \n \nC\n33\n64\n\n\nAlasdair Maclean\n29\n31\n32\nA\n \n63\n\n\nMark Bruce\n30\n32\n23\nN\n29\n62\n\n\nEamonn Devine\n32\n29\n \nC\n24\n61\n\n\nJohn Roethling\n36\n \n \nE\n25\n61\n\n\nTony Collier\n \n30\n31\nL\n \n61\n\n\nRon Brayson\n28\n29\n \nL\n31\n60\n\n\nMartin Guerin\n21\n38\n \nE\n \n59\n\n\nYury Buchnev\n \n \n33\nD\n25\n58\n\n\nVladimir Koshman\n28\n28\n \n\n \n56\n\n\nJan Olsen\n \n28\n25\nD\n27\n55\n\n\nDavid Goodwin\n24\n28\n \nU\n26\n54\n\n\nPhil Loughton\n33\n \n \nE\n21\n54\n\n\nStepjen Melville\n \n32\n \n\n19\n51\n\n\nRichard Nelms\n \n29\n \nT\n21\n50\n\n\nNorman Healey\n \n37\n \nO\n \n37\n\n\nBob Carvell\n \n36\n \n\n \n36\n\n\nDiarmuid O’Connor\n \n36\n \nR\n \n36\n\n\nRoger Jones\n \n \n \nA\n36\n36\n\n\nTony Gardner\n \n35\n \nI\n \n35\n\n\nDiego Echavarria\n \n \n \nN\n33\n33\n\n\nLaurie Passman\n \n \n \n \n33\n33\n\n\nAlan White\n \n \n32\n\n \n32\n\n\nAlex Emelichev\n \n32\n \n \n \n32\n\n\nOlga Pinchulova\n32\n \n \n\n \n32\n\n\nVladimir Borisov\n \n32\n \n \n \n32\n\n\nMonica Giddings\n \n \n \n \n31\n31\n\n\nRuss Pressney\n \n \n \n \n31\n31\n\n\nNick Painter\n30\n \n \n\n \n30\n\n\nRosane Vonkiechen\n30\n \n \n \n \n30\n\n\nAndrey Shlykov\n \n29\n \n \n \n29\n\n\nDavid Giddings\n \n \n \n \n29\n29\n\n\nMichael Hall\n \n29\n \n \n \n29\n\n\nPaul Blackburn\n29\n \n \n \n \n29\n\n\nGill Pressney\n \n \n \n \n28\n28\n\n\nGeorge Petch\n \n \n25\n \n \n25\n\n\nIrini Nikitina\n25\n \n \n \n \n25\n\n\nJohnny Martin\n \n \n24\n \n \n24\n\n\nDmitrii Provotorov\n23\n \n \n \n \n23\n\n\nWolfram Platz\n23\n \n \n \n \n23\n\n\nSergey Kuznetsov\n \n \n22\n \n \n22\n\n\nMike Gill\n21\n \n \n \n \n21\n\n\nRoy Martinez\n19\n \n \n \n \n19
URL:https://golfthecosta.com/event/spence-clarke-co-weekly-league-26/
LOCATION:Atalaya Golf & Country Club\, Carretera de Benahavis\, Km. 0.7\, Estepona\, Málaga\, 29688\, Spain
ATTACH;FMTTYPE=image/jpeg:https://golfthecosta.com/wp-content/uploads/2017/12/SpenceClarkeLogo.jpg
ORGANIZER;CN="Golf The Costa":MAILTO:info@www.golfthecosta.com
GEO:36.4718889;-5.0113755
X-APPLE-STRUCTURED-LOCATION;VALUE=URI;X-ADDRESS=Atalaya Golf & Country Club Carretera de Benahavis Km. 0.7 Estepona Málaga 29688 Spain;X-APPLE-RADIUS=500;X-TITLE=Carretera de Benahavis\, Km. 0.7:geo:-5.0113755,36.4718889
END:VEVENT
BEGIN:VEVENT
DTSTART;TZID=Europe/Madrid:20180726T090000
DTEND;TZID=Europe/Madrid:20180726T170000
DTSTAMP:20260420T093015
CREATED:20180120T132806Z
LAST-MODIFIED:20220909T130755Z
UID:10000012-1532595600-1532624400@golfthecosta.com
SUMMARY:Spence Clarke & Co Weekly League
DESCRIPTION:Weekly League Table for July 2018 \nCategory 1          Category 2\n Winner               Winner\n Runner-Up        Runner-Up\n Third Place       Third place \nIf there is an insufficient number of players to split the categories\nthen prizes will be awarded for 1st\, 2nd and 3rd places and shown on    the table as follows:    Winner  Runner-Up   Third Place \n    The winners of the monthly league prizes are shown as follows:\n    Mens    Ladies \n\n\n\n\nPlayer\n05-Jul\n12-Jul\n19-Jul\n26-Jul\nBest 2\nScores\n\n\n\n\nPhil Loughton\n36\n40\n38\n25\n78\n\n\nPeter Jakobsson\n38\n \n35\n35\n73\n\n\nPaul McCaughey\n38\n30\n31\n34\n72\n\n\nNeil McLeod\n \n35\n36\n32\n71\n\n\nEric Ingvarson\n \n34\n37\n \n71\n\n\nStuart Williams\n \n \n41\n30\n71\n\n\nRoy Dean\n35\n34\n35\n \n70\n\n\nAlasdair MacLean\n35\n32\n35\n \n70\n\n\nAndrei Smetckii\n33\n35\n28\n35\n70\n\n\nSergey Kuznetsov\n32\n37\n \n \n69\n\n\nYurii Zykov\n37\n31\n \n \n68\n\n\nBarry Kirk\n33\n35\n32\n31\n68\n\n\nCarolyn Ball\n \n33\n35\n27\n68\n\n\nSteven Faull\n \n38\n29\n27\n67\n\n\nShuj Datoo\n30\n33\n28\n34\n67\n\n\nJohn Dellow\n33\n24\n29\n34\n67\n\n\nAndy Harris\n32\n34\n31\n \n66\n\n\nHoward Collins\n \n32\n34\n \n66\n\n\nNiq Lauwaert\n \n41\n23\n16\n64\n\n\nSteve Rodgers\n28\n33\n30\n \n63\n\n\nDavid Walker\n \n \n33\n30\n63\n\n\nSvetlana Kripaytite\n35\n27\n \n \n62\n\n\nYury Buchnev\n32\n30\n \n \n62\n\n\nVladimir Koshman\n34\n22\n26\n27\n61\n\n\nMark Bruce\n \n \n31\n30\n61\n\n\nJan Olsen\n27\n29\n29\n28\n58\n\n\nCaroline Dean\n26\n29\n29\n \n58\n\n\nStephen Melville\n \n40\n \n18\n58\n\n\nRichard Nelms\n31\n25\n23\n20\n56\n\n\nNorman Healey\n \n \n27\n29\n56\n\n\nTony Collier\n \n \n29\n23\n52\n\n\nAllan Kong\n \n \n26\n23\n49\n\n\nRoy Martinez\n23\n20\n24\n \n47\n\n\nVladimir Borisov\n38\n \n \n \n38\n\n\nJohn Moran\n \n \n \n38\n38\n\n\nMiles Yeatman\n \n \n \n38\n38\n\n\nElena Mushta\n37\n \n \n \n37\n\n\nGöran Fritzell\n36\n \n \n \n36\n\n\nWill Haggon\n \n36\n \n \n36\n\n\nRichard Zuhlke\n \n \n36\n \n36\n\n\nFrank Hourican\n35\n \n \n \n35\n\n\nJohn Roethling\n \n34\n \n \n34\n\n\nReinhard Friedrich\n \n \n \n34\n34\n\n\nDimitry Mushta\n32\n \n \n \n32\n\n\nJohn Moran\n \n \n32\n \n32\n\n\nRyan Canning\n \n \n \n32\n32\n\n\nRon Brayson\n31\n \n \n \n31\n\n\nVladimir Bakuteev\n \n31\n \n \n31\n\n\nBrian Binstock\n29\n \n \n \n29\n\n\nSam Chapman\n \n \n29\n \n29\n\n\nAnn-Charlotte Frank Lindgren\n27\n \n \n \n27\n\n\nScott Graham\n \n \n27\n \n27\n\n\nPietro Hershman\n26\n \n \n \n26\n\n\nAlex Vershihin\n \n \n \n25\n25\n\n\nDamien Woods\n \n \n \n24\n24\n\n\nKyle Weston\n \n \n \n22\n22\n\n\nRoland Jackson\n \n \n \n21\n21\n\n\nBob Carvell\n20\n \n \n \n20
URL:https://golfthecosta.com/event/spence-clarke-co-weekly-league-17-2018-07-26/
LOCATION:Atalaya Golf & Country Club\, Carretera de Benahavis\, Km. 0.7\, Estepona\, Málaga\, 29688\, Spain
ATTACH;FMTTYPE=image/jpeg:https://golfthecosta.com/wp-content/uploads/2017/12/SpenceClarkeLogo.jpg
ORGANIZER;CN="Golf The Costa":MAILTO:info@www.golfthecosta.com
GEO:36.4718889;-5.0113755
X-APPLE-STRUCTURED-LOCATION;VALUE=URI;X-ADDRESS=Atalaya Golf & Country Club Carretera de Benahavis Km. 0.7 Estepona Málaga 29688 Spain;X-APPLE-RADIUS=500;X-TITLE=Carretera de Benahavis\, Km. 0.7:geo:-5.0113755,36.4718889
END:VEVENT
END:VCALENDAR