BEGIN:VCALENDAR
VERSION:2.0
PRODID:-// - ECPv6.15.20//NONSGML v1.0//EN
CALSCALE:GREGORIAN
METHOD:PUBLISH
X-ORIGINAL-URL:https://golfthecosta.com
X-WR-CALDESC:Events for 
REFRESH-INTERVAL;VALUE=DURATION:PT1H
X-Robots-Tag:noindex
X-PUBLISHED-TTL:PT1H
BEGIN:VTIMEZONE
TZID:Europe/Madrid
BEGIN:DAYLIGHT
TZOFFSETFROM:+0100
TZOFFSETTO:+0200
TZNAME:CEST
DTSTART:20250330T010000
END:DAYLIGHT
BEGIN:STANDARD
TZOFFSETFROM:+0200
TZOFFSETTO:+0100
TZNAME:CET
DTSTART:20251026T010000
END:STANDARD
BEGIN:DAYLIGHT
TZOFFSETFROM:+0100
TZOFFSETTO:+0200
TZNAME:CEST
DTSTART:20260329T010000
END:DAYLIGHT
BEGIN:STANDARD
TZOFFSETFROM:+0200
TZOFFSETTO:+0100
TZNAME:CET
DTSTART:20261025T010000
END:STANDARD
BEGIN:DAYLIGHT
TZOFFSETFROM:+0100
TZOFFSETTO:+0200
TZNAME:CEST
DTSTART:20270328T010000
END:DAYLIGHT
BEGIN:STANDARD
TZOFFSETFROM:+0200
TZOFFSETTO:+0100
TZNAME:CET
DTSTART:20271031T010000
END:STANDARD
END:VTIMEZONE
BEGIN:VEVENT
DTSTART;TZID=Europe/Madrid:20260430T140000
DTEND;TZID=Europe/Madrid:20260430T190000
DTSTAMP:20260420T075448
CREATED:20260322T085536Z
LAST-MODIFIED:20260322T085536Z
UID:10000712-1777557600-1777575600@golfthecosta.com
SUMMARY:Weekly League & Curry Bash
DESCRIPTION:PLEASE READ THE IMPORTANT INFORMATION BELOW \nCome and join us for a fun Stableford Competition at El Paraiso Golf Club. \nWe will have a late start at 2:00 because El Paraiso will be holding their Spring Week competitions on this day. We will have complimentary buggies for this event and after the golf we can go to either Mini India or Masala restaurant for a curry. \nGreen fee will be confirmed at a later date \nPlayers are divided into two categories:\nCategory 1 – Handicaps scratch to 17.4\nCategory 2 – Handicaps 17.5 and over\nThe Category handicap cut-off may be adjusted according to the number of players participating\nCash prizes for winners and runners up in each category\nWe also have a 2’s prize pot (birdie on a par 3 or eagle on a par 4) \nMonthly prizes for the best two scores in each category \nPlease note: non members are welcome to play with us but there will be a €10 supplement
URL:https://golfthecosta.com/event/weekly-league-curry-bash/
LOCATION:El Paraiso Golf Club\, Urb. El Paraiso\, Ctra de Cádiz\, km 167\,\, Estepona\, Malaga\, 29680\, Spain
ORGANIZER;CN="Golf The Costa":MAILTO:info@www.golfthecosta.com
GEO:36.476586;-5.034811
X-APPLE-STRUCTURED-LOCATION;VALUE=URI;X-ADDRESS=El Paraiso Golf Club Urb. El Paraiso Ctra de Cádiz km 167 Estepona Malaga 29680 Spain;X-APPLE-RADIUS=500;X-TITLE=Urb. El Paraiso\, Ctra de Cádiz\, km 167\,:geo:-5.034811,36.476586
END:VEVENT
BEGIN:VEVENT
DTSTART;TZID=Europe/Madrid:20260507T090000
DTEND;TZID=Europe/Madrid:20260507T170000
DTSTAMP:20260420T075449
CREATED:20260323T150923Z
LAST-MODIFIED:20260323T150933Z
UID:10000713-1778144400-1778173200@golfthecosta.com
SUMMARY:Weekly League - El Paraiso Golf Club
DESCRIPTION:Come and join us for a fun Stableford Competition at El Paraiso Golf Club \nGreen fee will be confirmed at a later date \nPlayers are divided into two categories:\nCategory 1 – Handicaps scratch to 17.4\nCategory 2 – Handicaps 17.5 and over\nThe Category handicap cut-off may be adjusted according to the number of players participating\nCash prizes for winners and runners up in each category\nWe also have a 2’s prize pot (birdie on a par 3 or eagle on a par 4) \nMonthly prizes for the best two scores in each category \nPlease note: non members are welcome to play with us but there will be a €10 supplement
URL:https://golfthecosta.com/event/weekly-league-el-paraiso-golf-club-18/
LOCATION:El Paraiso Golf Club\, Urb. El Paraiso\, Ctra de Cádiz\, km 167\,\, Estepona\, Malaga\, 29680\, Spain
ATTACH;FMTTYPE=image/jpeg:https://golfthecosta.com/wp-content/uploads/2024/10/GTC-El-Paraiso-3.jpeg
ORGANIZER;CN="Golf The Costa":MAILTO:info@www.golfthecosta.com
GEO:36.476586;-5.034811
X-APPLE-STRUCTURED-LOCATION;VALUE=URI;X-ADDRESS=El Paraiso Golf Club Urb. El Paraiso Ctra de Cádiz km 167 Estepona Malaga 29680 Spain;X-APPLE-RADIUS=500;X-TITLE=Urb. El Paraiso\, Ctra de Cádiz\, km 167\,:geo:-5.034811,36.476586
END:VEVENT
BEGIN:VEVENT
DTSTART;TZID=Europe/Madrid:20260514T090000
DTEND;TZID=Europe/Madrid:20260514T170000
DTSTAMP:20260420T075449
CREATED:20260323T150952Z
LAST-MODIFIED:20260323T151046Z
UID:10000714-1778749200-1778778000@golfthecosta.com
SUMMARY:Weekly League - El Paraiso Golf Club
DESCRIPTION:Come and join us for a fun Stableford Competition at El Paraiso Golf Club \nGreen fee will be confirmed at a later date \nPlayers are divided into two categories:\nCategory 1 – Handicaps scratch to 17.4\nCategory 2 – Handicaps 17.5 and over\nThe Category handicap cut-off may be adjusted according to the number of players participating\nCash prizes for winners and runners up in each category\nWe also have a 2’s prize pot (birdie on a par 3 or eagle on a par 4) \nMonthly prizes for the best two scores in each category \nPlease note: non members are welcome to play with us but there will be a €10 supplement
URL:https://golfthecosta.com/event/weekly-league-el-paraiso-golf-club-19/
LOCATION:El Paraiso Golf Club\, Urb. El Paraiso\, Ctra de Cádiz\, km 167\,\, Estepona\, Malaga\, 29680\, Spain
ATTACH;FMTTYPE=image/jpeg:https://golfthecosta.com/wp-content/uploads/2024/10/GTC-El-Paraiso-3.jpeg
ORGANIZER;CN="Golf The Costa":MAILTO:info@www.golfthecosta.com
GEO:36.476586;-5.034811
X-APPLE-STRUCTURED-LOCATION;VALUE=URI;X-ADDRESS=El Paraiso Golf Club Urb. El Paraiso Ctra de Cádiz km 167 Estepona Malaga 29680 Spain;X-APPLE-RADIUS=500;X-TITLE=Urb. El Paraiso\, Ctra de Cádiz\, km 167\,:geo:-5.034811,36.476586
END:VEVENT
BEGIN:VEVENT
DTSTART;TZID=Europe/Madrid:20260521T090000
DTEND;TZID=Europe/Madrid:20260521T170000
DTSTAMP:20260420T075449
CREATED:20260323T150828Z
LAST-MODIFIED:20260323T150828Z
UID:10000715-1779354000-1779382800@golfthecosta.com
SUMMARY:Weekly League - El Paraiso Golf Club
DESCRIPTION:Come and join us for a fun Stableford Competition at El Paraiso Golf Club \nGreen fee will be confirmed at a later date \nPlayers are divided into two categories:\nCategory 1 – Handicaps scratch to 17.4\nCategory 2 – Handicaps 17.5 and over\nThe Category handicap cut-off may be adjusted according to the number of players participating\nCash prizes for winners and runners up in each category\nWe also have a 2’s prize pot (birdie on a par 3 or eagle on a par 4) \nMonthly prizes for the best two scores in each category \nPlease note: non members are welcome to play with us but there will be a €10 supplement
URL:https://golfthecosta.com/event/weekly-league-el-paraiso-golf-club-17/2026-05-21/
LOCATION:El Paraiso Golf Club\, Urb. El Paraiso\, Ctra de Cádiz\, km 167\,\, Estepona\, Malaga\, 29680\, Spain
ATTACH;FMTTYPE=image/jpeg:https://golfthecosta.com/wp-content/uploads/2024/10/GTC-El-Paraiso-3.jpeg
ORGANIZER;CN="Golf The Costa":MAILTO:info@www.golfthecosta.com
GEO:36.476586;-5.034811
X-APPLE-STRUCTURED-LOCATION;VALUE=URI;X-ADDRESS=El Paraiso Golf Club Urb. El Paraiso Ctra de Cádiz km 167 Estepona Malaga 29680 Spain;X-APPLE-RADIUS=500;X-TITLE=Urb. El Paraiso\, Ctra de Cádiz\, km 167\,:geo:-5.034811,36.476586
END:VEVENT
BEGIN:VEVENT
DTSTART;TZID=Europe/Madrid:20260528T090000
DTEND;TZID=Europe/Madrid:20260528T170000
DTSTAMP:20260420T075449
CREATED:20260323T151129Z
LAST-MODIFIED:20260323T151146Z
UID:10000716-1779958800-1779987600@golfthecosta.com
SUMMARY:Weekly League - El Paraiso Golf Club
DESCRIPTION:Come and join us for a fun Stableford Competition at El Paraiso Golf Club \nGreen fee will be confirmed at a later date \nPlayers are divided into two categories:\nCategory 1 – Handicaps scratch to 17.4\nCategory 2 – Handicaps 17.5 and over\nThe Category handicap cut-off may be adjusted according to the number of players participating\nCash prizes for winners and runners up in each category\nWe also have a 2’s prize pot (birdie on a par 3 or eagle on a par 4) \nMonthly prizes for the best two scores in each category \nPlease note: non members are welcome to play with us but there will be a €10 supplement
URL:https://golfthecosta.com/event/weekly-league-el-paraiso-golf-club-20/
LOCATION:El Paraiso Golf Club\, Urb. El Paraiso\, Ctra de Cádiz\, km 167\,\, Estepona\, Malaga\, 29680\, Spain
ATTACH;FMTTYPE=image/jpeg:https://golfthecosta.com/wp-content/uploads/2024/10/GTC-El-Paraiso-3.jpeg
ORGANIZER;CN="Golf The Costa":MAILTO:info@www.golfthecosta.com
GEO:36.476586;-5.034811
X-APPLE-STRUCTURED-LOCATION;VALUE=URI;X-ADDRESS=El Paraiso Golf Club Urb. El Paraiso Ctra de Cádiz km 167 Estepona Malaga 29680 Spain;X-APPLE-RADIUS=500;X-TITLE=Urb. El Paraiso\, Ctra de Cádiz\, km 167\,:geo:-5.034811,36.476586
END:VEVENT
END:VCALENDAR