BEGIN:VCALENDAR
VERSION:2.0
PRODID:-// - ECPv6.15.20//NONSGML v1.0//EN
CALSCALE:GREGORIAN
METHOD:PUBLISH
X-ORIGINAL-URL:https://golfthecosta.com
X-WR-CALDESC:Events for 
REFRESH-INTERVAL;VALUE=DURATION:PT1H
X-Robots-Tag:noindex
X-PUBLISHED-TTL:PT1H
BEGIN:VTIMEZONE
TZID:Europe/Madrid
BEGIN:DAYLIGHT
TZOFFSETFROM:+0100
TZOFFSETTO:+0200
TZNAME:CEST
DTSTART:20220327T010000
END:DAYLIGHT
BEGIN:STANDARD
TZOFFSETFROM:+0200
TZOFFSETTO:+0100
TZNAME:CET
DTSTART:20221030T010000
END:STANDARD
BEGIN:DAYLIGHT
TZOFFSETFROM:+0100
TZOFFSETTO:+0200
TZNAME:CEST
DTSTART:20230326T010000
END:DAYLIGHT
BEGIN:STANDARD
TZOFFSETFROM:+0200
TZOFFSETTO:+0100
TZNAME:CET
DTSTART:20231029T010000
END:STANDARD
BEGIN:DAYLIGHT
TZOFFSETFROM:+0100
TZOFFSETTO:+0200
TZNAME:CEST
DTSTART:20240331T010000
END:DAYLIGHT
BEGIN:STANDARD
TZOFFSETFROM:+0200
TZOFFSETTO:+0100
TZNAME:CET
DTSTART:20241027T010000
END:STANDARD
END:VTIMEZONE
BEGIN:VEVENT
DTSTART;TZID=Europe/Madrid:20231005T090000
DTEND;TZID=Europe/Madrid:20231005T170000
DTSTAMP:20260423T163002
CREATED:20230523T142757Z
LAST-MODIFIED:20231006T084630Z
UID:10000375-1696496400-1696525200@golfthecosta.com
SUMMARY:GTC Weekly League - Estepona Golf Club
DESCRIPTION:Weekly League Table for October 2023 \nCategory 1          Category 2\n Winner               Winner\n Runner-Up        Runner-Up\n Third Place       Third place \nIf there is an insufficient number of players to split the categories\nthen prizes will be awarded for 1st\, 2nd and 3rd places and shown on\nthe table as follows:    Winner  Runner-Up   Third Place \n\n\n\n\nPlayer\n05-Oct\n12-Oct\n19-Oct\n26-Oct\nBest 2Scores\n\n\n\n\nMichael Ronayne\n40\n \n \n \n40\n\n\nJohn Gowlett\n34\n \n \n \n34\n\n\nPhil Sharpes\n34\n \n \n \n34\n\n\nBernd Denner\n33\n \n \n \n33\n\n\nGary Grant\n32\n \n \n \n33\n\n\nMark Bruce\n32\n \n \n \n32\n\n\nDenis Flynn\n32\n \n \n \n32\n\n\nDavid Cope\n31\n \n \n \n31\n\n\nRobert Gilbert\n30\n \n \n \n30\n\n\nCharles Ireland\n28\n \n \n \n28\n\n\nPhil Loughton\n28\n \n \n \n28\n\n\nPeter Rees\n25\n \n \n \n25\n\n\nAndy Newcombe\n25\n \n \n \n25\n\n\nJim O’Shea\n24\n \n \n \n24\n\n\nBrian Binstock\n24\n \n \n \n24\n\n\nPeter Blackburn\n23\n \n \n \n23\n\n\nBradley Grant\n23\n \n \n \n23\n\n\nShuj Datoo\n22\n \n \n \n22\n\n\nPaul Blackburn\n21\n \n \n \n21
URL:https://golfthecosta.com/event/gtc-weekly-league-estepona-golf-club/
LOCATION:Estepona Golf Club\, Autovía del Mediterráneo\, Km 150\, Estepona\, Malaga\, 29680\, Spain
ATTACH;FMTTYPE=image/jpeg:https://golfthecosta.com/wp-content/uploads/2021/03/GTC-Logo-white-background-2-e1620397932376.jpg
ORGANIZER;CN="Golf The Costa":MAILTO:info@www.golfthecosta.com
GEO:36.4115942;-5.210357
X-APPLE-STRUCTURED-LOCATION;VALUE=URI;X-ADDRESS=Estepona Golf Club Autovía del Mediterráneo Km 150 Estepona Malaga 29680 Spain;X-APPLE-RADIUS=500;X-TITLE=Autovía del Mediterráneo\, Km 150:geo:-5.210357,36.4115942
END:VEVENT
END:VCALENDAR