BEGIN:VCALENDAR
VERSION:2.0
PRODID:-// - ECPv6.15.20//NONSGML v1.0//EN
CALSCALE:GREGORIAN
METHOD:PUBLISH
X-ORIGINAL-URL:https://golfthecosta.com
X-WR-CALDESC:Events for 
REFRESH-INTERVAL;VALUE=DURATION:PT1H
X-Robots-Tag:noindex
X-PUBLISHED-TTL:PT1H
BEGIN:VTIMEZONE
TZID:Europe/Madrid
BEGIN:DAYLIGHT
TZOFFSETFROM:+0100
TZOFFSETTO:+0200
TZNAME:CEST
DTSTART:20230326T010000
END:DAYLIGHT
BEGIN:STANDARD
TZOFFSETFROM:+0200
TZOFFSETTO:+0100
TZNAME:CET
DTSTART:20231029T010000
END:STANDARD
BEGIN:DAYLIGHT
TZOFFSETFROM:+0100
TZOFFSETTO:+0200
TZNAME:CEST
DTSTART:20240331T010000
END:DAYLIGHT
BEGIN:STANDARD
TZOFFSETFROM:+0200
TZOFFSETTO:+0100
TZNAME:CET
DTSTART:20241027T010000
END:STANDARD
BEGIN:DAYLIGHT
TZOFFSETFROM:+0100
TZOFFSETTO:+0200
TZNAME:CEST
DTSTART:20250330T010000
END:DAYLIGHT
BEGIN:STANDARD
TZOFFSETFROM:+0200
TZOFFSETTO:+0100
TZNAME:CET
DTSTART:20251026T010000
END:STANDARD
END:VTIMEZONE
BEGIN:VEVENT
DTSTART;TZID=Europe/Madrid:20241003T093000
DTEND;TZID=Europe/Madrid:20241003T170000
DTSTAMP:20260422T104437
CREATED:20231121T074635Z
LAST-MODIFIED:20241001T104937Z
UID:10000384-1727947800-1727974800@golfthecosta.com
SUMMARY:GTC Weekly League - Tramores Golf
DESCRIPTION:CANCELLED
URL:https://golfthecosta.com/event/gtc-weekly-league-marbella-club-golf-resort/
LOCATION:Tramores Golf – Villa Padierna\, Urb Villa Padierna\, Carretera de Cadiz\, km 166\, Benahavis\, Malaga\, 29679\, Spain
ATTACH;FMTTYPE=image/jpeg:https://golfthecosta.com/wp-content/uploads/2021/03/GTC-Logo-white-background-2-e1620397932376.jpg
ORGANIZER;CN="Golf The Costa":MAILTO:info@www.golfthecosta.com
GEO:36.47609;-5.05353
X-APPLE-STRUCTURED-LOCATION;VALUE=URI;X-ADDRESS=Tramores Golf – Villa Padierna Urb Villa Padierna Carretera de Cadiz km 166 Benahavis Malaga 29679 Spain;X-APPLE-RADIUS=500;X-TITLE=Urb Villa Padierna\, Carretera de Cadiz\, km 166:geo:-5.05353,36.47609
END:VEVENT
END:VCALENDAR